Workbook

Sheet Bíráló
A1: Kérvényazonosító | B1: Kar | C1: Tagozat | D1: Határontúli (igen/nem) | E1: Távolság (km) | F1: Távolság (pontszám) | G1: Időtartam (perc) | H1: Időtartam (pont) | I1: Összesen (pont) | J1: Ponthatár | K1: Döntés | L1: Várólistán betöltött helye | M1: Helyszín (parkolás) | N1: Idősáv (parkolás)
A2: 2026/27/1/NKE/PK/125 | B2: RTK | C2: Nappali | D2: nem | E2: 311 | F2: =IF(E2>280,15,(IF(E2>260,14,IF(E2>240,13,IF(E2>220,12,IF(E2>200,11,IF(E2>180,10,IF(E2>160,9,IF(E2>140,8,IF(E2>120,7,IF(E2>100,6,IF(E2>80,5,IF(E2>60,4,IF(E2>40,3,IF(E2>20,2,IF(E2>0,1,0))))))))))))))))+IF(D2="igen",5,0) -> 15 | G2: 200 | H2: =IF(G2>225,15,(IF(G2>210,14,IF(G2>195,13,IF(G2>180,12,IF(G2>165,11,IF(G2>150,10,IF(G2>135,9,IF(G2>120,8,IF(G2>105,7,IF(G2>90,6,IF(G2>75,5,IF(G2>60,4,IF(G2>45,3,IF(G2>30,2,IF(G2>0,1,0)))))))))))))))) -> 13 | I2: =SUM(F2,H2) -> 28 | J2: 4 | K2: A fentiekre tekintettel parkolási férőhelyre jogosult | M2: =IF(K2="A fentiekre tekintettel parkolási férőhelyre jogosult",IF(C2="Nappali"," a Ludovika Huszár Lovarda melletti parkolóban",IF(AND(C2="Levelező",B2="RTK")," az Orczy Úti Kollégium",IF(C2="Levelező"," a Ludovika Huszár Lovarda melletti parkolóban",0)))," ") -> a Ludovika Huszár Lovarda melletti parkolóban | N2: =IF(K2="A fentiekre tekintettel parkolási férőhelyre jogosult",IF(C2="Nappali","minden héten hétfő reggel 6:00 órától csütörtök 22:00 óráig.",IF(AND(C2="Levelező",B2="RTK"),"az aktuális képzés időtartama alatt minden héten hétfő reggel 6:00 órától szombat 22:00 óráig.",IF(C2="Levelező","minden héten péntek reggel 6:00 órától szombat 22:00 óráig.",0)))," ") -> minden héten hétfő reggel 6:00 órától csütörtök 22:00 óráig.
A3: 2026/27/1/NKE/PK/11 | B3: RTK | C3: Nappali | D3: nem | E3: 204 | F3: =IF(E3>280,15,(IF(E3>260,14,IF(E3>240,13,IF(E3>220,12,IF(E3>200,11,IF(E3>180,10,IF(E3>160,9,IF(E3>140,8,IF(E3>120,7,IF(E3>100,6,IF(E3>80,5,IF(E3>60,4,IF(E3>40,3,IF(E3>20,2,IF(E3>0,1,0))))))))))))))))+IF(D3="igen",5,0) -> 11 | G3: 160 | H3: =IF(G3>225,15,(IF(G3>210,14,IF(G3>195,13,IF(G3>180,12,IF(G3>165,11,IF(G3>150,10,IF(G3>135,9,IF(G3>120,8,IF(G3>105,7,IF(G3>90,6,IF(G3>75,5,IF(G3>60,4,IF(G3>45,3,IF(G3>30,2,IF(G3>0,1,0)))))))))))))))) -> 10 | I3: =SUM(F3,H3) -> 21 | J3: 4 | K3: A fentiekre tekintettel parkolási férőhelyre jogosult | M3: =IF(K3="A fentiekre tekintettel parkolási férőhelyre jogosult",IF(C3="Nappali"," a Ludovika Huszár Lovarda melletti parkolóban",IF(AND(C3="Levelező",B3="RTK")," az Orczy Úti Kollégium",IF(C3="Levelező"," a Ludovika Huszár Lovarda melletti parkolóban",0)))," ") -> a Ludovika Huszár Lovarda melletti parkolóban | N3: =IF(K3="A fentiekre tekintettel parkolási férőhelyre jogosult",IF(C3="Nappali","minden héten hétfő reggel 6:00 órától csütörtök 22:00 óráig.",IF(AND(C3="Levelező",B3="RTK"),"az aktuális képzés időtartama alatt minden héten hétfő reggel 6:00 órától szombat 22:00 óráig.",IF(C3="Levelező","minden héten péntek reggel 6:00 órától szombat 22:00 óráig.",0)))," ") -> minden héten hétfő reggel 6:00 órától csütörtök 22:00 óráig.
A4: 2026/27/1/NKE/PK/5 | B4: RTK | C4: Nappali | D4: nem | E4: 196 | F4: =IF(E4>280,15,(IF(E4>260,14,IF(E4>240,13,IF(E4>220,12,IF(E4>200,11,IF(E4>180,10,IF(E4>160,9,IF(E4>140,8,IF(E4>120,7,IF(E4>100,6,IF(E4>80,5,IF(E4>60,4,IF(E4>40,3,IF(E4>20,2,IF(E4>0,1,0))))))))))))))))+IF(D4="igen",5,0) -> 10 | G4: 165 | H4: =IF(G4>225,15,(IF(G4>210,14,IF(G4>195,13,IF(G4>180,12,IF(G4>165,11,IF(G4>150,10,IF(G4>135,9,IF(G4>120,8,IF(G4>105,7,IF(G4>90,6,IF(G4>75,5,IF(G4>60,4,IF(G4>45,3,IF(G4>30,2,IF(G4>0,1,0)))))))))))))))) -> 10 | I4: =SUM(F4,H4) -> 20 | J4: 4 | K4: A fentiekre tekintettel parkolási férőhelyre jogosult | M4: =IF(K4="A fentiekre tekintettel parkolási férőhelyre jogosult",IF(C4="Nappali"," a Ludovika Huszár Lovarda melletti parkolóban",IF(AND(C4="Levelező",B4="RTK")," az Orczy Úti Kollégium",IF(C4="Levelező"," a Ludovika Huszár Lovarda melletti parkolóban",0)))," ") -> a Ludovika Huszár Lovarda melletti parkolóban | N4: =IF(K4="A fentiekre tekintettel parkolási férőhelyre jogosult",IF(C4="Nappali","minden héten hétfő reggel 6:00 órától csütörtök 22:00 óráig.",IF(AND(C4="Levelező",B4="RTK"),"az aktuális képzés időtartama alatt minden héten hétfő reggel 6:00 órától szombat 22:00 óráig.",IF(C4="Levelező","minden héten péntek reggel 6:00 órától szombat 22:00 óráig.",0)))," ") -> minden héten hétfő reggel 6:00 órától csütörtök 22:00 óráig.
A5: 2026/27/1/NKE/PK/43 | B5: RTK | C5: Nappali | D5: nem | E5: 194 | F5: =IF(E5>280,15,(IF(E5>260,14,IF(E5>240,13,IF(E5>220,12,IF(E5>200,11,IF(E5>180,10,IF(E5>160,9,IF(E5>140,8,IF(E5>120,7,IF(E5>100,6,IF(E5>80,5,IF(E5>60,4,IF(E5>40,3,IF(E5>20,2,IF(E5>0,1,0))))))))))))))))+IF(D5="igen",5,0) -> 10 | G5: 150 | H5: =IF(G5>225,15,(IF(G5>210,14,IF(G5>195,13,IF(G5>180,12,IF(G5>165,11,IF(G5>150,10,IF(G5>135,9,IF(G5>120,8,IF(G5>105,7,IF(G5>90,6,IF(G5>75,5,IF(G5>60,4,IF(G5>45,3,IF(G5>30,2,IF(G5>0,1,0)))))))))))))))) -> 9 | I5: =SUM(F5,H5) -> 19 | J5: 4 | K5: A fentiekre tekintettel parkolási férőhelyre jogosult | M5: =IF(K5="A fentiekre tekintettel parkolási férőhelyre jogosult",IF(C5="Nappali"," a Ludovika Huszár Lovarda melletti parkolóban",IF(AND(C5="Levelező",B5="RTK")," az Orczy Úti Kollégium",IF(C5="Levelező"," a Ludovika Huszár Lovarda melletti parkolóban",0)))," ") -> a Ludovika Huszár Lovarda melletti parkolóban | N5: =IF(K5="A fentiekre tekintettel parkolási férőhelyre jogosult",IF(C5="Nappali","minden héten hétfő reggel 6:00 órától csütörtök 22:00 óráig.",IF(AND(C5="Levelező",B5="RTK"),"az aktuális képzés időtartama alatt minden héten hétfő reggel 6:00 órától szombat 22:00 óráig.",IF(C5="Levelező","minden héten péntek reggel 6:00 órától szombat 22:00 óráig.",0)))," ") -> minden héten hétfő reggel 6:00 órától csütörtök 22:00 óráig.
A6: 2026/27/1/NKE/PK/115 | B6: RTK | C6: Nappali | D6: nem | E6: 167 | F6: =IF(E6>280,15,(IF(E6>260,14,IF(E6>240,13,IF(E6>220,12,IF(E6>200,11,IF(E6>180,10,IF(E6>160,9,IF(E6>140,8,IF(E6>120,7,IF(E6>100,6,IF(E6>80,5,IF(E6>60,4,IF(E6>40,3,IF(E6>20,2,IF(E6>0,1,0))))))))))))))))+IF(D6="igen",5,0) -> 9 | G6: 115 | H6: =IF(G6>225,15,(IF(G6>210,14,IF(G6>195,13,IF(G6>180,12,IF(G6>165,11,IF(G6>150,10,IF(G6>135,9,IF(G6>120,8,IF(G6>105,7,IF(G6>90,6,IF(G6>75,5,IF(G6>60,4,IF(G6>45,3,IF(G6>30,2,IF(G6>0,1,0)))))))))))))))) -> 7 | I6: =SUM(F6,H6) -> 16 | J6: 4 | K6: A fentiekre tekintettel parkolási férőhelyre jogosult | M6: =IF(K6="A fentiekre tekintettel parkolási férőhelyre jogosult",IF(C6="Nappali"," a Ludovika Huszár Lovarda melletti parkolóban",IF(AND(C6="Levelező",B6="RTK")," az Orczy Úti Kollégium",IF(C6="Levelező"," a Ludovika Huszár Lovarda melletti parkolóban",0)))," ") -> a Ludovika Huszár Lovarda melletti parkolóban | N6: =IF(K6="A fentiekre tekintettel parkolási férőhelyre jogosult",IF(C6="Nappali","minden héten hétfő reggel 6:00 órától csütörtök 22:00 óráig.",IF(AND(C6="Levelező",B6="RTK"),"az aktuális képzés időtartama alatt minden héten hétfő reggel 6:00 órától szombat 22:00 óráig.",IF(C6="Levelező","minden héten péntek reggel 6:00 órától szombat 22:00 óráig.",0)))," ") -> minden héten hétfő reggel 6:00 órától csütörtök 22:00 óráig.
A7: 2026/27/1/NKE/PK/28 | B7: RTK | C7: Nappali | D7: nem | E7: 102 | F7: =IF(E7>280,15,(IF(E7>260,14,IF(E7>240,13,IF(E7>220,12,IF(E7>200,11,IF(E7>180,10,IF(E7>160,9,IF(E7>140,8,IF(E7>120,7,IF(E7>100,6,IF(E7>80,5,IF(E7>60,4,IF(E7>40,3,IF(E7>20,2,IF(E7>0,1,0))))))))))))))))+IF(D7="igen",5,0) -> 6 | G7: 90 | H7: =IF(G7>225,15,(IF(G7>210,14,IF(G7>195,13,IF(G7>180,12,IF(G7>165,11,IF(G7>150,10,IF(G7>135,9,IF(G7>120,8,IF(G7>105,7,IF(G7>90,6,IF(G7>75,5,IF(G7>60,4,IF(G7>45,3,IF(G7>30,2,IF(G7>0,1,0)))))))))))))))) -> 5 | I7: =SUM(F7,H7) -> 11 | J7: 4 | K7: A fentiekre tekintettel parkolási férőhelyre jogosult | M7: =IF(K7="A fentiekre tekintettel parkolási férőhelyre jogosult",IF(C7="Nappali"," a Ludovika Huszár Lovarda melletti parkolóban",IF(AND(C7="Levelező",B7="RTK")," az Orczy Úti Kollégium",IF(C7="Levelező"," a Ludovika Huszár Lovarda melletti parkolóban",0)))," ") -> a Ludovika Huszár Lovarda melletti parkolóban | N7: =IF(K7="A fentiekre tekintettel parkolási férőhelyre jogosult",IF(C7="Nappali","minden héten hétfő reggel 6:00 órától csütörtök 22:00 óráig.",IF(AND(C7="Levelező",B7="RTK"),"az aktuális képzés időtartama alatt minden héten hétfő reggel 6:00 órától szombat 22:00 óráig.",IF(C7="Levelező","minden héten péntek reggel 6:00 órától szombat 22:00 óráig.",0)))," ") -> minden héten hétfő reggel 6:00 órától csütörtök 22:00 óráig.
A8: 2026/27/1/NKE/PK/7 | B8: RTK | C8: Nappali | D8: nem | E8: 68 | F8: =IF(E8>280,15,(IF(E8>260,14,IF(E8>240,13,IF(E8>220,12,IF(E8>200,11,IF(E8>180,10,IF(E8>160,9,IF(E8>140,8,IF(E8>120,7,IF(E8>100,6,IF(E8>80,5,IF(E8>60,4,IF(E8>40,3,IF(E8>20,2,IF(E8>0,1,0))))))))))))))))+IF(D8="igen",5,0) -> 4 | G8: 72.5 | H8: =IF(G8>225,15,(IF(G8>210,14,IF(G8>195,13,IF(G8>180,12,IF(G8>165,11,IF(G8>150,10,IF(G8>135,9,IF(G8>120,8,IF(G8>105,7,IF(G8>90,6,IF(G8>75,5,IF(G8>60,4,IF(G8>45,3,IF(G8>30,2,IF(G8>0,1,0)))))))))))))))) -> 4 | I8: =SUM(F8,H8) -> 8 | J8: 4 | K8: A fentiekre tekintettel parkolási férőhelyre jogosult | M8: =IF(K8="A fentiekre tekintettel parkolási férőhelyre jogosult",IF(C8="Nappali"," a Ludovika Huszár Lovarda melletti parkolóban",IF(AND(C8="Levelező",B8="RTK")," az Orczy Úti Kollégium",IF(C8="Levelező"," a Ludovika Huszár Lovarda melletti parkolóban",0)))," ") -> a Ludovika Huszár Lovarda melletti parkolóban | N8: =IF(K8="A fentiekre tekintettel parkolási férőhelyre jogosult",IF(C8="Nappali","minden héten hétfő reggel 6:00 órától csütörtök 22:00 óráig.",IF(AND(C8="Levelező",B8="RTK"),"az aktuális képzés időtartama alatt minden héten hétfő reggel 6:00 órától szombat 22:00 óráig.",IF(C8="Levelező","minden héten péntek reggel 6:00 órától szombat 22:00 óráig.",0)))," ") -> minden héten hétfő reggel 6:00 órától csütörtök 22:00 óráig.
A9: 2026/27/1/NKE/PK/80 | B9: RTK | C9: Nappali | D9: nem | E9: 44 | F9: =IF(E9>280,15,(IF(E9>260,14,IF(E9>240,13,IF(E9>220,12,IF(E9>200,11,IF(E9>180,10,IF(E9>160,9,IF(E9>140,8,IF(E9>120,7,IF(E9>100,6,IF(E9>80,5,IF(E9>60,4,IF(E9>40,3,IF(E9>20,2,IF(E9>0,1,0))))))))))))))))+IF(D9="igen",5,0) -> 3 | G9: 65 | H9: =IF(G9>225,15,(IF(G9>210,14,IF(G9>195,13,IF(G9>180,12,IF(G9>165,11,IF(G9>150,10,IF(G9>135,9,IF(G9>120,8,IF(G9>105,7,IF(G9>90,6,IF(G9>75,5,IF(G9>60,4,IF(G9>45,3,IF(G9>30,2,IF(G9>0,1,0)))))))))))))))) -> 4 | I9: =SUM(F9,H9) -> 7 | J9: 4 | K9: A fentiekre tekintettel parkolási férőhelyre jogosult | M9: =IF(K9="A fentiekre tekintettel parkolási férőhelyre jogosult",IF(C9="Nappali"," a Ludovika Huszár Lovarda melletti parkolóban",IF(AND(C9="Levelező",B9="RTK")," az Orczy Úti Kollégium",IF(C9="Levelező"," a Ludovika Huszár Lovarda melletti parkolóban",0)))," ") -> a Ludovika Huszár Lovarda melletti parkolóban | N9: =IF(K9="A fentiekre tekintettel parkolási férőhelyre jogosult",IF(C9="Nappali","minden héten hétfő reggel 6:00 órától csütörtök 22:00 óráig.",IF(AND(C9="Levelező",B9="RTK"),"az aktuális képzés időtartama alatt minden héten hétfő reggel 6:00 órától szombat 22:00 óráig.",IF(C9="Levelező","minden héten péntek reggel 6:00 órától szombat 22:00 óráig.",0)))," ") -> minden héten hétfő reggel 6:00 órától csütörtök 22:00 óráig.
A10: 2026/27/1/NKE/PK/93 | B10: RTK | C10: Nappali | D10: nem | E10: 31 | F10: =IF(E10>280,15,(IF(E10>260,14,IF(E10>240,13,IF(E10>220,12,IF(E10>200,11,IF(E10>180,10,IF(E10>160,9,IF(E10>140,8,IF(E10>120,7,IF(E10>100,6,IF(E10>80,5,IF(E10>60,4,IF(E10>40,3,IF(E10>20,2,IF(E10>0,1,0))))))))))))))))+IF(D10="igen",5,0) -> 2 | G10: 72.5 | H10: =IF(G10>225,15,(IF(G10>210,14,IF(G10>195,13,IF(G10>180,12,IF(G10>165,11,IF(G10>150,10,IF(G10>135,9,IF(G10>120,8,IF(G10>105,7,IF(G10>90,6,IF(G10>75,5,IF(G10>60,4,IF(G10>45,3,IF(G10>30,2,IF(G10>0,1,0)))))))))))))))) -> 4 | I10: =SUM(F10,H10) -> 6 | J10: 4 | K10: A fentiekre tekintettel parkolási férőhelyre jogosult | M10: =IF(K10="A fentiekre tekintettel parkolási férőhelyre jogosult",IF(C10="Nappali"," a Ludovika Huszár Lovarda melletti parkolóban",IF(AND(C10="Levelező",B10="RTK")," az Orczy Úti Kollégium",IF(C10="Levelező"," a Ludovika Huszár Lovarda melletti parkolóban",0)))," ") -> a Ludovika Huszár Lovarda melletti parkolóban | N10: =IF(K10="A fentiekre tekintettel parkolási férőhelyre jogosult",IF(C10="Nappali","minden héten hétfő reggel 6:00 órától csütörtök 22:00 óráig.",IF(AND(C10="Levelező",B10="RTK"),"az aktuális képzés időtartama alatt minden héten hétfő reggel 6:00 órától szombat 22:00 óráig.",IF(C10="Levelező","minden héten péntek reggel 6:00 órától szombat 22:00 óráig.",0)))," ") -> minden héten hétfő reggel 6:00 órától csütörtök 22:00 óráig.
A11: 2026/27/1/NKE/PK/139 | B11: RTK | C11: Nappali | D11: nem | E11: 41.8 | F11: =IF(E11>280,15,(IF(E11>260,14,IF(E11>240,13,IF(E11>220,12,IF(E11>200,11,IF(E11>180,10,IF(E11>160,9,IF(E11>140,8,IF(E11>120,7,IF(E11>100,6,IF(E11>80,5,IF(E11>60,4,IF(E11>40,3,IF(E11>20,2,IF(E11>0,1,0))))))))))))))))+IF(D11="igen",5,0) -> 3 | G11: 42.5 | H11: =IF(G11>225,15,(IF(G11>210,14,IF(G11>195,13,IF(G11>180,12,IF(G11>165,11,IF(G11>150,10,IF(G11>135,9,IF(G11>120,8,IF(G11>105,7,IF(G11>90,6,IF(G11>75,5,IF(G11>60,4,IF(G11>45,3,IF(G11>30,2,IF(G11>0,1,0)))))))))))))))) -> 2 | I11: =SUM(F11,H11) -> 5 | J11: 4 | K11: A fentiekre tekintettel parkolási férőhelyre jogosult | M11: =IF(K11="A fentiekre tekintettel parkolási férőhelyre jogosult",IF(C11="Nappali"," a Ludovika Huszár Lovarda melletti parkolóban",IF(AND(C11="Levelező",B11="RTK")," az Orczy Úti Kollégium",IF(C11="Levelező"," a Ludovika Huszár Lovarda melletti parkolóban",0)))," ") -> a Ludovika Huszár Lovarda melletti parkolóban | N11: =IF(K11="A fentiekre tekintettel parkolási férőhelyre jogosult",IF(C11="Nappali","minden héten hétfő reggel 6:00 órától csütörtök 22:00 óráig.",IF(AND(C11="Levelező",B11="RTK"),"az aktuális képzés időtartama alatt minden héten hétfő reggel 6:00 órától szombat 22:00 óráig.",IF(C11="Levelező","minden héten péntek reggel 6:00 órától szombat 22:00 óráig.",0)))," ") -> minden héten hétfő reggel 6:00 órától csütörtök 22:00 óráig.
A12: 2026/27/1/NKE/PK/35 | B12: RTK | C12: Nappali | D12: nem | E12: 26.4 | F12: =IF(E12>280,15,(IF(E12>260,14,IF(E12>240,13,IF(E12>220,12,IF(E12>200,11,IF(E12>180,10,IF(E12>160,9,IF(E12>140,8,IF(E12>120,7,IF(E12>100,6,IF(E12>80,5,IF(E12>60,4,IF(E12>40,3,IF(E12>20,2,IF(E12>0,1,0))))))))))))))))+IF(D12="igen",5,0) -> 2 | G12: 36 | H12: =IF(G12>225,15,(IF(G12>210,14,IF(G12>195,13,IF(G12>180,12,IF(G12>165,11,IF(G12>150,10,IF(G12>135,9,IF(G12>120,8,IF(G12>105,7,IF(G12>90,6,IF(G12>75,5,IF(G12>60,4,IF(G12>45,3,IF(G12>30,2,IF(G12>0,1,0)))))))))))))))) -> 2 | I12: =SUM(F12,H12) -> 4 | J12: 4 | K12: A fentiekre tekintettel parkolási férőhelyre jogosult | M12: =IF(K12="A fentiekre tekintettel parkolási férőhelyre jogosult",IF(C12="Nappali"," a Ludovika Huszár Lovarda melletti parkolóban",IF(AND(C12="Levelező",B12="RTK")," az Orczy Úti Kollégium",IF(C12="Levelező"," a Ludovika Huszár Lovarda melletti parkolóban",0)))," ") -> a Ludovika Huszár Lovarda melletti parkolóban | N12: =IF(K12="A fentiekre tekintettel parkolási férőhelyre jogosult",IF(C12="Nappali","minden héten hétfő reggel 6:00 órától csütörtök 22:00 óráig.",IF(AND(C12="Levelező",B12="RTK"),"az aktuális képzés időtartama alatt minden héten hétfő reggel 6:00 órától szombat 22:00 óráig.",IF(C12="Levelező","minden héten péntek reggel 6:00 órától szombat 22:00 óráig.",0)))," ") -> minden héten hétfő reggel 6:00 órától csütörtök 22:00 óráig.
A13: 2026/27/1/NKE/PK/134 | B13: RTK | C13: Nappali | D13: nem | E13: 8.2 | F13: =IF(E13>280,15,(IF(E13>260,14,IF(E13>240,13,IF(E13>220,12,IF(E13>200,11,IF(E13>180,10,IF(E13>160,9,IF(E13>140,8,IF(E13>120,7,IF(E13>100,6,IF(E13>80,5,IF(E13>60,4,IF(E13>40,3,IF(E13>20,2,IF(E13>0,1,0))))))))))))))))+IF(D13="igen",5,0) -> 1 | G13: 30.5 | H13: =IF(G13>225,15,(IF(G13>210,14,IF(G13>195,13,IF(G13>180,12,IF(G13>165,11,IF(G13>150,10,IF(G13>135,9,IF(G13>120,8,IF(G13>105,7,IF(G13>90,6,IF(G13>75,5,IF(G13>60,4,IF(G13>45,3,IF(G13>30,2,IF(G13>0,1,0)))))))))))))))) -> 2 | I13: =SUM(F13,H13) -> 3 | J13: 4 | K13: A fentiekre tekintettel férőhelyhiány miatt várólistára került. | M13: =IF(K13="A fentiekre tekintettel parkolási férőhelyre jogosult",IF(C13="Nappali"," a Ludovika Huszár Lovarda melletti parkolóban",IF(AND(C13="Levelező",B13="RTK")," az Orczy Úti Kollégium",IF(C13="Levelező"," a Ludovika Huszár Lovarda melletti parkolóban",0)))," ") | N13: =IF(K13="A fentiekre tekintettel parkolási férőhelyre jogosult",IF(C13="Nappali","minden héten hétfő reggel 6:00 órától csütörtök 22:00 óráig.",IF(AND(C13="Levelező",B13="RTK"),"az aktuális képzés időtartama alatt minden héten hétfő reggel 6:00 órától szombat 22:00 óráig.",IF(C13="Levelező","minden héten péntek reggel 6:00 órától szombat 22:00 óráig.",0)))," ")
A14: 2026/27/1/NKE/PK/15 | B14: RTK | C14: Nappali | D14: nem | E14: 8.1 | F14: =IF(E14>280,15,(IF(E14>260,14,IF(E14>240,13,IF(E14>220,12,IF(E14>200,11,IF(E14>180,10,IF(E14>160,9,IF(E14>140,8,IF(E14>120,7,IF(E14>100,6,IF(E14>80,5,IF(E14>60,4,IF(E14>40,3,IF(E14>20,2,IF(E14>0,1,0))))))))))))))))+IF(D14="igen",5,0) -> 1 | G14: 24.5 | H14: =IF(G14>225,15,(IF(G14>210,14,IF(G14>195,13,IF(G14>180,12,IF(G14>165,11,IF(G14>150,10,IF(G14>135,9,IF(G14>120,8,IF(G14>105,7,IF(G14>90,6,IF(G14>75,5,IF(G14>60,4,IF(G14>45,3,IF(G14>30,2,IF(G14>0,1,0)))))))))))))))) -> 1 | I14: =SUM(F14,H14) -> 2 | J14: 4 | K14: A fentiekre tekintettel férőhelyhiány miatt várólistára került. | M14: =IF(K14="A fentiekre tekintettel parkolási férőhelyre jogosult",IF(C14="Nappali"," a Ludovika Huszár Lovarda melletti parkolóban",IF(AND(C14="Levelező",B14="RTK")," az Orczy Úti Kollégium",IF(C14="Levelező"," a Ludovika Huszár Lovarda melletti parkolóban",0)))," ") | N14: =IF(K14="A fentiekre tekintettel parkolási férőhelyre jogosult",IF(C14="Nappali","minden héten hétfő reggel 6:00 órától csütörtök 22:00 óráig.",IF(AND(C14="Levelező",B14="RTK"),"az aktuális képzés időtartama alatt minden héten hétfő reggel 6:00 órától szombat 22:00 óráig.",IF(C14="Levelező","minden héten péntek reggel 6:00 órától szombat 22:00 óráig.",0)))," ")
A15: 2026/27/1/NKE/PK/89 | B15: RTK | C15: Nappali | D15: nem | E15: 0 | F15: =IF(E15>280,15,(IF(E15>260,14,IF(E15>240,13,IF(E15>220,12,IF(E15>200,11,IF(E15>180,10,IF(E15>160,9,IF(E15>140,8,IF(E15>120,7,IF(E15>100,6,IF(E15>80,5,IF(E15>60,4,IF(E15>40,3,IF(E15>20,2,IF(E15>0,1,0))))))))))))))))+IF(D15="igen",5,0) -> 0 | G15: 0 | H15: =IF(G15>225,15,(IF(G15>210,14,IF(G15>195,13,IF(G15>180,12,IF(G15>165,11,IF(G15>150,10,IF(G15>135,9,IF(G15>120,8,IF(G15>105,7,IF(G15>90,6,IF(G15>75,5,IF(G15>60,4,IF(G15>45,3,IF(G15>30,2,IF(G15>0,1,0)))))))))))))))) -> 0 | I15: =SUM(F15,H15) -> 0 | K15: A fentiekre tekintettel a kérelme elutasításra került.
A16: 2026/27/1/NKE/PK/54 | B16: RTK | C16: Nappali | D16: nem | F16: =IF(E16>280,15,(IF(E16>260,14,IF(E16>240,13,IF(E16>220,12,IF(E16>200,11,IF(E16>180,10,IF(E16>160,9,IF(E16>140,8,IF(E16>120,7,IF(E16>100,6,IF(E16>80,5,IF(E16>60,4,IF(E16>40,3,IF(E16>20,2,IF(E16>0,1,0))))))))))))))))+IF(D16="igen",5,0) -> 0 | H16: =IF(G16>225,15,(IF(G16>210,14,IF(G16>195,13,IF(G16>180,12,IF(G16>165,11,IF(G16>150,10,IF(G16>135,9,IF(G16>120,8,IF(G16>105,7,IF(G16>90,6,IF(G16>75,5,IF(G16>60,4,IF(G16>45,3,IF(G16>30,2,IF(G16>0,1,0)))))))))))))))) -> 0 | I16: =SUM(F16,H16) -> 0 | K16: A fentiekre tekintettel a kérelme elutasításra került. | M16: =IF(K16="A fentiekre tekintettel parkolási férőhelyre jogosult",IF(C16="Nappali"," a Ludovika Huszár Lovarda melletti parkolóban",IF(AND(C16="Levelező",B16="RTK")," az Orczy Úti Kollégium",IF(C16="Levelező"," a Ludovika Huszár Lovarda melletti parkolóban",0)))," ") | N16: =IF(K16="A fentiekre tekintettel parkolási férőhelyre jogosult",IF(C16="Nappali","minden héten hétfő reggel 6:00 órától csütörtök 22:00 óráig.",IF(AND(C16="Levelező",B16="RTK"),"az aktuális képzés időtartama alatt minden héten hétfő reggel 6:00 órától szombat 22:00 óráig.",IF(C16="Levelező","minden héten péntek reggel 6:00 órától szombat 22:00 óráig.",0)))," ")
A17: 2026/27/1/NKE/PK/42 | B17: RTK | C17: Levelező | D17: nem | E17: 237 | F17: =IF(E17>280,15,(IF(E17>260,14,IF(E17>240,13,IF(E17>220,12,IF(E17>200,11,IF(E17>180,10,IF(E17>160,9,IF(E17>140,8,IF(E17>120,7,IF(E17>100,6,IF(E17>80,5,IF(E17>60,4,IF(E17>40,3,IF(E17>20,2,IF(E17>0,1,0))))))))))))))))+IF(D17="igen",5,0) -> 12 | G17: 185 | H17: =IF(G17>225,15,(IF(G17>210,14,IF(G17>195,13,IF(G17>180,12,IF(G17>165,11,IF(G17>150,10,IF(G17>135,9,IF(G17>120,8,IF(G17>105,7,IF(G17>90,6,IF(G17>75,5,IF(G17>60,4,IF(G17>45,3,IF(G17>30,2,IF(G17>0,1,0)))))))))))))))) -> 12 | I17: =SUM(F17,H17) -> 24 | J17: 4 | K17: A fentiekre tekintettel parkolási férőhelyre jogosult | M17: =IF(K17="A fentiekre tekintettel parkolási férőhelyre jogosult",IF(C17="Nappali"," a Ludovika Huszár Lovarda melletti parkolóban",IF(AND(C17="Levelező",B17="RTK")," az Orczy Úti Kollégium",IF(C17="Levelező"," a Ludovika Huszár Lovarda melletti parkolóban",0)))," ") -> az Orczy Úti Kollégium | N17: =IF(K17="A fentiekre tekintettel parkolási férőhelyre jogosult",IF(C17="Nappali","minden héten hétfő reggel 6:00 órától csütörtök 22:00 óráig.",IF(AND(C17="Levelező",B17="RTK"),"az aktuális képzés időtartama alatt minden héten hétfő reggel 6:00 órától szombat 22:00 óráig.",IF(C17="Levelező","minden héten péntek reggel 6:00 órától szombat 22:00 óráig.",0)))," ") -> az aktuális képzés időtartama alatt minden héten hétfő reggel 6:00 órától szombat 22:00 óráig.
A18: 2026/27/1/NKE/PK/29 | B18: RTK | C18: Levelező | D18: nem | E18: 243 | F18: =IF(E18>280,15,(IF(E18>260,14,IF(E18>240,13,IF(E18>220,12,IF(E18>200,11,IF(E18>180,10,IF(E18>160,9,IF(E18>140,8,IF(E18>120,7,IF(E18>100,6,IF(E18>80,5,IF(E18>60,4,IF(E18>40,3,IF(E18>20,2,IF(E18>0,1,0))))))))))))))))+IF(D18="igen",5,0) -> 13 | G18: 165 | H18: =IF(G18>225,15,(IF(G18>210,14,IF(G18>195,13,IF(G18>180,12,IF(G18>165,11,IF(G18>150,10,IF(G18>135,9,IF(G18>120,8,IF(G18>105,7,IF(G18>90,6,IF(G18>75,5,IF(G18>60,4,IF(G18>45,3,IF(G18>30,2,IF(G18>0,1,0)))))))))))))))) -> 10 | I18: =SUM(F18,H18) -> 23 | J18: 4 | K18: A fentiekre tekintettel parkolási férőhelyre jogosult | M18: =IF(K18="A fentiekre tekintettel parkolási férőhelyre jogosult",IF(C18="Nappali"," a Ludovika Huszár Lovarda melletti parkolóban",IF(AND(C18="Levelező",B18="RTK")," az Orczy Úti Kollégium",IF(C18="Levelező"," a Ludovika Huszár Lovarda melletti parkolóban",0)))," ") -> az Orczy Úti Kollégium | N18: =IF(K18="A fentiekre tekintettel parkolási férőhelyre jogosult",IF(C18="Nappali","minden héten hétfő reggel 6:00 órától csütörtök 22:00 óráig.",IF(AND(C18="Levelező",B18="RTK"),"az aktuális képzés időtartama alatt minden héten hétfő reggel 6:00 órától szombat 22:00 óráig.",IF(C18="Levelező","minden héten péntek reggel 6:00 órától szombat 22:00 óráig.",0)))," ") -> az aktuális képzés időtartama alatt minden héten hétfő reggel 6:00 órától szombat 22:00 óráig.
A19: 2026/27/1/NKE/PK/116 | B19: RTK | C19: Levelező | D19: nem | E19: 230 | F19: =IF(E19>280,15,(IF(E19>260,14,IF(E19>240,13,IF(E19>220,12,IF(E19>200,11,IF(E19>180,10,IF(E19>160,9,IF(E19>140,8,IF(E19>120,7,IF(E19>100,6,IF(E19>80,5,IF(E19>60,4,IF(E19>40,3,IF(E19>20,2,IF(E19>0,1,0))))))))))))))))+IF(D19="igen",5,0) -> 12 | G19: 155 | H19: =IF(G19>225,15,(IF(G19>210,14,IF(G19>195,13,IF(G19>180,12,IF(G19>165,11,IF(G19>150,10,IF(G19>135,9,IF(G19>120,8,IF(G19>105,7,IF(G19>90,6,IF(G19>75,5,IF(G19>60,4,IF(G19>45,3,IF(G19>30,2,IF(G19>0,1,0)))))))))))))))) -> 10 | I19: =SUM(F19,H19) -> 22 | J19: 4 | K19: A fentiekre tekintettel parkolási férőhelyre jogosult | M19: =IF(K19="A fentiekre tekintettel parkolási férőhelyre jogosult",IF(C19="Nappali"," a Ludovika Huszár Lovarda melletti parkolóban",IF(AND(C19="Levelező",B19="RTK")," az Orczy Úti Kollégium",IF(C19="Levelező"," a Ludovika Huszár Lovarda melletti parkolóban",0)))," ") -> az Orczy Úti Kollégium | N19: =IF(K19="A fentiekre tekintettel parkolási férőhelyre jogosult",IF(C19="Nappali","minden héten hétfő reggel 6:00 órától csütörtök 22:00 óráig.",IF(AND(C19="Levelező",B19="RTK"),"az aktuális képzés időtartama alatt minden héten hétfő reggel 6:00 órától szombat 22:00 óráig.",IF(C19="Levelező","minden héten péntek reggel 6:00 órától szombat 22:00 óráig.",0)))," ") -> az aktuális képzés időtartama alatt minden héten hétfő reggel 6:00 órától szombat 22:00 óráig.
A20: 2026/27/1/NKE/PK/135 | B20: RTK | C20: Levelező | D20: nem | E20: 231 | F20: =IF(E20>280,15,(IF(E20>260,14,IF(E20>240,13,IF(E20>220,12,IF(E20>200,11,IF(E20>180,10,IF(E20>160,9,IF(E20>140,8,IF(E20>120,7,IF(E20>100,6,IF(E20>80,5,IF(E20>60,4,IF(E20>40,3,IF(E20>20,2,IF(E20>0,1,0))))))))))))))))+IF(D20="igen",5,0) -> 12 | G20: 165 | H20: =IF(G20>225,15,(IF(G20>210,14,IF(G20>195,13,IF(G20>180,12,IF(G20>165,11,IF(G20>150,10,IF(G20>135,9,IF(G20>120,8,IF(G20>105,7,IF(G20>90,6,IF(G20>75,5,IF(G20>60,4,IF(G20>45,3,IF(G20>30,2,IF(G20>0,1,0)))))))))))))))) -> 10 | I20: =SUM(F20,H20) -> 22 | J20: 4 | K20: A fentiekre tekintettel parkolási férőhelyre jogosult | M20: =IF(K20="A fentiekre tekintettel parkolási férőhelyre jogosult",IF(C20="Nappali"," a Ludovika Huszár Lovarda melletti parkolóban",IF(AND(C20="Levelező",B20="RTK")," az Orczy Úti Kollégium",IF(C20="Levelező"," a Ludovika Huszár Lovarda melletti parkolóban",0)))," ") -> az Orczy Úti Kollégium | N20: =IF(K20="A fentiekre tekintettel parkolási férőhelyre jogosult",IF(C20="Nappali","minden héten hétfő reggel 6:00 órától csütörtök 22:00 óráig.",IF(AND(C20="Levelező",B20="RTK"),"az aktuális képzés időtartama alatt minden héten hétfő reggel 6:00 órától szombat 22:00 óráig.",IF(C20="Levelező","minden héten péntek reggel 6:00 órától szombat 22:00 óráig.",0)))," ") -> az aktuális képzés időtartama alatt minden héten hétfő reggel 6:00 órától szombat 22:00 óráig.
A21: 2026/27/1/NKE/PK/30 | B21: RTK | C21: Levelező | D21: nem | E21: 218 | F21: =IF(E21>280,15,(IF(E21>260,14,IF(E21>240,13,IF(E21>220,12,IF(E21>200,11,IF(E21>180,10,IF(E21>160,9,IF(E21>140,8,IF(E21>120,7,IF(E21>100,6,IF(E21>80,5,IF(E21>60,4,IF(E21>40,3,IF(E21>20,2,IF(E21>0,1,0))))))))))))))))+IF(D21="igen",5,0) -> 11 | G21: 160 | H21: =IF(G21>225,15,(IF(G21>210,14,IF(G21>195,13,IF(G21>180,12,IF(G21>165,11,IF(G21>150,10,IF(G21>135,9,IF(G21>120,8,IF(G21>105,7,IF(G21>90,6,IF(G21>75,5,IF(G21>60,4,IF(G21>45,3,IF(G21>30,2,IF(G21>0,1,0)))))))))))))))) -> 10 | I21: =SUM(F21,H21) -> 21 | J21: 4 | K21: A fentiekre tekintettel parkolási férőhelyre jogosult | M21: =IF(K21="A fentiekre tekintettel parkolási férőhelyre jogosult",IF(C21="Nappali"," a Ludovika Huszár Lovarda melletti parkolóban",IF(AND(C21="Levelező",B21="RTK")," az Orczy Úti Kollégium",IF(C21="Levelező"," a Ludovika Huszár Lovarda melletti parkolóban",0)))," ") -> az Orczy Úti Kollégium | N21: =IF(K21="A fentiekre tekintettel parkolási férőhelyre jogosult",IF(C21="Nappali","minden héten hétfő reggel 6:00 órától csütörtök 22:00 óráig.",IF(AND(C21="Levelező",B21="RTK"),"az aktuális képzés időtartama alatt minden héten hétfő reggel 6:00 órától szombat 22:00 óráig.",IF(C21="Levelező","minden héten péntek reggel 6:00 órától szombat 22:00 óráig.",0)))," ") -> az aktuális képzés időtartama alatt minden héten hétfő reggel 6:00 órától szombat 22:00 óráig.
A22: 2026/27/1/NKE/PK/53 | B22: RTK | C22: Levelező | D22: nem | E22: 208 | F22: =IF(E22>280,15,(IF(E22>260,14,IF(E22>240,13,IF(E22>220,12,IF(E22>200,11,IF(E22>180,10,IF(E22>160,9,IF(E22>140,8,IF(E22>120,7,IF(E22>100,6,IF(E22>80,5,IF(E22>60,4,IF(E22>40,3,IF(E22>20,2,IF(E22>0,1,0))))))))))))))))+IF(D22="igen",5,0) -> 11 | G22: 155 | H22: =IF(G22>225,15,(IF(G22>210,14,IF(G22>195,13,IF(G22>180,12,IF(G22>165,11,IF(G22>150,10,IF(G22>135,9,IF(G22>120,8,IF(G22>105,7,IF(G22>90,6,IF(G22>75,5,IF(G22>60,4,IF(G22>45,3,IF(G22>30,2,IF(G22>0,1,0)))))))))))))))) -> 10 | I22: =SUM(F22,H22) -> 21 | J22: 4 | K22: A fentiekre tekintettel parkolási férőhelyre jogosult | M22: =IF(K22="A fentiekre tekintettel parkolási férőhelyre jogosult",IF(C22="Nappali"," a Ludovika Huszár Lovarda melletti parkolóban",IF(AND(C22="Levelező",B22="RTK")," az Orczy Úti Kollégium",IF(C22="Levelező"," a Ludovika Huszár Lovarda melletti parkolóban",0)))," ") -> az Orczy Úti Kollégium | N22: =IF(K22="A fentiekre tekintettel parkolási férőhelyre jogosult",IF(C22="Nappali","minden héten hétfő reggel 6:00 órától csütörtök 22:00 óráig.",IF(AND(C22="Levelező",B22="RTK"),"az aktuális képzés időtartama alatt minden héten hétfő reggel 6:00 órától szombat 22:00 óráig.",IF(C22="Levelező","minden héten péntek reggel 6:00 órától szombat 22:00 óráig.",0)))," ") -> az aktuális képzés időtartama alatt minden héten hétfő reggel 6:00 órától szombat 22:00 óráig.
A23: 2026/27/1/NKE/PK/69 | B23: RTK | C23: Levelező | D23: nem | E23: 209 | F23: =IF(E23>280,15,(IF(E23>260,14,IF(E23>240,13,IF(E23>220,12,IF(E23>200,11,IF(E23>180,10,IF(E23>160,9,IF(E23>140,8,IF(E23>120,7,IF(E23>100,6,IF(E23>80,5,IF(E23>60,4,IF(E23>40,3,IF(E23>20,2,IF(E23>0,1,0))))))))))))))))+IF(D23="igen",5,0) -> 11 | G23: 150 | H23: =IF(G23>225,15,(IF(G23>210,14,IF(G23>195,13,IF(G23>180,12,IF(G23>165,11,IF(G23>150,10,IF(G23>135,9,IF(G23>120,8,IF(G23>105,7,IF(G23>90,6,IF(G23>75,5,IF(G23>60,4,IF(G23>45,3,IF(G23>30,2,IF(G23>0,1,0)))))))))))))))) -> 9 | I23: =SUM(F23,H23) -> 20 | J23: 4 | K23: A fentiekre tekintettel parkolási férőhelyre jogosult | M23: =IF(K23="A fentiekre tekintettel parkolási férőhelyre jogosult",IF(C23="Nappali"," a Ludovika Huszár Lovarda melletti parkolóban",IF(AND(C23="Levelező",B23="RTK")," az Orczy Úti Kollégium",IF(C23="Levelező"," a Ludovika Huszár Lovarda melletti parkolóban",0)))," ") -> az Orczy Úti Kollégium | N23: =IF(K23="A fentiekre tekintettel parkolási férőhelyre jogosult",IF(C23="Nappali","minden héten hétfő reggel 6:00 órától csütörtök 22:00 óráig.",IF(AND(C23="Levelező",B23="RTK"),"az aktuális képzés időtartama alatt minden héten hétfő reggel 6:00 órától szombat 22:00 óráig.",IF(C23="Levelező","minden héten péntek reggel 6:00 órától szombat 22:00 óráig.",0)))," ") -> az aktuális képzés időtartama alatt minden héten hétfő reggel 6:00 órától szombat 22:00 óráig.
A24: 2026/27/1/NKE/PK/52 | B24: RTK | C24: Levelező | D24: nem | E24: 183 | F24: =IF(E24>280,15,(IF(E24>260,14,IF(E24>240,13,IF(E24>220,12,IF(E24>200,11,IF(E24>180,10,IF(E24>160,9,IF(E24>140,8,IF(E24>120,7,IF(E24>100,6,IF(E24>80,5,IF(E24>60,4,IF(E24>40,3,IF(E24>20,2,IF(E24>0,1,0))))))))))))))))+IF(D24="igen",5,0) -> 10 | G24: 145 | H24: =IF(G24>225,15,(IF(G24>210,14,IF(G24>195,13,IF(G24>180,12,IF(G24>165,11,IF(G24>150,10,IF(G24>135,9,IF(G24>120,8,IF(G24>105,7,IF(G24>90,6,IF(G24>75,5,IF(G24>60,4,IF(G24>45,3,IF(G24>30,2,IF(G24>0,1,0)))))))))))))))) -> 9 | I24: =SUM(F24,H24) -> 19 | J24: 4 | K24: A fentiekre tekintettel parkolási férőhelyre jogosult | M24: =IF(K24="A fentiekre tekintettel parkolási férőhelyre jogosult",IF(C24="Nappali"," a Ludovika Huszár Lovarda melletti parkolóban",IF(AND(C24="Levelező",B24="RTK")," az Orczy Úti Kollégium",IF(C24="Levelező"," a Ludovika Huszár Lovarda melletti parkolóban",0)))," ") -> az Orczy Úti Kollégium | N24: =IF(K24="A fentiekre tekintettel parkolási férőhelyre jogosult",IF(C24="Nappali","minden héten hétfő reggel 6:00 órától csütörtök 22:00 óráig.",IF(AND(C24="Levelező",B24="RTK"),"az aktuális képzés időtartama alatt minden héten hétfő reggel 6:00 órától szombat 22:00 óráig.",IF(C24="Levelező","minden héten péntek reggel 6:00 órától szombat 22:00 óráig.",0)))," ") -> az aktuális képzés időtartama alatt minden héten hétfő reggel 6:00 órától szombat 22:00 óráig.
A25: 2026/27/1/NKE/PK/64 | B25: RTK | C25: Levelező | D25: nem | E25: 193 | F25: =IF(E25>280,15,(IF(E25>260,14,IF(E25>240,13,IF(E25>220,12,IF(E25>200,11,IF(E25>180,10,IF(E25>160,9,IF(E25>140,8,IF(E25>120,7,IF(E25>100,6,IF(E25>80,5,IF(E25>60,4,IF(E25>40,3,IF(E25>20,2,IF(E25>0,1,0))))))))))))))))+IF(D25="igen",5,0) -> 10 | G25: 145 | H25: =IF(G25>225,15,(IF(G25>210,14,IF(G25>195,13,IF(G25>180,12,IF(G25>165,11,IF(G25>150,10,IF(G25>135,9,IF(G25>120,8,IF(G25>105,7,IF(G25>90,6,IF(G25>75,5,IF(G25>60,4,IF(G25>45,3,IF(G25>30,2,IF(G25>0,1,0)))))))))))))))) -> 9 | I25: =SUM(F25,H25) -> 19 | J25: 4 | K25: A fentiekre tekintettel parkolási férőhelyre jogosult | M25: =IF(K25="A fentiekre tekintettel parkolási férőhelyre jogosult",IF(C25="Nappali"," a Ludovika Huszár Lovarda melletti parkolóban",IF(AND(C25="Levelező",B25="RTK")," az Orczy Úti Kollégium",IF(C25="Levelező"," a Ludovika Huszár Lovarda melletti parkolóban",0)))," ") -> az Orczy Úti Kollégium | N25: =IF(K25="A fentiekre tekintettel parkolási férőhelyre jogosult",IF(C25="Nappali","minden héten hétfő reggel 6:00 órától csütörtök 22:00 óráig.",IF(AND(C25="Levelező",B25="RTK"),"az aktuális képzés időtartama alatt minden héten hétfő reggel 6:00 órától szombat 22:00 óráig.",IF(C25="Levelező","minden héten péntek reggel 6:00 órától szombat 22:00 óráig.",0)))," ") -> az aktuális képzés időtartama alatt minden héten hétfő reggel 6:00 órától szombat 22:00 óráig.
A26: 2026/27/1/NKE/PK/55 | B26: RTK | C26: Levelező | D26: nem | E26: 161.5 | F26: =IF(E26>280,15,(IF(E26>260,14,IF(E26>240,13,IF(E26>220,12,IF(E26>200,11,IF(E26>180,10,IF(E26>160,9,IF(E26>140,8,IF(E26>120,7,IF(E26>100,6,IF(E26>80,5,IF(E26>60,4,IF(E26>40,3,IF(E26>20,2,IF(E26>0,1,0))))))))))))))))+IF(D26="igen",5,0) -> 9 | G26: 155 | H26: =IF(G26>225,15,(IF(G26>210,14,IF(G26>195,13,IF(G26>180,12,IF(G26>165,11,IF(G26>150,10,IF(G26>135,9,IF(G26>120,8,IF(G26>105,7,IF(G26>90,6,IF(G26>75,5,IF(G26>60,4,IF(G26>45,3,IF(G26>30,2,IF(G26>0,1,0)))))))))))))))) -> 10 | I26: =SUM(F26,H26) -> 19 | J26: 4 | K26: A fentiekre tekintettel parkolási férőhelyre jogosult | M26: =IF(K26="A fentiekre tekintettel parkolási férőhelyre jogosult",IF(C26="Nappali"," a Ludovika Huszár Lovarda melletti parkolóban",IF(AND(C26="Levelező",B26="RTK")," az Orczy Úti Kollégium",IF(C26="Levelező"," a Ludovika Huszár Lovarda melletti parkolóban",0)))," ") -> az Orczy Úti Kollégium | N26: =IF(K26="A fentiekre tekintettel parkolási férőhelyre jogosult",IF(C26="Nappali","minden héten hétfő reggel 6:00 órától csütörtök 22:00 óráig.",IF(AND(C26="Levelező",B26="RTK"),"az aktuális képzés időtartama alatt minden héten hétfő reggel 6:00 órától szombat 22:00 óráig.",IF(C26="Levelező","minden héten péntek reggel 6:00 órától szombat 22:00 óráig.",0)))," ") -> az aktuális képzés időtartama alatt minden héten hétfő reggel 6:00 órától szombat 22:00 óráig.
A27: 2026/27/1/NKE/PK/25 | B27: RTK | C27: Levelező | D27: nem | E27: 165 | F27: =IF(E27>280,15,(IF(E27>260,14,IF(E27>240,13,IF(E27>220,12,IF(E27>200,11,IF(E27>180,10,IF(E27>160,9,IF(E27>140,8,IF(E27>120,7,IF(E27>100,6,IF(E27>80,5,IF(E27>60,4,IF(E27>40,3,IF(E27>20,2,IF(E27>0,1,0))))))))))))))))+IF(D27="igen",5,0) -> 9 | G27: 125 | H27: =IF(G27>225,15,(IF(G27>210,14,IF(G27>195,13,IF(G27>180,12,IF(G27>165,11,IF(G27>150,10,IF(G27>135,9,IF(G27>120,8,IF(G27>105,7,IF(G27>90,6,IF(G27>75,5,IF(G27>60,4,IF(G27>45,3,IF(G27>30,2,IF(G27>0,1,0)))))))))))))))) -> 8 | I27: =SUM(F27,H27) -> 17 | J27: 4 | K27: A fentiekre tekintettel parkolási férőhelyre jogosult | M27: =IF(K27="A fentiekre tekintettel parkolási férőhelyre jogosult",IF(C27="Nappali"," a Ludovika Huszár Lovarda melletti parkolóban",IF(AND(C27="Levelező",B27="RTK")," az Orczy Úti Kollégium",IF(C27="Levelező"," a Ludovika Huszár Lovarda melletti parkolóban",0)))," ") -> az Orczy Úti Kollégium | N27: =IF(K27="A fentiekre tekintettel parkolási férőhelyre jogosult",IF(C27="Nappali","minden héten hétfő reggel 6:00 órától csütörtök 22:00 óráig.",IF(AND(C27="Levelező",B27="RTK"),"az aktuális képzés időtartama alatt minden héten hétfő reggel 6:00 órától szombat 22:00 óráig.",IF(C27="Levelező","minden héten péntek reggel 6:00 órától szombat 22:00 óráig.",0)))," ") -> az aktuális képzés időtartama alatt minden héten hétfő reggel 6:00 órától szombat 22:00 óráig.
A28: 2026/27/1/NKE/PK/66 | B28: RTK | C28: Levelező | D28: nem | E28: 166 | F28: =IF(E28>280,15,(IF(E28>260,14,IF(E28>240,13,IF(E28>220,12,IF(E28>200,11,IF(E28>180,10,IF(E28>160,9,IF(E28>140,8,IF(E28>120,7,IF(E28>100,6,IF(E28>80,5,IF(E28>60,4,IF(E28>40,3,IF(E28>20,2,IF(E28>0,1,0))))))))))))))))+IF(D28="igen",5,0) -> 9 | G28: 130 | H28: =IF(G28>225,15,(IF(G28>210,14,IF(G28>195,13,IF(G28>180,12,IF(G28>165,11,IF(G28>150,10,IF(G28>135,9,IF(G28>120,8,IF(G28>105,7,IF(G28>90,6,IF(G28>75,5,IF(G28>60,4,IF(G28>45,3,IF(G28>30,2,IF(G28>0,1,0)))))))))))))))) -> 8 | I28: =SUM(F28,H28) -> 17 | J28: 4 | K28: A fentiekre tekintettel parkolási férőhelyre jogosult | M28: =IF(K28="A fentiekre tekintettel parkolási férőhelyre jogosult",IF(C28="Nappali"," a Ludovika Huszár Lovarda melletti parkolóban",IF(AND(C28="Levelező",B28="RTK")," az Orczy Úti Kollégium",IF(C28="Levelező"," a Ludovika Huszár Lovarda melletti parkolóban",0)))," ") -> az Orczy Úti Kollégium | N28: =IF(K28="A fentiekre tekintettel parkolási férőhelyre jogosult",IF(C28="Nappali","minden héten hétfő reggel 6:00 órától csütörtök 22:00 óráig.",IF(AND(C28="Levelező",B28="RTK"),"az aktuális képzés időtartama alatt minden héten hétfő reggel 6:00 órától szombat 22:00 óráig.",IF(C28="Levelező","minden héten péntek reggel 6:00 órától szombat 22:00 óráig.",0)))," ") -> az aktuális képzés időtartama alatt minden héten hétfő reggel 6:00 órától szombat 22:00 óráig.
... A43: 2026/27/1/NKE/PK/119 | B43: RTK | C43: Levelező | D43: nem | E43: 13.1 | F43: =IF(E43>280,15,(IF(E43>260,14,IF(E43>240,13,IF(E43>220,12,IF(E43>200,11,IF(E43>180,10,IF(E43>160,9,IF(E43>140,8,IF(E43>120,7,IF(E43>100,6,IF(E43>80,5,IF(E43>60,4,IF(E43>40,3,IF(E43>20,2,IF(E43>0,1,0))))))))))))))))+IF(D43="igen",5,0) -> 1 | G43: 39.5 | H43: =IF(G43>225,15,(IF(G43>210,14,IF(G43>195,13,IF(G43>180,12,IF(G43>165,11,IF(G43>150,10,IF(G43>135,9,IF(G43>120,8,IF(G43>105,7,IF(G43>90,6,IF(G43>75,5,IF(G43>60,4,IF(G43>45,3,IF(G43>30,2,IF(G43>0,1,0)))))))))))))))) -> 2 | I43: =SUM(F43,H43) -> 3 | J43: 4 | K43: A fentiekre tekintettel férőhelyhiány miatt várólistára került. | M43: =IF(K43="A fentiekre tekintettel parkolási férőhelyre jogosult",IF(C43="Nappali"," a Ludovika Huszár Lovarda melletti parkolóban",IF(AND(C43="Levelező",B43="RTK")," az Orczy Úti Kollégium",IF(C43="Levelező"," a Ludovika Huszár Lovarda melletti parkolóban",0)))," ") | N43: =IF(K43="A fentiekre tekintettel parkolási férőhelyre jogosult",IF(C43="Nappali","minden héten hétfő reggel 6:00 órától csütörtök 22:00 óráig.",IF(AND(C43="Levelező",B43="RTK"),"az aktuális képzés időtartama alatt minden héten hétfő reggel 6:00 órától szombat 22:00 óráig.",IF(C43="Levelező","minden héten péntek reggel 6:00 órától szombat 22:00 óráig.",0)))," ")
A44: 2026/27/1/NKE/PK/121 | B44: RTK | C44: Levelező | D44: nem | E44: 18.3 | F44: =IF(E44>280,15,(IF(E44>260,14,IF(E44>240,13,IF(E44>220,12,IF(E44>200,11,IF(E44>180,10,IF(E44>160,9,IF(E44>140,8,IF(E44>120,7,IF(E44>100,6,IF(E44>80,5,IF(E44>60,4,IF(E44>40,3,IF(E44>20,2,IF(E44>0,1,0))))))))))))))))+IF(D44="igen",5,0) -> 1 | G44: 32.5 | H44: =IF(G44>225,15,(IF(G44>210,14,IF(G44>195,13,IF(G44>180,12,IF(G44>165,11,IF(G44>150,10,IF(G44>135,9,IF(G44>120,8,IF(G44>105,7,IF(G44>90,6,IF(G44>75,5,IF(G44>60,4,IF(G44>45,3,IF(G44>30,2,IF(G44>0,1,0)))))))))))))))) -> 2 | I44: =SUM(F44,H44) -> 3 | J44: 4 | K44: A fentiekre tekintettel férőhelyhiány miatt várólistára került.
A45: 2026/27/1/NKE/PK/39 | B45: RTK | C45: Levelező | D45: nem | E45: 59.7 | F45: 0 | G45: 50 | H45: =IF(G45>225,15,(IF(G45>210,14,IF(G45>195,13,IF(G45>180,12,IF(G45>165,11,IF(G45>150,10,IF(G45>135,9,IF(G45>120,8,IF(G45>105,7,IF(G45>90,6,IF(G45>75,5,IF(G45>60,4,IF(G45>45,3,IF(G45>30,2,IF(G45>0,1,0)))))))))))))))) -> 3 | I45: =SUM(F45,H45) -> 3 | J45: 4 | K45: A fentiekre tekintettel férőhelyhiány miatt várólistára került.
A46: 2026/27/1/NKE/PK/56 | B46: RTK | C46: Levelező | D46: nem | E46: 8.4 | F46: =IF(E46>280,15,(IF(E46>260,14,IF(E46>240,13,IF(E46>220,12,IF(E46>200,11,IF(E46>180,10,IF(E46>160,9,IF(E46>140,8,IF(E46>120,7,IF(E46>100,6,IF(E46>80,5,IF(E46>60,4,IF(E46>40,3,IF(E46>20,2,IF(E46>0,1,0))))))))))))))))+IF(D46="igen",5,0) -> 1 | G46: 24.5 | H46: =IF(G46>225,15,(IF(G46>210,14,IF(G46>195,13,IF(G46>180,12,IF(G46>165,11,IF(G46>150,10,IF(G46>135,9,IF(G46>120,8,IF(G46>105,7,IF(G46>90,6,IF(G46>75,5,IF(G46>60,4,IF(G46>45,3,IF(G46>30,2,IF(G46>0,1,0)))))))))))))))) -> 1 | I46: =SUM(F46,H46) -> 2 | J46: 4 | K46: A fentiekre tekintettel férőhelyhiány miatt várólistára került. | M46: =IF(K46="A fentiekre tekintettel parkolási férőhelyre jogosult",IF(C46="Nappali"," a Ludovika Huszár Lovarda melletti parkolóban",IF(AND(C46="Levelező",B46="RTK")," az Orczy Úti Kollégium",IF(C46="Levelező"," a Ludovika Huszár Lovarda melletti parkolóban",0)))," ") | N46: =IF(K46="A fentiekre tekintettel parkolási férőhelyre jogosult",IF(C46="Nappali","minden héten hétfő reggel 6:00 órától csütörtök 22:00 óráig.",IF(AND(C46="Levelező",B46="RTK"),"az aktuális képzés időtartama alatt minden héten hétfő reggel 6:00 órától szombat 22:00 óráig.",IF(C46="Levelező","minden héten péntek reggel 6:00 órától szombat 22:00 óráig.",0)))," ")
A47: 2026/27/1/NKE/PK/41 | B47: RTK | C47: Levelező | D47: nem | E47: 0 | F47: =IF(E47>280,15,(IF(E47>260,14,IF(E47>240,13,IF(E47>220,12,IF(E47>200,11,IF(E47>180,10,IF(E47>160,9,IF(E47>140,8,IF(E47>120,7,IF(E47>100,6,IF(E47>80,5,IF(E47>60,4,IF(E47>40,3,IF(E47>20,2,IF(E47>0,1,0))))))))))))))))+IF(D47="igen",5,0) -> 0 | G47: 0 | H47: 0 | I47: 0 | K47: A fentiekre tekintettel a kérelme elutasításra került. | M47: =IF(K47="A fentiekre tekintettel parkolási férőhelyre jogosult",IF(C47="Nappali"," a Ludovika Huszár Lovarda melletti parkolóban",IF(AND(C47="Levelező",B47="RTK")," az Orczy Úti Kollégium",IF(C47="Levelező"," a Ludovika Huszár Lovarda melletti parkolóban",0)))," ") | N47: =IF(K47="A fentiekre tekintettel parkolási férőhelyre jogosult",IF(C47="Nappali","minden héten hétfő reggel 6:00 órától csütörtök 22:00 óráig.",IF(AND(C47="Levelező",B47="RTK"),"az aktuális képzés időtartama alatt minden héten hétfő reggel 6:00 órától szombat 22:00 óráig.",IF(C47="Levelező","minden héten péntek reggel 6:00 órától szombat 22:00 óráig.",0)))," ")
A48: 2026/27/1/NKE/PK/128 | B48: RTK | C48: Levelező | D48: nem | E48: 0 | F48: =IF(E48>280,15,(IF(E48>260,14,IF(E48>240,13,IF(E48>220,12,IF(E48>200,11,IF(E48>180,10,IF(E48>160,9,IF(E48>140,8,IF(E48>120,7,IF(E48>100,6,IF(E48>80,5,IF(E48>60,4,IF(E48>40,3,IF(E48>20,2,IF(E48>0,1,0))))))))))))))))+IF(D48="igen",5,0) -> 0 | G48: 0 | H48: =IF(G48>225,15,(IF(G48>210,14,IF(G48>195,13,IF(G48>180,12,IF(G48>165,11,IF(G48>150,10,IF(G48>135,9,IF(G48>120,8,IF(G48>105,7,IF(G48>90,6,IF(G48>75,5,IF(G48>60,4,IF(G48>45,3,IF(G48>30,2,IF(G48>0,1,0)))))))))))))))) -> 0 | I48: =SUM(F48,H48) -> 0 | K48: A fentiekre tekintettel a kérelme elutasításra került.
A49: 2026/27/1/NKE/PK/130 | B49: RTK | C49: Levelező | D49: nem | E49: 0 | F49: =IF(E49>280,15,(IF(E49>260,14,IF(E49>240,13,IF(E49>220,12,IF(E49>200,11,IF(E49>180,10,IF(E49>160,9,IF(E49>140,8,IF(E49>120,7,IF(E49>100,6,IF(E49>80,5,IF(E49>60,4,IF(E49>40,3,IF(E49>20,2,IF(E49>0,1,0))))))))))))))))+IF(D49="igen",5,0) -> 0 | G49: 0 | H49: =IF(G49>225,15,(IF(G49>210,14,IF(G49>195,13,IF(G49>180,12,IF(G49>165,11,IF(G49>150,10,IF(G49>135,9,IF(G49>120,8,IF(G49>105,7,IF(G49>90,6,IF(G49>75,5,IF(G49>60,4,IF(G49>45,3,IF(G49>30,2,IF(G49>0,1,0)))))))))))))))) -> 0 | I49: =SUM(F49,H49) -> 0 | K49: A fentiekre tekintettel a kérelme elutasításra került. | M49: =IF(K49="A fentiekre tekintettel parkolási férőhelyre jogosult",IF(C49="Nappali"," a Ludovika Huszár Lovarda melletti parkolóban",IF(AND(C49="Levelező",B49="RTK")," az Orczy Úti Kollégium",IF(C49="Levelező"," a Ludovika Huszár Lovarda melletti parkolóban",0)))," ") | N49: =IF(K49="A fentiekre tekintettel parkolási férőhelyre jogosult",IF(C49="Nappali","minden héten hétfő reggel 6:00 órától csütörtök 22:00 óráig.",IF(AND(C49="Levelező",B49="RTK"),"az aktuális képzés időtartama alatt minden héten hétfő reggel 6:00 órától szombat 22:00 óráig.",IF(C49="Levelező","minden héten péntek reggel 6:00 órától szombat 22:00 óráig.",0)))," ")
A50: 2026/27/1/NKE/PK/49 | B50: RTK | C50: Levelező | D50: nem | E50: 0 | F50: =IF(E50>280,15,(IF(E50>260,14,IF(E50>240,13,IF(E50>220,12,IF(E50>200,11,IF(E50>180,10,IF(E50>160,9,IF(E50>140,8,IF(E50>120,7,IF(E50>100,6,IF(E50>80,5,IF(E50>60,4,IF(E50>40,3,IF(E50>20,2,IF(E50>0,1,0))))))))))))))))+IF(D50="igen",5,0) -> 0 | G50: 0 | H50: =IF(G50>225,15,(IF(G50>210,14,IF(G50>195,13,IF(G50>180,12,IF(G50>165,11,IF(G50>150,10,IF(G50>135,9,IF(G50>120,8,IF(G50>105,7,IF(G50>90,6,IF(G50>75,5,IF(G50>60,4,IF(G50>45,3,IF(G50>30,2,IF(G50>0,1,0)))))))))))))))) -> 0 | I50: =SUM(F50,H50) -> 0 | K50: A fentiekre tekintettel a kérelme elutasításra került. | M50: =IF(K50="A fentiekre tekintettel parkolási férőhelyre jogosult",IF(C50="Nappali"," a Ludovika Huszár Lovarda melletti parkolóban",IF(AND(C50="Levelező",B50="RTK")," az Orczy Úti Kollégium",IF(C50="Levelező"," a Ludovika Huszár Lovarda melletti parkolóban",0)))," ") | N50: =IF(K50="A fentiekre tekintettel parkolási férőhelyre jogosult",IF(C50="Nappali","minden héten hétfő reggel 6:00 órától csütörtök 22:00 óráig.",IF(AND(C50="Levelező",B50="RTK"),"az aktuális képzés időtartama alatt minden héten hétfő reggel 6:00 órától szombat 22:00 óráig.",IF(C50="Levelező","minden héten péntek reggel 6:00 órától szombat 22:00 óráig.",0)))," ")
A51: 2026/27/1/NKE/PK/50 | B51: RTK | C51: Levelező | D51: nem | E51: 0 | F51: =IF(E51>280,15,(IF(E51>260,14,IF(E51>240,13,IF(E51>220,12,IF(E51>200,11,IF(E51>180,10,IF(E51>160,9,IF(E51>140,8,IF(E51>120,7,IF(E51>100,6,IF(E51>80,5,IF(E51>60,4,IF(E51>40,3,IF(E51>20,2,IF(E51>0,1,0))))))))))))))))+IF(D51="igen",5,0) -> 0 | G51: 0 | H51: =IF(G51>225,15,(IF(G51>210,14,IF(G51>195,13,IF(G51>180,12,IF(G51>165,11,IF(G51>150,10,IF(G51>135,9,IF(G51>120,8,IF(G51>105,7,IF(G51>90,6,IF(G51>75,5,IF(G51>60,4,IF(G51>45,3,IF(G51>30,2,IF(G51>0,1,0)))))))))))))))) -> 0 | I51: =SUM(F51,H51) -> 0 | K51: A fentiekre tekintettel a kérelme elutasításra került.
A52: 2026/27/1/NKE/PK/72 | B52: RTK | C52: Levelező | D52: nem | F52: =IF(E52>280,15,(IF(E52>260,14,IF(E52>240,13,IF(E52>220,12,IF(E52>200,11,IF(E52>180,10,IF(E52>160,9,IF(E52>140,8,IF(E52>120,7,IF(E52>100,6,IF(E52>80,5,IF(E52>60,4,IF(E52>40,3,IF(E52>20,2,IF(E52>0,1,0))))))))))))))))+IF(D52="igen",5,0) -> 0 | H52: =IF(G52>225,15,(IF(G52>210,14,IF(G52>195,13,IF(G52>180,12,IF(G52>165,11,IF(G52>150,10,IF(G52>135,9,IF(G52>120,8,IF(G52>105,7,IF(G52>90,6,IF(G52>75,5,IF(G52>60,4,IF(G52>45,3,IF(G52>30,2,IF(G52>0,1,0)))))))))))))))) -> 0 | I52: =SUM(F52,H52) -> 0 | K52: A fentiekre tekintettel a kérelme elutasításra került.
A53: 2026/27/1/NKE/PK/81 | B53: RTK | C53: Levelező | D53: nem | E53: 0 | F53: =IF(E53>280,15,(IF(E53>260,14,IF(E53>240,13,IF(E53>220,12,IF(E53>200,11,IF(E53>180,10,IF(E53>160,9,IF(E53>140,8,IF(E53>120,7,IF(E53>100,6,IF(E53>80,5,IF(E53>60,4,IF(E53>40,3,IF(E53>20,2,IF(E53>0,1,0))))))))))))))))+IF(D53="igen",5,0) -> 0 | G53: 0 | H53: =IF(G53>225,15,(IF(G53>210,14,IF(G53>195,13,IF(G53>180,12,IF(G53>165,11,IF(G53>150,10,IF(G53>135,9,IF(G53>120,8,IF(G53>105,7,IF(G53>90,6,IF(G53>75,5,IF(G53>60,4,IF(G53>45,3,IF(G53>30,2,IF(G53>0,1,0)))))))))))))))) -> 0 | I53: =SUM(F53,H53) -> 0 | K53: A fentiekre tekintettel a kérelme elutasításra került. | M53: =IF(K53="A fentiekre tekintettel parkolási férőhelyre jogosult",IF(C53="Nappali"," a Ludovika Huszár Lovarda melletti parkolóban",IF(AND(C53="Levelező",B53="RTK")," az Orczy Úti Kollégium",IF(C53="Levelező"," a Ludovika Huszár Lovarda melletti parkolóban",0)))," ") | N53: =IF(K53="A fentiekre tekintettel parkolási férőhelyre jogosult",IF(C53="Nappali","minden héten hétfő reggel 6:00 órától csütörtök 22:00 óráig.",IF(AND(C53="Levelező",B53="RTK"),"az aktuális képzés időtartama alatt minden héten hétfő reggel 6:00 órától szombat 22:00 óráig.",IF(C53="Levelező","minden héten péntek reggel 6:00 órától szombat 22:00 óráig.",0)))," ")
A54: 2026/27/1/NKE/PK/86 | B54: RTK | C54: Levelező | D54: nem | F54: =IF(E54>280,15,(IF(E54>260,14,IF(E54>240,13,IF(E54>220,12,IF(E54>200,11,IF(E54>180,10,IF(E54>160,9,IF(E54>140,8,IF(E54>120,7,IF(E54>100,6,IF(E54>80,5,IF(E54>60,4,IF(E54>40,3,IF(E54>20,2,IF(E54>0,1,0))))))))))))))))+IF(D54="igen",5,0) -> 0 | H54: =IF(G54>225,15,(IF(G54>210,14,IF(G54>195,13,IF(G54>180,12,IF(G54>165,11,IF(G54>150,10,IF(G54>135,9,IF(G54>120,8,IF(G54>105,7,IF(G54>90,6,IF(G54>75,5,IF(G54>60,4,IF(G54>45,3,IF(G54>30,2,IF(G54>0,1,0)))))))))))))))) -> 0 | I54: =SUM(F54,H54) -> 0 | K54: A fentiekre tekintettel a kérelme elutasításra került.
...

Sheet Döntés
A1: Hallgató Neptun kódja | B1: Kérvénytemplate azonosító | C1: Hallgató kérvény azonosító | D1: Döntés dátuma | E1: Döntés indok | F1: Döntő Neptun kódja
A2: =Bíráló!#REF! -> #REF! | B2: =Bíráló!A2 -> 2026/27/1/NKE/PK/125 | C2: =Bíráló!A2 -> 2026/27/1/NKE/PK/125 | D2: 46293 | E2: =IF(Bíráló!$K$2="A fentiekre tekintettel férőhelyhiány miatt várólistára került.",CONCATENATE(Bíráló!$E$1,Bíráló!F2," pont ] ",CHAR(10),Bíráló!$G$1,Bíráló!H2," pont ]",CHAR(10),Bíráló!$I$1,Bíráló!I2," pont ]",CHAR(10),Bíráló!$J$1,Bíráló!J2," pont ]",CHAR(10),Bíráló!$K$1,Bíráló!K2," ",Bíráló!N2,CHAR(10),Bíráló!$L$1,Bíráló!L2),IF(Bíráló!K2="A fentiekre tekintettel kérelme elutasításra került.",CONCATENATE("A hallgató a Pályázati felhívásban szereplő kötelezően megadandó adatokat nem, vagy hiányosan töltötte fel.",CHAR(10),CHAR(10),Bíráló!$K$1,Bíráló!K2),CONCATENATE(Bíráló!$E$1,Bíráló!F2," pont ] ",CHAR(10),Bíráló!$G$1,Bíráló!H2," pont ]",CHAR(10),Bíráló!$I$1,Bíráló!I2," pont ]",CHAR(10),Bíráló!$J$1,Bíráló!J2," pont ]",CHAR(10),Bíráló!$K$1,Bíráló!K2,Bíráló!L2,Bíráló!M2," ",Bíráló!N2))) -> Távolság (km)15 pont ] Időtartam (perc)13 pont ] Összesen (pont)28 pont ] Ponthatár4 pont ] DöntésA fentiekre tekintettel parkolási férőhelyre jogosult a Ludovika Huszár Lovarda melletti parkolóban minden héten hétfő reggel 6:00 órától csütörtök 22:00 óráig. | F2: OVLCV7
A3: =Bíráló!#REF! -> #REF! | B3: =Bíráló!A3 -> 2026/27/1/NKE/PK/11 | C3: =Bíráló!A3 -> 2026/27/1/NKE/PK/11 | D3: 46293 | E3: =IF(Bíráló!$K$2="A fentiekre tekintettel férőhelyhiány miatt várólistára került.",CONCATENATE(Bíráló!$E$1,Bíráló!F3," pont ] ",CHAR(10),Bíráló!$G$1,Bíráló!H3," pont ]",CHAR(10),Bíráló!$I$1,Bíráló!I3," pont ]",CHAR(10),Bíráló!$J$1,Bíráló!J3," pont ]",CHAR(10),Bíráló!$K$1,Bíráló!K3," ",Bíráló!N3,CHAR(10),Bíráló!$L$1,Bíráló!L3),IF(Bíráló!K3="A fentiekre tekintettel kérelme elutasításra került.",CONCATENATE("A hallgató a Pályázati felhívásban szereplő kötelezően megadandó adatokat nem, vagy hiányosan töltötte fel.",CHAR(10),CHAR(10),Bíráló!$K$1,Bíráló!K3),CONCATENATE(Bíráló!$E$1,Bíráló!F3," pont ] ",CHAR(10),Bíráló!$G$1,Bíráló!H3," pont ]",CHAR(10),Bíráló!$I$1,Bíráló!I3," pont ]",CHAR(10),Bíráló!$J$1,Bíráló!J3," pont ]",CHAR(10),Bíráló!$K$1,Bíráló!K3,Bíráló!L3,Bíráló!M3," ",Bíráló!N3))) -> Távolság (km)11 pont ] Időtartam (perc)10 pont ] Összesen (pont)21 pont ] Ponthatár4 pont ] DöntésA fentiekre tekintettel parkolási férőhelyre jogosult a Ludovika Huszár Lovarda melletti parkolóban minden héten hétfő reggel 6:00 órától csütörtök 22:00 óráig. | F3: OVLCV7
A4: =Bíráló!#REF! -> #REF! | B4: =Bíráló!A4 -> 2026/27/1/NKE/PK/5 | C4: =Bíráló!A4 -> 2026/27/1/NKE/PK/5 | D4: 46293 | E4: =IF(Bíráló!$K$2="A fentiekre tekintettel férőhelyhiány miatt várólistára került.",CONCATENATE(Bíráló!$E$1,Bíráló!F4," pont ] ",CHAR(10),Bíráló!$G$1,Bíráló!H4," pont ]",CHAR(10),Bíráló!$I$1,Bíráló!I4," pont ]",CHAR(10),Bíráló!$J$1,Bíráló!J4," pont ]",CHAR(10),Bíráló!$K$1,Bíráló!K4," ",Bíráló!N4,CHAR(10),Bíráló!$L$1,Bíráló!L4),IF(Bíráló!K4="A fentiekre tekintettel kérelme elutasításra került.",CONCATENATE("A hallgató a Pályázati felhívásban szereplő kötelezően megadandó adatokat nem, vagy hiányosan töltötte fel.",CHAR(10),CHAR(10),Bíráló!$K$1,Bíráló!K4),CONCATENATE(Bíráló!$E$1,Bíráló!F4," pont ] ",CHAR(10),Bíráló!$G$1,Bíráló!H4," pont ]",CHAR(10),Bíráló!$I$1,Bíráló!I4," pont ]",CHAR(10),Bíráló!$J$1,Bíráló!J4," pont ]",CHAR(10),Bíráló!$K$1,Bíráló!K4,Bíráló!L4,Bíráló!M4," ",Bíráló!N4))) -> Távolság (km)10 pont ] Időtartam (perc)10 pont ] Összesen (pont)20 pont ] Ponthatár4 pont ] DöntésA fentiekre tekintettel parkolási férőhelyre jogosult a Ludovika Huszár Lovarda melletti parkolóban minden héten hétfő reggel 6:00 órától csütörtök 22:00 óráig. | F4: OVLCV7
A5: =Bíráló!#REF! -> #REF! | B5: =Bíráló!A5 -> 2026/27/1/NKE/PK/43 | C5: =Bíráló!A5 -> 2026/27/1/NKE/PK/43 | D5: 46293 | E5: =IF(Bíráló!$K$2="A fentiekre tekintettel férőhelyhiány miatt várólistára került.",CONCATENATE(Bíráló!$E$1,Bíráló!F5," pont ] ",CHAR(10),Bíráló!$G$1,Bíráló!H5," pont ]",CHAR(10),Bíráló!$I$1,Bíráló!I5," pont ]",CHAR(10),Bíráló!$J$1,Bíráló!J5," pont ]",CHAR(10),Bíráló!$K$1,Bíráló!K5," ",Bíráló!N5,CHAR(10),Bíráló!$L$1,Bíráló!L5),IF(Bíráló!K5="A fentiekre tekintettel kérelme elutasításra került.",CONCATENATE("A hallgató a Pályázati felhívásban szereplő kötelezően megadandó adatokat nem, vagy hiányosan töltötte fel.",CHAR(10),CHAR(10),Bíráló!$K$1,Bíráló!K5),CONCATENATE(Bíráló!$E$1,Bíráló!F5," pont ] ",CHAR(10),Bíráló!$G$1,Bíráló!H5," pont ]",CHAR(10),Bíráló!$I$1,Bíráló!I5," pont ]",CHAR(10),Bíráló!$J$1,Bíráló!J5," pont ]",CHAR(10),Bíráló!$K$1,Bíráló!K5,Bíráló!L5,Bíráló!M5," ",Bíráló!N5))) -> Távolság (km)10 pont ] Időtartam (perc)9 pont ] Összesen (pont)19 pont ] Ponthatár4 pont ] DöntésA fentiekre tekintettel parkolási férőhelyre jogosult a Ludovika Huszár Lovarda melletti parkolóban minden héten hétfő reggel 6:00 órától csütörtök 22:00 óráig. | F5: OVLCV7
A6: =Bíráló!#REF! -> #REF! | B6: =Bíráló!A6 -> 2026/27/1/NKE/PK/115 | C6: =Bíráló!A6 -> 2026/27/1/NKE/PK/115 | D6: 46293 | E6: =IF(Bíráló!$K$2="A fentiekre tekintettel férőhelyhiány miatt várólistára került.",CONCATENATE(Bíráló!$E$1,Bíráló!F6," pont ] ",CHAR(10),Bíráló!$G$1,Bíráló!H6," pont ]",CHAR(10),Bíráló!$I$1,Bíráló!I6," pont ]",CHAR(10),Bíráló!$J$1,Bíráló!J6," pont ]",CHAR(10),Bíráló!$K$1,Bíráló!K6," ",Bíráló!N6,CHAR(10),Bíráló!$L$1,Bíráló!L6),IF(Bíráló!K6="A fentiekre tekintettel kérelme elutasításra került.",CONCATENATE("A hallgató a Pályázati felhívásban szereplő kötelezően megadandó adatokat nem, vagy hiányosan töltötte fel.",CHAR(10),CHAR(10),Bíráló!$K$1,Bíráló!K6),CONCATENATE(Bíráló!$E$1,Bíráló!F6," pont ] ",CHAR(10),Bíráló!$G$1,Bíráló!H6," pont ]",CHAR(10),Bíráló!$I$1,Bíráló!I6," pont ]",CHAR(10),Bíráló!$J$1,Bíráló!J6," pont ]",CHAR(10),Bíráló!$K$1,Bíráló!K6,Bíráló!L6,Bíráló!M6," ",Bíráló!N6))) -> Távolság (km)9 pont ] Időtartam (perc)7 pont ] Összesen (pont)16 pont ] Ponthatár4 pont ] DöntésA fentiekre tekintettel parkolási férőhelyre jogosult a Ludovika Huszár Lovarda melletti parkolóban minden héten hétfő reggel 6:00 órától csütörtök 22:00 óráig. | F6: OVLCV7
A7: =Bíráló!#REF! -> #REF! | B7: =Bíráló!A7 -> 2026/27/1/NKE/PK/28 | C7: =Bíráló!A7 -> 2026/27/1/NKE/PK/28 | D7: 46293 | E7: =IF(Bíráló!$K$2="A fentiekre tekintettel férőhelyhiány miatt várólistára került.",CONCATENATE(Bíráló!$E$1,Bíráló!F7," pont ] ",CHAR(10),Bíráló!$G$1,Bíráló!H7," pont ]",CHAR(10),Bíráló!$I$1,Bíráló!I7," pont ]",CHAR(10),Bíráló!$J$1,Bíráló!J7," pont ]",CHAR(10),Bíráló!$K$1,Bíráló!K7," ",Bíráló!N7,CHAR(10),Bíráló!$L$1,Bíráló!L7),IF(Bíráló!K7="A fentiekre tekintettel kérelme elutasításra került.",CONCATENATE("A hallgató a Pályázati felhívásban szereplő kötelezően megadandó adatokat nem, vagy hiányosan töltötte fel.",CHAR(10),CHAR(10),Bíráló!$K$1,Bíráló!K7),CONCATENATE(Bíráló!$E$1,Bíráló!F7," pont ] ",CHAR(10),Bíráló!$G$1,Bíráló!H7," pont ]",CHAR(10),Bíráló!$I$1,Bíráló!I7," pont ]",CHAR(10),Bíráló!$J$1,Bíráló!J7," pont ]",CHAR(10),Bíráló!$K$1,Bíráló!K7,Bíráló!L7,Bíráló!M7," ",Bíráló!N7))) -> Távolság (km)6 pont ] Időtartam (perc)5 pont ] Összesen (pont)11 pont ] Ponthatár4 pont ] DöntésA fentiekre tekintettel parkolási férőhelyre jogosult a Ludovika Huszár Lovarda melletti parkolóban minden héten hétfő reggel 6:00 órától csütörtök 22:00 óráig. | F7: OVLCV7
A8: =Bíráló!#REF! -> #REF! | B8: =Bíráló!A8 -> 2026/27/1/NKE/PK/7 | C8: =Bíráló!A8 -> 2026/27/1/NKE/PK/7 | D8: 46293 | E8: =IF(Bíráló!$K$2="A fentiekre tekintettel férőhelyhiány miatt várólistára került.",CONCATENATE(Bíráló!$E$1,Bíráló!F8," pont ] ",CHAR(10),Bíráló!$G$1,Bíráló!H8," pont ]",CHAR(10),Bíráló!$I$1,Bíráló!I8," pont ]",CHAR(10),Bíráló!$J$1,Bíráló!J8," pont ]",CHAR(10),Bíráló!$K$1,Bíráló!K8," ",Bíráló!N8,CHAR(10),Bíráló!$L$1,Bíráló!L8),IF(Bíráló!K8="A fentiekre tekintettel kérelme elutasításra került.",CONCATENATE("A hallgató a Pályázati felhívásban szereplő kötelezően megadandó adatokat nem, vagy hiányosan töltötte fel.",CHAR(10),CHAR(10),Bíráló!$K$1,Bíráló!K8),CONCATENATE(Bíráló!$E$1,Bíráló!F8," pont ] ",CHAR(10),Bíráló!$G$1,Bíráló!H8," pont ]",CHAR(10),Bíráló!$I$1,Bíráló!I8," pont ]",CHAR(10),Bíráló!$J$1,Bíráló!J8," pont ]",CHAR(10),Bíráló!$K$1,Bíráló!K8,Bíráló!L8,Bíráló!M8," ",Bíráló!N8))) -> Távolság (km)4 pont ] Időtartam (perc)4 pont ] Összesen (pont)8 pont ] Ponthatár4 pont ] DöntésA fentiekre tekintettel parkolási férőhelyre jogosult a Ludovika Huszár Lovarda melletti parkolóban minden héten hétfő reggel 6:00 órától csütörtök 22:00 óráig. | F8: OVLCV7
A9: =Bíráló!#REF! -> #REF! | B9: =Bíráló!A9 -> 2026/27/1/NKE/PK/80 | C9: =Bíráló!A9 -> 2026/27/1/NKE/PK/80 | D9: 46293 | E9: =IF(Bíráló!$K$2="A fentiekre tekintettel férőhelyhiány miatt várólistára került.",CONCATENATE(Bíráló!$E$1,Bíráló!F9," pont ] ",CHAR(10),Bíráló!$G$1,Bíráló!H9," pont ]",CHAR(10),Bíráló!$I$1,Bíráló!I9," pont ]",CHAR(10),Bíráló!$J$1,Bíráló!J9," pont ]",CHAR(10),Bíráló!$K$1,Bíráló!K9," ",Bíráló!N9,CHAR(10),Bíráló!$L$1,Bíráló!L9),IF(Bíráló!K9="A fentiekre tekintettel kérelme elutasításra került.",CONCATENATE("A hallgató a Pályázati felhívásban szereplő kötelezően megadandó adatokat nem, vagy hiányosan töltötte fel.",CHAR(10),CHAR(10),Bíráló!$K$1,Bíráló!K9),CONCATENATE(Bíráló!$E$1,Bíráló!F9," pont ] ",CHAR(10),Bíráló!$G$1,Bíráló!H9," pont ]",CHAR(10),Bíráló!$I$1,Bíráló!I9," pont ]",CHAR(10),Bíráló!$J$1,Bíráló!J9," pont ]",CHAR(10),Bíráló!$K$1,Bíráló!K9,Bíráló!L9,Bíráló!M9," ",Bíráló!N9))) -> Távolság (km)3 pont ] Időtartam (perc)4 pont ] Összesen (pont)7 pont ] Ponthatár4 pont ] DöntésA fentiekre tekintettel parkolási férőhelyre jogosult a Ludovika Huszár Lovarda melletti parkolóban minden héten hétfő reggel 6:00 órától csütörtök 22:00 óráig. | F9: OVLCV7
A10: =Bíráló!#REF! -> #REF! | B10: =Bíráló!A10 -> 2026/27/1/NKE/PK/93 | C10: =Bíráló!A10 -> 2026/27/1/NKE/PK/93 | D10: 46293 | E10: =IF(Bíráló!$K$2="A fentiekre tekintettel férőhelyhiány miatt várólistára került.",CONCATENATE(Bíráló!$E$1,Bíráló!F10," pont ] ",CHAR(10),Bíráló!$G$1,Bíráló!H10," pont ]",CHAR(10),Bíráló!$I$1,Bíráló!I10," pont ]",CHAR(10),Bíráló!$J$1,Bíráló!J10," pont ]",CHAR(10),Bíráló!$K$1,Bíráló!K10," ",Bíráló!N10,CHAR(10),Bíráló!$L$1,Bíráló!L10),IF(Bíráló!K10="A fentiekre tekintettel kérelme elutasításra került.",CONCATENATE("A hallgató a Pályázati felhívásban szereplő kötelezően megadandó adatokat nem, vagy hiányosan töltötte fel.",CHAR(10),CHAR(10),Bíráló!$K$1,Bíráló!K10),CONCATENATE(Bíráló!$E$1,Bíráló!F10," pont ] ",CHAR(10),Bíráló!$G$1,Bíráló!H10," pont ]",CHAR(10),Bíráló!$I$1,Bíráló!I10," pont ]",CHAR(10),Bíráló!$J$1,Bíráló!J10," pont ]",CHAR(10),Bíráló!$K$1,Bíráló!K10,Bíráló!L10,Bíráló!M10," ",Bíráló!N10))) -> Távolság (km)2 pont ] Időtartam (perc)4 pont ] Összesen (pont)6 pont ] Ponthatár4 pont ] DöntésA fentiekre tekintettel parkolási férőhelyre jogosult a Ludovika Huszár Lovarda melletti parkolóban minden héten hétfő reggel 6:00 órától csütörtök 22:00 óráig. | F10: OVLCV7
