Workbook

Sheet Bíráló
A1: Kérvényazonosító | B1: Kar | C1: Tagozat | D1: Határontúli (igen/nem) | E1: Távolság (km) | F1: Távolság (pontszám) | G1: Időtartam (perc) | H1: Időtartam (pont) | I1: Összesen (pont) | J1: Ponthatár | K1: Döntés | L1: Várólistán betöltött helye | M1: Helyszín (parkolás) | N1: Idősáv (parkolás)
A2: 2026/27/1/NKE/PK/125 | B2: RTK | C2: Nappali | D2: nem | E2: 311 | F2: =IF(E2>280,15,(IF(E2>260,14,IF(E2>240,13,IF(E2>220,12,IF(E2>200,11,IF(E2>180,10,IF(E2>160,9,IF(E2>140,8,IF(E2>120,7,IF(E2>100,6,IF(E2>80,5,IF(E2>60,4,IF(E2>40,3,IF(E2>20,2,IF(E2>0,1,0))))))))))))))))+IF(D2="igen",5,0) -> 15 | G2: 200 | H2: =IF(G2>225,15,(IF(G2>210,14,IF(G2>195,13,IF(G2>180,12,IF(G2>165,11,IF(G2>150,10,IF(G2>135,9,IF(G2>120,8,IF(G2>105,7,IF(G2>90,6,IF(G2>75,5,IF(G2>60,4,IF(G2>45,3,IF(G2>30,2,IF(G2>0,1,0)))))))))))))))) -> 13 | I2: =SUM(F2,H2) -> 28 | J2: 4 | K2: A fentiekre tekintettel parkolási férőhelyre jogosult | M2: =IF(K2="A fentiekre tekintettel parkolási férőhelyre jogosult",IF(C2="Nappali"," a Ludovika Huszár Lovarda melletti parkolóban",IF(AND(C2="Levelező",B2="RTK")," az Orczy Úti Kollégium",IF(C2="Levelező"," a Ludovika Huszár Lovarda melletti parkolóban",0)))," ") -> a Ludovika Huszár Lovarda melletti parkolóban | N2: =IF(K2="A fentiekre tekintettel parkolási férőhelyre jogosult",IF(C2="Nappali","minden héten hétfő reggel 6:00 órától csütörtök 22:00 óráig.",IF(AND(C2="Levelező",B2="RTK"),"az aktuális képzés időtartama alatt minden héten hétfő reggel 6:00 órától szombat 22:00 óráig.",IF(C2="Levelező","minden héten péntek reggel 6:00 órától szombat 22:00 óráig.",0)))," ") -> minden héten hétfő reggel 6:00 órától csütörtök 22:00 óráig.
A3: 2026/27/1/NKE/PK/11 | B3: RTK | C3: Nappali | D3: nem | E3: 204 | F3: =IF(E3>280,15,(IF(E3>260,14,IF(E3>240,13,IF(E3>220,12,IF(E3>200,11,IF(E3>180,10,IF(E3>160,9,IF(E3>140,8,IF(E3>120,7,IF(E3>100,6,IF(E3>80,5,IF(E3>60,4,IF(E3>40,3,IF(E3>20,2,IF(E3>0,1,0))))))))))))))))+IF(D3="igen",5,0) -> 11 | G3: 160 | H3: =IF(G3>225,15,(IF(G3>210,14,IF(G3>195,13,IF(G3>180,12,IF(G3>165,11,IF(G3>150,10,IF(G3>135,9,IF(G3>120,8,IF(G3>105,7,IF(G3>90,6,IF(G3>75,5,IF(G3>60,4,IF(G3>45,3,IF(G3>30,2,IF(G3>0,1,0)))))))))))))))) -> 10 | I3: =SUM(F3,H3) -> 21 | J3: 4 | K3: A fentiekre tekintettel parkolási férőhelyre jogosult | M3: =IF(K3="A fentiekre tekintettel parkolási férőhelyre jogosult",IF(C3="Nappali"," a Ludovika Huszár Lovarda melletti parkolóban",IF(AND(C3="Levelező",B3="RTK")," az Orczy Úti Kollégium",IF(C3="Levelező"," a Ludovika Huszár Lovarda melletti parkolóban",0)))," ") -> a Ludovika Huszár Lovarda melletti parkolóban | N3: =IF(K3="A fentiekre tekintettel parkolási férőhelyre jogosult",IF(C3="Nappali","minden héten hétfő reggel 6:00 órától csütörtök 22:00 óráig.",IF(AND(C3="Levelező",B3="RTK"),"az aktuális képzés időtartama alatt minden héten hétfő reggel 6:00 órától szombat 22:00 óráig.",IF(C3="Levelező","minden héten péntek reggel 6:00 órától szombat 22:00 óráig.",0)))," ") -> minden héten hétfő reggel 6:00 órától csütörtök 22:00 óráig.
A4: 2026/27/1/NKE/PK/5 | B4: RTK | C4: Nappali | D4: nem | E4: 196 | F4: =IF(E4>280,15,(IF(E4>260,14,IF(E4>240,13,IF(E4>220,12,IF(E4>200,11,IF(E4>180,10,IF(E4>160,9,IF(E4>140,8,IF(E4>120,7,IF(E4>100,6,IF(E4>80,5,IF(E4>60,4,IF(E4>40,3,IF(E4>20,2,IF(E4>0,1,0))))))))))))))))+IF(D4="igen",5,0) -> 10 | G4: 165 | H4: =IF(G4>225,15,(IF(G4>210,14,IF(G4>195,13,IF(G4>180,12,IF(G4>165,11,IF(G4>150,10,IF(G4>135,9,IF(G4>120,8,IF(G4>105,7,IF(G4>90,6,IF(G4>75,5,IF(G4>60,4,IF(G4>45,3,IF(G4>30,2,IF(G4>0,1,0)))))))))))))))) -> 10 | I4: =SUM(F4,H4) -> 20 | J4: 4 | K4: A fentiekre tekintettel parkolási férőhelyre jogosult | M4: =IF(K4="A fentiekre tekintettel parkolási férőhelyre jogosult",IF(C4="Nappali"," a Ludovika Huszár Lovarda melletti parkolóban",IF(AND(C4="Levelező",B4="RTK")," az Orczy Úti Kollégium",IF(C4="Levelező"," a Ludovika Huszár Lovarda melletti parkolóban",0)))," ") -> a Ludovika Huszár Lovarda melletti parkolóban | N4: =IF(K4="A fentiekre tekintettel parkolási férőhelyre jogosult",IF(C4="Nappali","minden héten hétfő reggel 6:00 órától csütörtök 22:00 óráig.",IF(AND(C4="Levelező",B4="RTK"),"az aktuális képzés időtartama alatt minden héten hétfő reggel 6:00 órától szombat 22:00 óráig.",IF(C4="Levelező","minden héten péntek reggel 6:00 órától szombat 22:00 óráig.",0)))," ") -> minden héten hétfő reggel 6:00 órától csütörtök 22:00 óráig.
A5: 2026/27/1/NKE/PK/43 | B5: RTK | C5: Nappali | D5: nem | E5: 194 | F5: =IF(E5>280,15,(IF(E5>260,14,IF(E5>240,13,IF(E5>220,12,IF(E5>200,11,IF(E5>180,10,IF(E5>160,9,IF(E5>140,8,IF(E5>120,7,IF(E5>100,6,IF(E5>80,5,IF(E5>60,4,IF(E5>40,3,IF(E5>20,2,IF(E5>0,1,0))))))))))))))))+IF(D5="igen",5,0) -> 10 | G5: 150 | H5: =IF(G5>225,15,(IF(G5>210,14,IF(G5>195,13,IF(G5>180,12,IF(G5>165,11,IF(G5>150,10,IF(G5>135,9,IF(G5>120,8,IF(G5>105,7,IF(G5>90,6,IF(G5>75,5,IF(G5>60,4,IF(G5>45,3,IF(G5>30,2,IF(G5>0,1,0)))))))))))))))) -> 9 | I5: =SUM(F5,H5) -> 19 | J5: 4 | K5: A fentiekre tekintettel parkolási férőhelyre jogosult | M5: =IF(K5="A fentiekre tekintettel parkolási férőhelyre jogosult",IF(C5="Nappali"," a Ludovika Huszár Lovarda melletti parkolóban",IF(AND(C5="Levelező",B5="RTK")," az Orczy Úti Kollégium",IF(C5="Levelező"," a Ludovika Huszár Lovarda melletti parkolóban",0)))," ") -> a Ludovika Huszár Lovarda melletti parkolóban | N5: =IF(K5="A fentiekre tekintettel parkolási férőhelyre jogosult",IF(C5="Nappali","minden héten hétfő reggel 6:00 órától csütörtök 22:00 óráig.",IF(AND(C5="Levelező",B5="RTK"),"az aktuális képzés időtartama alatt minden héten hétfő reggel 6:00 órától szombat 22:00 óráig.",IF(C5="Levelező","minden héten péntek reggel 6:00 órától szombat 22:00 óráig.",0)))," ") -> minden héten hétfő reggel 6:00 órától csütörtök 22:00 óráig.
A6: 2026/27/1/NKE/PK/115 | B6: RTK | C6: Nappali | D6: nem | E6: 167 | F6: =IF(E6>280,15,(IF(E6>260,14,IF(E6>240,13,IF(E6>220,12,IF(E6>200,11,IF(E6>180,10,IF(E6>160,9,IF(E6>140,8,IF(E6>120,7,IF(E6>100,6,IF(E6>80,5,IF(E6>60,4,IF(E6>40,3,IF(E6>20,2,IF(E6>0,1,0))))))))))))))))+IF(D6="igen",5,0) -> 9 | G6: 115 | H6: =IF(G6>225,15,(IF(G6>210,14,IF(G6>195,13,IF(G6>180,12,IF(G6>165,11,IF(G6>150,10,IF(G6>135,9,IF(G6>120,8,IF(G6>105,7,IF(G6>90,6,IF(G6>75,5,IF(G6>60,4,IF(G6>45,3,IF(G6>30,2,IF(G6>0,1,0)))))))))))))))) -> 7 | I6: =SUM(F6,H6) -> 16 | J6: 4 | K6: A fentiekre tekintettel parkolási férőhelyre jogosult | M6: =IF(K6="A fentiekre tekintettel parkolási férőhelyre jogosult",IF(C6="Nappali"," a Ludovika Huszár Lovarda melletti parkolóban",IF(AND(C6="Levelező",B6="RTK")," az Orczy Úti Kollégium",IF(C6="Levelező"," a Ludovika Huszár Lovarda melletti parkolóban",0)))," ") -> a Ludovika Huszár Lovarda melletti parkolóban | N6: =IF(K6="A fentiekre tekintettel parkolási férőhelyre jogosult",IF(C6="Nappali","minden héten hétfő reggel 6:00 órától csütörtök 22:00 óráig.",IF(AND(C6="Levelező",B6="RTK"),"az aktuális képzés időtartama alatt minden héten hétfő reggel 6:00 órától szombat 22:00 óráig.",IF(C6="Levelező","minden héten péntek reggel 6:00 órától szombat 22:00 óráig.",0)))," ") -> minden héten hétfő reggel 6:00 órától csütörtök 22:00 óráig.
A7: 2026/27/1/NKE/PK/28 | B7: RTK | C7: Nappali | D7: nem | E7: 102 | F7: =IF(E7>280,15,(IF(E7>260,14,IF(E7>240,13,IF(E7>220,12,IF(E7>200,11,IF(E7>180,10,IF(E7>160,9,IF(E7>140,8,IF(E7>120,7,IF(E7>100,6,IF(E7>80,5,IF(E7>60,4,IF(E7>40,3,IF(E7>20,2,IF(E7>0,1,0))))))))))))))))+IF(D7="igen",5,0) -> 6 | G7: 90 | H7: =IF(G7>225,15,(IF(G7>210,14,IF(G7>195,13,IF(G7>180,12,IF(G7>165,11,IF(G7>150,10,IF(G7>135,9,IF(G7>120,8,IF(G7>105,7,IF(G7>90,6,IF(G7>75,5,IF(G7>60,4,IF(G7>45,3,IF(G7>30,2,IF(G7>0,1,0)))))))))))))))) -> 5 | I7: =SUM(F7,H7) -> 11 | J7: 4 | K7: A fentiekre tekintettel parkolási férőhelyre jogosult | M7: =IF(K7="A fentiekre tekintettel parkolási férőhelyre jogosult",IF(C7="Nappali"," a Ludovika Huszár Lovarda melletti parkolóban",IF(AND(C7="Levelező",B7="RTK")," az Orczy Úti Kollégium",IF(C7="Levelező"," a Ludovika Huszár Lovarda melletti parkolóban",0)))," ") -> a Ludovika Huszár Lovarda melletti parkolóban | N7: =IF(K7="A fentiekre tekintettel parkolási férőhelyre jogosult",IF(C7="Nappali","minden héten hétfő reggel 6:00 órától csütörtök 22:00 óráig.",IF(AND(C7="Levelező",B7="RTK"),"az aktuális képzés időtartama alatt minden héten hétfő reggel 6:00 órától szombat 22:00 óráig.",IF(C7="Levelező","minden héten péntek reggel 6:00 órától szombat 22:00 óráig.",0)))," ") -> minden héten hétfő reggel 6:00 órától csütörtök 22:00 óráig.
A8: 2026/27/1/NKE/PK/7 | B8: RTK | C8: Nappali | D8: nem | E8: 68 | F8: =IF(E8>280,15,(IF(E8>260,14,IF(E8>240,13,IF(E8>220,12,IF(E8>200,11,IF(E8>180,10,IF(E8>160,9,IF(E8>140,8,IF(E8>120,7,IF(E8>100,6,IF(E8>80,5,IF(E8>60,4,IF(E8>40,3,IF(E8>20,2,IF(E8>0,1,0))))))))))))))))+IF(D8="igen",5,0) -> 4 | G8: 72.5 | H8: =IF(G8>225,15,(IF(G8>210,14,IF(G8>195,13,IF(G8>180,12,IF(G8>165,11,IF(G8>150,10,IF(G8>135,9,IF(G8>120,8,IF(G8>105,7,IF(G8>90,6,IF(G8>75,5,IF(G8>60,4,IF(G8>45,3,IF(G8>30,2,IF(G8>0,1,0)))))))))))))))) -> 4 | I8: =SUM(F8,H8) -> 8 | J8: 4 | K8: A fentiekre tekintettel parkolási férőhelyre jogosult | M8: =IF(K8="A fentiekre tekintettel parkolási férőhelyre jogosult",IF(C8="Nappali"," a Ludovika Huszár Lovarda melletti parkolóban",IF(AND(C8="Levelező",B8="RTK")," az Orczy Úti Kollégium",IF(C8="Levelező"," a Ludovika Huszár Lovarda melletti parkolóban",0)))," ") -> a Ludovika Huszár Lovarda melletti parkolóban | N8: =IF(K8="A fentiekre tekintettel parkolási férőhelyre jogosult",IF(C8="Nappali","minden héten hétfő reggel 6:00 órától csütörtök 22:00 óráig.",IF(AND(C8="Levelező",B8="RTK"),"az aktuális képzés időtartama alatt minden héten hétfő reggel 6:00 órától szombat 22:00 óráig.",IF(C8="Levelező","minden héten péntek reggel 6:00 órától szombat 22:00 óráig.",0)))," ") -> minden héten hétfő reggel 6:00 órától csütörtök 22:00 óráig.
A9: 2026/27/1/NKE/PK/80 | B9: RTK | C9: Nappali | D9: nem | E9: 44 | F9: =IF(E9>280,15,(IF(E9>260,14,IF(E9>240,13,IF(E9>220,12,IF(E9>200,11,IF(E9>180,10,IF(E9>160,9,IF(E9>140,8,IF(E9>120,7,IF(E9>100,6,IF(E9>80,5,IF(E9>60,4,IF(E9>40,3,IF(E9>20,2,IF(E9>0,1,0))))))))))))))))+IF(D9="igen",5,0) -> 3 | G9: 65 | H9: =IF(G9>225,15,(IF(G9>210,14,IF(G9>195,13,IF(G9>180,12,IF(G9>165,11,IF(G9>150,10,IF(G9>135,9,IF(G9>120,8,IF(G9>105,7,IF(G9>90,6,IF(G9>75,5,IF(G9>60,4,IF(G9>45,3,IF(G9>30,2,IF(G9>0,1,0)))))))))))))))) -> 4 | I9: =SUM(F9,H9) -> 7 | J9: 4 | K9: A fentiekre tekintettel parkolási férőhelyre jogosult | M9: =IF(K9="A fentiekre tekintettel parkolási férőhelyre jogosult",IF(C9="Nappali"," a Ludovika Huszár Lovarda melletti parkolóban",IF(AND(C9="Levelező",B9="RTK")," az Orczy Úti Kollégium",IF(C9="Levelező"," a Ludovika Huszár Lovarda melletti parkolóban",0)))," ") -> a Ludovika Huszár Lovarda melletti parkolóban | N9: =IF(K9="A fentiekre tekintettel parkolási férőhelyre jogosult",IF(C9="Nappali","minden héten hétfő reggel 6:00 órától csütörtök 22:00 óráig.",IF(AND(C9="Levelező",B9="RTK"),"az aktuális képzés időtartama alatt minden héten hétfő reggel 6:00 órától szombat 22:00 óráig.",IF(C9="Levelező","minden héten péntek reggel 6:00 órától szombat 22:00 óráig.",0)))," ") -> minden héten hétfő reggel 6:00 órától csütörtök 22:00 óráig.
A10: 2026/27/1/NKE/PK/93 | B10: RTK | C10: Nappali | D10: nem | E10: 31 | F10: =IF(E10>280,15,(IF(E10>260,14,IF(E10>240,13,IF(E10>220,12,IF(E10>200,11,IF(E10>180,10,IF(E10>160,9,IF(E10>140,8,IF(E10>120,7,IF(E10>100,6,IF(E10>80,5,IF(E10>60,4,IF(E10>40,3,IF(E10>20,2,IF(E10>0,1,0))))))))))))))))+IF(D10="igen",5,0) -> 2 | G10: 72.5 | H10: =IF(G10>225,15,(IF(G10>210,14,IF(G10>195,13,IF(G10>180,12,IF(G10>165,11,IF(G10>150,10,IF(G10>135,9,IF(G10>120,8,IF(G10>105,7,IF(G10>90,6,IF(G10>75,5,IF(G10>60,4,IF(G10>45,3,IF(G10>30,2,IF(G10>0,1,0)))))))))))))))) -> 4 | I10: =SUM(F10,H10) -> 6 | J10: 4 | K10: A fentiekre tekintettel parkolási férőhelyre jogosult | M10: =IF(K10="A fentiekre tekintettel parkolási férőhelyre jogosult",IF(C10="Nappali"," a Ludovika Huszár Lovarda melletti parkolóban",IF(AND(C10="Levelező",B10="RTK")," az Orczy Úti Kollégium",IF(C10="Levelező"," a Ludovika Huszár Lovarda melletti parkolóban",0)))," ") -> a Ludovika Huszár Lovarda melletti parkolóban | N10: =IF(K10="A fentiekre tekintettel parkolási férőhelyre jogosult",IF(C10="Nappali","minden héten hétfő reggel 6:00 órától csütörtök 22:00 óráig.",IF(AND(C10="Levelező",B10="RTK"),"az aktuális képzés időtartama alatt minden héten hétfő reggel 6:00 órától szombat 22:00 óráig.",IF(C10="Levelező","minden héten péntek reggel 6:00 órától szombat 22:00 óráig.",0)))," ") -> minden héten hétfő reggel 6:00 órától csütörtök 22:00 óráig.
A11: 2026/27/1/NKE/PK/139 | B11: RTK | C11: Nappali | D11: nem | E11: 41.8 | F11: =IF(E11>280,15,(IF(E11>260,14,IF(E11>240,13,IF(E11>220,12,IF(E11>200,11,IF(E11>180,10,IF(E11>160,9,IF(E11>140,8,IF(E11>120,7,IF(E11>100,6,IF(E11>80,5,IF(E11>60,4,IF(E11>40,3,IF(E11>20,2,IF(E11>0,1,0))))))))))))))))+IF(D11="igen",5,0) -> 3 | G11: 42.5 | H11: =IF(G11>225,15,(IF(G11>210,14,IF(G11>195,13,IF(G11>180,12,IF(G11>165,11,IF(G11>150,10,IF(G11>135,9,IF(G11>120,8,IF(G11>105,7,IF(G11>90,6,IF(G11>75,5,IF(G11>60,4,IF(G11>45,3,IF(G11>30,2,IF(G11>0,1,0)))))))))))))))) -> 2 | I11: =SUM(F11,H11) -> 5 | J11: 4 | K11: A fentiekre tekintettel parkolási férőhelyre jogosult | M11: =IF(K11="A fentiekre tekintettel parkolási férőhelyre jogosult",IF(C11="Nappali"," a Ludovika Huszár Lovarda melletti parkolóban",IF(AND(C11="Levelező",B11="RTK")," az Orczy Úti Kollégium",IF(C11="Levelező"," a Ludovika Huszár Lovarda melletti parkolóban",0)))," ") -> a Ludovika Huszár Lovarda melletti parkolóban | N11: =IF(K11="A fentiekre tekintettel parkolási férőhelyre jogosult",IF(C11="Nappali","minden héten hétfő reggel 6:00 órától csütörtök 22:00 óráig.",IF(AND(C11="Levelező",B11="RTK"),"az aktuális képzés időtartama alatt minden héten hétfő reggel 6:00 órától szombat 22:00 óráig.",IF(C11="Levelező","minden héten péntek reggel 6:00 órától szombat 22:00 óráig.",0)))," ") -> minden héten hétfő reggel 6:00 órától csütörtök 22:00 óráig.
A12: 2026/27/1/NKE/PK/35 | B12: RTK | C12: Nappali | D12: nem | E12: 26.4 | F12: =IF(E12>280,15,(IF(E12>260,14,IF(E12>240,13,IF(E12>220,12,IF(E12>200,11,IF(E12>180,10,IF(E12>160,9,IF(E12>140,8,IF(E12>120,7,IF(E12>100,6,IF(E12>80,5,IF(E12>60,4,IF(E12>40,3,IF(E12>20,2,IF(E12>0,1,0))))))))))))))))+IF(D12="igen",5,0) -> 2 | G12: 36 | H12: =IF(G12>225,15,(IF(G12>210,14,IF(G12>195,13,IF(G12>180,12,IF(G12>165,11,IF(G12>150,10,IF(G12>135,9,IF(G12>120,8,IF(G12>105,7,IF(G12>90,6,IF(G12>75,5,IF(G12>60,4,IF(G12>45,3,IF(G12>30,2,IF(G12>0,1,0)))))))))))))))) -> 2 | I12: =SUM(F12,H12) -> 4 | J12: 4 | K12: A fentiekre tekintettel parkolási férőhelyre jogosult | M12: =IF(K12="A fentiekre tekintettel parkolási férőhelyre jogosult",IF(C12="Nappali"," a Ludovika Huszár Lovarda melletti parkolóban",IF(AND(C12="Levelező",B12="RTK")," az Orczy Úti Kollégium",IF(C12="Levelező"," a Ludovika Huszár Lovarda melletti parkolóban",0)))," ") -> a Ludovika Huszár Lovarda melletti parkolóban | N12: =IF(K12="A fentiekre tekintettel parkolási férőhelyre jogosult",IF(C12="Nappali","minden héten hétfő reggel 6:00 órától csütörtök 22:00 óráig.",IF(AND(C12="Levelező",B12="RTK"),"az aktuális képzés időtartama alatt minden héten hétfő reggel 6:00 órától szombat 22:00 óráig.",IF(C12="Levelező","minden héten péntek reggel 6:00 órától szombat 22:00 óráig.",0)))," ") -> minden héten hétfő reggel 6:00 órától csütörtök 22:00 óráig.
A13: 2026/27/1/NKE/PK/134 | B13: RTK | C13: Nappali | D13: nem | E13: 8.2 | F13: =IF(E13>280,15,(IF(E13>260,14,IF(E13>240,13,IF(E13>220,12,IF(E13>200,11,IF(E13>180,10,IF(E13>160,9,IF(E13>140,8,IF(E13>120,7,IF(E13>100,6,IF(E13>80,5,IF(E13>60,4,IF(E13>40,3,IF(E13>20,2,IF(E13>0,1,0))))))))))))))))+IF(D13="igen",5,0) -> 1 | G13: 30.5 | H13: =IF(G13>225,15,(IF(G13>210,14,IF(G13>195,13,IF(G13>180,12,IF(G13>165,11,IF(G13>150,10,IF(G13>135,9,IF(G13>120,8,IF(G13>105,7,IF(G13>90,6,IF(G13>75,5,IF(G13>60,4,IF(G13>45,3,IF(G13>30,2,IF(G13>0,1,0)))))))))))))))) -> 2 | I13: =SUM(F13,H13) -> 3 | J13: 4 | K13: A fentiekre tekintettel férőhelyhiány miatt várólistára került. | M13: =IF(K13="A fentiekre tekintettel parkolási férőhelyre jogosult",IF(C13="Nappali"," a Ludovika Huszár Lovarda melletti parkolóban",IF(AND(C13="Levelező",B13="RTK")," az Orczy Úti Kollégium",IF(C13="Levelező"," a Ludovika Huszár Lovarda melletti parkolóban",0)))," ") | N13: =IF(K13="A fentiekre tekintettel parkolási férőhelyre jogosult",IF(C13="Nappali","minden héten hétfő reggel 6:00 órától csütörtök 22:00 óráig.",IF(AND(C13="Levelező",B13="RTK"),"az aktuális képzés időtartama alatt minden héten hétfő reggel 6:00 órától szombat 22:00 óráig.",IF(C13="Levelező","minden héten péntek reggel 6:00 órától szombat 22:00 óráig.",0)))," ")
A14: 2026/27/1/NKE/PK/15 | B14: RTK | C14: Nappali | D14: nem | E14: 8.1 | F14: =IF(E14>280,15,(IF(E14>260,14,IF(E14>240,13,IF(E14>220,12,IF(E14>200,11,IF(E14>180,10,IF(E14>160,9,IF(E14>140,8,IF(E14>120,7,IF(E14>100,6,IF(E14>80,5,IF(E14>60,4,IF(E14>40,3,IF(E14>20,2,IF(E14>0,1,0))))))))))))))))+IF(D14="igen",5,0) -> 1 | G14: 24.5 | H14: =IF(G14>225,15,(IF(G14>210,14,IF(G14>195,13,IF(G14>180,12,IF(G14>165,11,IF(G14>150,10,IF(G14>135,9,IF(G14>120,8,IF(G14>105,7,IF(G14>90,6,IF(G14>75,5,IF(G14>60,4,IF(G14>45,3,IF(G14>30,2,IF(G14>0,1,0)))))))))))))))) -> 1 | I14: =SUM(F14,H14) -> 2 | J14: 4 | K14: A fentiekre tekintettel férőhelyhiány miatt várólistára került. | M14: =IF(K14="A fentiekre tekintettel parkolási férőhelyre jogosult",IF(C14="Nappali"," a Ludovika Huszár Lovarda melletti parkolóban",IF(AND(C14="Levelező",B14="RTK")," az Orczy Úti Kollégium",IF(C14="Levelező"," a Ludovika Huszár Lovarda melletti parkolóban",0)))," ") | N14: =IF(K14="A fentiekre tekintettel parkolási férőhelyre jogosult",IF(C14="Nappali","minden héten hétfő reggel 6:00 órától csütörtök 22:00 óráig.",IF(AND(C14="Levelező",B14="RTK"),"az aktuális képzés időtartama alatt minden héten hétfő reggel 6:00 órától szombat 22:00 óráig.",IF(C14="Levelező","minden héten péntek reggel 6:00 órától szombat 22:00 óráig.",0)))," ")
A15: 2026/27/1/NKE/PK/89 | B15: RTK | C15: Nappali | D15: nem | E15: 0 | F15: =IF(E15>280,15,(IF(E15>260,14,IF(E15>240,13,IF(E15>220,12,IF(E15>200,11,IF(E15>180,10,IF(E15>160,9,IF(E15>140,8,IF(E15>120,7,IF(E15>100,6,IF(E15>80,5,IF(E15>60,4,IF(E15>40,3,IF(E15>20,2,IF(E15>0,1,0))))))))))))))))+IF(D15="igen",5,0) -> 0 | G15: 0 | H15: =IF(G15>225,15,(IF(G15>210,14,IF(G15>195,13,IF(G15>180,12,IF(G15>165,11,IF(G15>150,10,IF(G15>135,9,IF(G15>120,8,IF(G15>105,7,IF(G15>90,6,IF(G15>75,5,IF(G15>60,4,IF(G15>45,3,IF(G15>30,2,IF(G15>0,1,0)))))))))))))))) -> 0 | I15: =SUM(F15,H15) -> 0 | K15: A fentiekre tekintettel a kérelme elutasításra került.
A16: 2026/27/1/NKE/PK/54 | B16: RTK | C16: Nappali | D16: nem | F16: =IF(E16>280,15,(IF(E16>260,14,IF(E16>240,13,IF(E16>220,12,IF(E16>200,11,IF(E16>180,10,IF(E16>160,9,IF(E16>140,8,IF(E16>120,7,IF(E16>100,6,IF(E16>80,5,IF(E16>60,4,IF(E16>40,3,IF(E16>20,2,IF(E16>0,1,0))))))))))))))))+IF(D16="igen",5,0) -> 0 | H16: =IF(G16>225,15,(IF(G16>210,14,IF(G16>195,13,IF(G16>180,12,IF(G16>165,11,IF(G16>150,10,IF(G16>135,9,IF(G16>120,8,IF(G16>105,7,IF(G16>90,6,IF(G16>75,5,IF(G16>60,4,IF(G16>45,3,IF(G16>30,2,IF(G16>0,1,0)))))))))))))))) -> 0 | I16: =SUM(F16,H16) -> 0 | K16: A fentiekre tekintettel a kérelme elutasításra került. | M16: =IF(K16="A fentiekre tekintettel parkolási férőhelyre jogosult",IF(C16="Nappali"," a Ludovika Huszár Lovarda melletti parkolóban",IF(AND(C16="Levelező",B16="RTK")," az Orczy Úti Kollégium",IF(C16="Levelező"," a Ludovika Huszár Lovarda melletti parkolóban",0)))," ") | N16: =IF(K16="A fentiekre tekintettel parkolási férőhelyre jogosult",IF(C16="Nappali","minden héten hétfő reggel 6:00 órától csütörtök 22:00 óráig.",IF(AND(C16="Levelező",B16="RTK"),"az aktuális képzés időtartama alatt minden héten hétfő reggel 6:00 órától szombat 22:00 óráig.",IF(C16="Levelező","minden héten péntek reggel 6:00 órától szombat 22:00 óráig.",0)))," ")
A17: 2026/27/1/NKE/PK/42 | B17: RTK | C17: Levelező | D17: nem | E17: 237 | F17: =IF(E17>280,15,(IF(E17>260,14,IF(E17>240,13,IF(E17>220,12,IF(E17>200,11,IF(E17>180,10,IF(E17>160,9,IF(E17>140,8,IF(E17>120,7,IF(E17>100,6,IF(E17>80,5,IF(E17>60,4,IF(E17>40,3,IF(E17>20,2,IF(E17>0,1,0))))))))))))))))+IF(D17="igen",5,0) -> 12 | G17: 185 | H17: =IF(G17>225,15,(IF(G17>210,14,IF(G17>195,13,IF(G17>180,12,IF(G17>165,11,IF(G17>150,10,IF(G17>135,9,IF(G17>120,8,IF(G17>105,7,IF(G17>90,6,IF(G17>75,5,IF(G17>60,4,IF(G17>45,3,IF(G17>30,2,IF(G17>0,1,0)))))))))))))))) -> 12 | I17: =SUM(F17,H17) -> 24 | J17: 4 | K17: A fentiekre tekintettel parkolási férőhelyre jogosult | M17: =IF(K17="A fentiekre tekintettel parkolási férőhelyre jogosult",IF(C17="Nappali"," a Ludovika Huszár Lovarda melletti parkolóban",IF(AND(C17="Levelező",B17="RTK")," az Orczy Úti Kollégium",IF(C17="Levelező"," a Ludovika Huszár Lovarda melletti parkolóban",0)))," ") -> az Orczy Úti Kollégium | N17: =IF(K17="A fentiekre tekintettel parkolási férőhelyre jogosult",IF(C17="Nappali","minden héten hétfő reggel 6:00 órától csütörtök 22:00 óráig.",IF(AND(C17="Levelező",B17="RTK"),"az aktuális képzés időtartama alatt minden héten hétfő reggel 6:00 órától szombat 22:00 óráig.",IF(C17="Levelező","minden héten péntek reggel 6:00 órától szombat 22:00 óráig.",0)))," ") -> az aktuális képzés időtartama alatt minden héten hétfő reggel 6:00 órától szombat 22:00 óráig.
A18: 2026/27/1/NKE/PK/29 | B18: RTK | C18: Levelező | D18: nem | E18: 243 | F18: =IF(E18>280,15,(IF(E18>260,14,IF(E18>240,13,IF(E18>220,12,IF(E18>200,11,IF(E18>180,10,IF(E18>160,9,IF(E18>140,8,IF(E18>120,7,IF(E18>100,6,IF(E18>80,5,IF(E18>60,4,IF(E18>40,3,IF(E18>20,2,IF(E18>0,1,0))))))))))))))))+IF(D18="igen",5,0) -> 13 | G18: 165 | H18: =IF(G18>225,15,(IF(G18>210,14,IF(G18>195,13,IF(G18>180,12,IF(G18>165,11,IF(G18>150,10,IF(G18>135,9,IF(G18>120,8,IF(G18>105,7,IF(G18>90,6,IF(G18>75,5,IF(G18>60,4,IF(G18>45,3,IF(G18>30,2,IF(G18>0,1,0)))))))))))))))) -> 10 | I18: =SUM(F18,H18) -> 23 | J18: 4 | K18: A fentiekre tekintettel parkolási férőhelyre jogosult | M18: =IF(K18="A fentiekre tekintettel parkolási férőhelyre jogosult",IF(C18="Nappali"," a Ludovika Huszár Lovarda melletti parkolóban",IF(AND(C18="Levelező",B18="RTK")," az Orczy Úti Kollégium",IF(C18="Levelező"," a Ludovika Huszár Lovarda melletti parkolóban",0)))," ") -> az Orczy Úti Kollégium | N18: =IF(K18="A fentiekre tekintettel parkolási férőhelyre jogosult",IF(C18="Nappali","minden héten hétfő reggel 6:00 órától csütörtök 22:00 óráig.",IF(AND(C18="Levelező",B18="RTK"),"az aktuális képzés időtartama alatt minden héten hétfő reggel 6:00 órától szombat 22:00 óráig.",IF(C18="Levelező","minden héten péntek reggel 6:00 órától szombat 22:00 óráig.",0)))," ") -> az aktuális képzés időtartama alatt minden héten hétfő reggel 6:00 órától szombat 22:00 óráig.
A19: 2026/27/1/NKE/PK/116 | B19: RTK | C19: Levelező | D19: nem | E19: 230 | F19: =IF(E19>280,15,(IF(E19>260,14,IF(E19>240,13,IF(E19>220,12,IF(E19>200,11,IF(E19>180,10,IF(E19>160,9,IF(E19>140,8,IF(E19>120,7,IF(E19>100,6,IF(E19>80,5,IF(E19>60,4,IF(E19>40,3,IF(E19>20,2,IF(E19>0,1,0))))))))))))))))+IF(D19="igen",5,0) -> 12 | G19: 155 | H19: =IF(G19>225,15,(IF(G19>210,14,IF(G19>195,13,IF(G19>180,12,IF(G19>165,11,IF(G19>150,10,IF(G19>135,9,IF(G19>120,8,IF(G19>105,7,IF(G19>90,6,IF(G19>75,5,IF(G19>60,4,IF(G19>45,3,IF(G19>30,2,IF(G19>0,1,0)))))))))))))))) -> 10 | I19: =SUM(F19,H19) -> 22 | J19: 4 | K19: A fentiekre tekintettel parkolási férőhelyre jogosult | M19: =IF(K19="A fentiekre tekintettel parkolási férőhelyre jogosult",IF(C19="Nappali"," a Ludovika Huszár Lovarda melletti parkolóban",IF(AND(C19="Levelező",B19="RTK")," az Orczy Úti Kollégium",IF(C19="Levelező"," a Ludovika Huszár Lovarda melletti parkolóban",0)))," ") -> az Orczy Úti Kollégium | N19: =IF(K19="A fentiekre tekintettel parkolási férőhelyre jogosult",IF(C19="Nappali","minden héten hétfő reggel 6:00 órától csütörtök 22:00 óráig.",IF(AND(C19="Levelező",B19="RTK"),"az aktuális képzés időtartama alatt minden héten hétfő reggel 6:00 órától szombat 22:00 óráig.",IF(C19="Levelező","minden héten péntek reggel 6:00 órától szombat 22:00 óráig.",0)))," ") -> az aktuális képzés időtartama alatt minden héten hétfő reggel 6:00 órától szombat 22:00 óráig.
A20: 2026/27/1/NKE/PK/135 | B20: RTK | C20: Levelező | D20: nem | E20: 231 | F20: =IF(E20>280,15,(IF(E20>260,14,IF(E20>240,13,IF(E20>220,12,IF(E20>200,11,IF(E20>180,10,IF(E20>160,9,IF(E20>140,8,IF(E20>120,7,IF(E20>100,6,IF(E20>80,5,IF(E20>60,4,IF(E20>40,3,IF(E20>20,2,IF(E20>0,1,0))))))))))))))))+IF(D20="igen",5,0) -> 12 | G20: 165 | H20: =IF(G20>225,15,(IF(G20>210,14,IF(G20>195,13,IF(G20>180,12,IF(G20>165,11,IF(G20>150,10,IF(G20>135,9,IF(G20>120,8,IF(G20>105,7,IF(G20>90,6,IF(G20>75,5,IF(G20>60,4,IF(G20>45,3,IF(G20>30,2,IF(G20>0,1,0)))))))))))))))) -> 10 | I20: =SUM(F20,H20) -> 22 | J20: 4 | K20: A fentiekre tekintettel parkolási férőhelyre jogosult | M20: =IF(K20="A fentiekre tekintettel parkolási férőhelyre jogosult",IF(C20="Nappali"," a Ludovika Huszár Lovarda melletti parkolóban",IF(AND(C20="Levelező",B20="RTK")," az Orczy Úti Kollégium",IF(C20="Levelező"," a Ludovika Huszár Lovarda melletti parkolóban",0)))," ") -> az Orczy Úti Kollégium | N20: =IF(K20="A fentiekre tekintettel parkolási férőhelyre jogosult",IF(C20="Nappali","minden héten hétfő reggel 6:00 órától csütörtök 22:00 óráig.",IF(AND(C20="Levelező",B20="RTK"),"az aktuális képzés időtartama alatt minden héten hétfő reggel 6:00 órától szombat 22:00 óráig.",IF(C20="Levelező","minden héten péntek reggel 6:00 órától szombat 22:00 óráig.",0)))," ") -> az aktuális képzés időtartama alatt minden héten hétfő reggel 6:00 órától szombat 22:00 óráig.
A21: 2026/27/1/NKE/PK/30 | B21: RTK | C21: Levelező | D21: nem | E21: 218 | F21: =IF(E21>280,15,(IF(E21>260,14,IF(E21>240,13,IF(E21>220,12,IF(E21>200,11,IF(E21>180,10,IF(E21>160,9,IF(E21>140,8,IF(E21>120,7,IF(E21>100,6,IF(E21>80,5,IF(E21>60,4,IF(E21>40,3,IF(E21>20,2,IF(E21>0,1,0))))))))))))))))+IF(D21="igen",5,0) -> 11 | G21: 160 | H21: =IF(G21>225,15,(IF(G21>210,14,IF(G21>195,13,IF(G21>180,12,IF(G21>165,11,IF(G21>150,10,IF(G21>135,9,IF(G21>120,8,IF(G21>105,7,IF(G21>90,6,IF(G21>75,5,IF(G21>60,4,IF(G21>45,3,IF(G21>30,2,IF(G21>0,1,0)))))))))))))))) -> 10 | I21: =SUM(F21,H21) -> 21 | J21: 4 | K21: A fentiekre tekintettel parkolási férőhelyre jogosult | M21: =IF(K21="A fentiekre tekintettel parkolási férőhelyre jogosult",IF(C21="Nappali"," a Ludovika Huszár Lovarda melletti parkolóban",IF(AND(C21="Levelező",B21="RTK")," az Orczy Úti Kollégium",IF(C21="Levelező"," a Ludovika Huszár Lovarda melletti parkolóban",0)))," ") -> az Orczy Úti Kollégium | N21: =IF(K21="A fentiekre tekintettel parkolási férőhelyre jogosult",IF(C21="Nappali","minden héten hétfő reggel 6:00 órától csütörtök 22:00 óráig.",IF(AND(C21="Levelező",B21="RTK"),"az aktuális képzés időtartama alatt minden héten hétfő reggel 6:00 órától szombat 22:00 óráig.",IF(C21="Levelező","minden héten péntek reggel 6:00 órától szombat 22:00 óráig.",0)))," ") -> az aktuális képzés időtartama alatt minden héten hétfő reggel 6:00 órától szombat 22:00 óráig.
A22: 2026/27/1/NKE/PK/53 | B22: RTK | C22: Levelező | D22: nem | E22: 208 | F22: =IF(E22>280,15,(IF(E22>260,14,IF(E22>240,13,IF(E22>220,12,IF(E22>200,11,IF(E22>180,10,IF(E22>160,9,IF(E22>140,8,IF(E22>120,7,IF(E22>100,6,IF(E22>80,5,IF(E22>60,4,IF(E22>40,3,IF(E22>20,2,IF(E22>0,1,0))))))))))))))))+IF(D22="igen",5,0) -> 11 | G22: 155 | H22: =IF(G22>225,15,(IF(G22>210,14,IF(G22>195,13,IF(G22>180,12,IF(G22>165,11,IF(G22>150,10,IF(G22>135,9,IF(G22>120,8,IF(G22>105,7,IF(G22>90,6,IF(G22>75,5,IF(G22>60,4,IF(G22>45,3,IF(G22>30,2,IF(G22>0,1,0)))))))))))))))) -> 10 | I22: =SUM(F22,H22) -> 21 | J22: 4 | K22: A fentiekre tekintettel parkolási férőhelyre jogosult | M22: =IF(K22="A fentiekre tekintettel parkolási férőhelyre jogosult",IF(C22="Nappali"," a Ludovika Huszár Lovarda melletti parkolóban",IF(AND(C22="Levelező",B22="RTK")," az Orczy Úti Kollégium",IF(C22="Levelező"," a Ludovika Huszár Lovarda melletti parkolóban",0)))," ") -> az Orczy Úti Kollégium | N22: =IF(K22="A fentiekre tekintettel parkolási férőhelyre jogosult",IF(C22="Nappali","minden héten hétfő reggel 6:00 órától csütörtök 22:00 óráig.",IF(AND(C22="Levelező",B22="RTK"),"az aktuális képzés időtartama alatt minden héten hétfő reggel 6:00 órától szombat 22:00 óráig.",IF(C22="Levelező","minden héten péntek reggel 6:00 órától szombat 22:00 óráig.",0)))," ") -> az aktuális képzés időtartama alatt minden héten hétfő reggel 6:00 órától szombat 22:00 óráig.
A23: 2026/27/1/NKE/PK/69 | B23: RTK | C23: Levelező | D23: nem | E23: 209 | F23: =IF(E23>280,15,(IF(E23>260,14,IF(E23>240,13,IF(E23>220,12,IF(E23>200,11,IF(E23>180,10,IF(E23>160,9,IF(E23>140,8,IF(E23>120,7,IF(E23>100,6,IF(E23>80,5,IF(E23>60,4,IF(E23>40,3,IF(E23>20,2,IF(E23>0,1,0))))))))))))))))+IF(D23="igen",5,0) -> 11 | G23: 150 | H23: =IF(G23>225,15,(IF(G23>210,14,IF(G23>195,13,IF(G23>180,12,IF(G23>165,11,IF(G23>150,10,IF(G23>135,9,IF(G23>120,8,IF(G23>105,7,IF(G23>90,6,IF(G23>75,5,IF(G23>60,4,IF(G23>45,3,IF(G23>30,2,IF(G23>0,1,0)))))))))))))))) -> 9 | I23: =SUM(F23,H23) -> 20 | J23: 4 | K23: A fentiekre tekintettel parkolási férőhelyre jogosult | M23: =IF(K23="A fentiekre tekintettel parkolási férőhelyre jogosult",IF(C23="Nappali"," a Ludovika Huszár Lovarda melletti parkolóban",IF(AND(C23="Levelező",B23="RTK")," az Orczy Úti Kollégium",IF(C23="Levelező"," a Ludovika Huszár Lovarda melletti parkolóban",0)))," ") -> az Orczy Úti Kollégium | N23: =IF(K23="A fentiekre tekintettel parkolási férőhelyre jogosult",IF(C23="Nappali","minden héten hétfő reggel 6:00 órától csütörtök 22:00 óráig.",IF(AND(C23="Levelező",B23="RTK"),"az aktuális képzés időtartama alatt minden héten hétfő reggel 6:00 órától szombat 22:00 óráig.",IF(C23="Levelező","minden héten péntek reggel 6:00 órától szombat 22:00 óráig.",0)))," ") -> az aktuális képzés időtartama alatt minden héten hétfő reggel 6:00 órától szombat 22:00 óráig.
A24: 2026/27/1/NKE/PK/52 | B24: RTK | C24: Levelező | D24: nem | E24: 183 | F24: =IF(E24>280,15,(IF(E24>260,14,IF(E24>240,13,IF(E24>220,12,IF(E24>200,11,IF(E24>180,10,IF(E24>160,9,IF(E24>140,8,IF(E24>120,7,IF(E24>100,6,IF(E24>80,5,IF(E24>60,4,IF(E24>40,3,IF(E24>20,2,IF(E24>0,1,0))))))))))))))))+IF(D24="igen",5,0) -> 10 | G24: 145 | H24: =IF(G24>225,15,(IF(G24>210,14,IF(G24>195,13,IF(G24>180,12,IF(G24>165,11,IF(G24>150,10,IF(G24>135,9,IF(G24>120,8,IF(G24>105,7,IF(G24>90,6,IF(G24>75,5,IF(G24>60,4,IF(G24>45,3,IF(G24>30,2,IF(G24>0,1,0)))))))))))))))) -> 9 | I24: =SUM(F24,H24) -> 19 | J24: 4 | K24: A fentiekre tekintettel parkolási férőhelyre jogosult | M24: =IF(K24="A fentiekre tekintettel parkolási férőhelyre jogosult",IF(C24="Nappali"," a Ludovika Huszár Lovarda melletti parkolóban",IF(AND(C24="Levelező",B24="RTK")," az Orczy Úti Kollégium",IF(C24="Levelező"," a Ludovika Huszár Lovarda melletti parkolóban",0)))," ") -> az Orczy Úti Kollégium | N24: =IF(K24="A fentiekre tekintettel parkolási férőhelyre jogosult",IF(C24="Nappali","minden héten hétfő reggel 6:00 órától csütörtök 22:00 óráig.",IF(AND(C24="Levelező",B24="RTK"),"az aktuális képzés időtartama alatt minden héten hétfő reggel 6:00 órától szombat 22:00 óráig.",IF(C24="Levelező","minden héten péntek reggel 6:00 órától szombat 22:00 óráig.",0)))," ") -> az aktuális képzés időtartama alatt minden héten hétfő reggel 6:00 órától szombat 22:00 óráig.
A25: 2026/27/1/NKE/PK/64 | B25: RTK | C25: Levelező | D25: nem | E25: 193 | F25: =IF(E25>280,15,(IF(E25>260,14,IF(E25>240,13,IF(E25>220,12,IF(E25>200,11,IF(E25>180,10,IF(E25>160,9,IF(E25>140,8,IF(E25>120,7,IF(E25>100,6,IF(E25>80,5,IF(E25>60,4,IF(E25>40,3,IF(E25>20,2,IF(E25>0,1,0))))))))))))))))+IF(D25="igen",5,0) -> 10 | G25: 145 | H25: =IF(G25>225,15,(IF(G25>210,14,IF(G25>195,13,IF(G25>180,12,IF(G25>165,11,IF(G25>150,10,IF(G25>135,9,IF(G25>120,8,IF(G25>105,7,IF(G25>90,6,IF(G25>75,5,IF(G25>60,4,IF(G25>45,3,IF(G25>30,2,IF(G25>0,1,0)))))))))))))))) -> 9 | I25: =SUM(F25,H25) -> 19 | J25: 4 | K25: A fentiekre tekintettel parkolási férőhelyre jogosult | M25: =IF(K25="A fentiekre tekintettel parkolási férőhelyre jogosult",IF(C25="Nappali"," a Ludovika Huszár Lovarda melletti parkolóban",IF(AND(C25="Levelező",B25="RTK")," az Orczy Úti Kollégium",IF(C25="Levelező"," a Ludovika Huszár Lovarda melletti parkolóban",0)))," ") -> az Orczy Úti Kollégium | N25: =IF(K25="A fentiekre tekintettel parkolási férőhelyre jogosult",IF(C25="Nappali","minden héten hétfő reggel 6:00 órától csütörtök 22:00 óráig.",IF(AND(C25="Levelező",B25="RTK"),"az aktuális képzés időtartama alatt minden héten hétfő reggel 6:00 órától szombat 22:00 óráig.",IF(C25="Levelező","minden héten péntek reggel 6:00 órától szombat 22:00 óráig.",0)))," ") -> az aktuális képzés időtartama alatt minden héten hétfő reggel 6:00 órától szombat 22:00 óráig.
A26: 2026/27/1/NKE/PK/55 | B26: RTK | C26: Levelező | D26: nem | E26: 161.5 | F26: =IF(E26>280,15,(IF(E26>260,14,IF(E26>240,13,IF(E26>220,12,IF(E26>200,11,IF(E26>180,10,IF(E26>160,9,IF(E26>140,8,IF(E26>120,7,IF(E26>100,6,IF(E26>80,5,IF(E26>60,4,IF(E26>40,3,IF(E26>20,2,IF(E26>0,1,0))))))))))))))))+IF(D26="igen",5,0) -> 9 | G26: 155 | H26: =IF(G26>225,15,(IF(G26>210,14,IF(G26>195,13,IF(G26>180,12,IF(G26>165,11,IF(G26>150,10,IF(G26>135,9,IF(G26>120,8,IF(G26>105,7,IF(G26>90,6,IF(G26>75,5,IF(G26>60,4,IF(G26>45,3,IF(G26>30,2,IF(G26>0,1,0)))))))))))))))) -> 10 | I26: =SUM(F26,H26) -> 19 | J26: 4 | K26: A fentiekre tekintettel parkolási férőhelyre jogosult | M26: =IF(K26="A fentiekre tekintettel parkolási férőhelyre jogosult",IF(C26="Nappali"," a Ludovika Huszár Lovarda melletti parkolóban",IF(AND(C26="Levelező",B26="RTK")," az Orczy Úti Kollégium",IF(C26="Levelező"," a Ludovika Huszár Lovarda melletti parkolóban",0)))," ") -> az Orczy Úti Kollégium | N26: =IF(K26="A fentiekre tekintettel parkolási férőhelyre jogosult",IF(C26="Nappali","minden héten hétfő reggel 6:00 órától csütörtök 22:00 óráig.",IF(AND(C26="Levelező",B26="RTK"),"az aktuális képzés időtartama alatt minden héten hétfő reggel 6:00 órától szombat 22:00 óráig.",IF(C26="Levelező","minden héten péntek reggel 6:00 órától szombat 22:00 óráig.",0)))," ") -> az aktuális képzés időtartama alatt minden héten hétfő reggel 6:00 órától szombat 22:00 óráig.
A27: 2026/27/1/NKE/PK/25 | B27: RTK | C27: Levelező | D27: nem | E27: 165 | F27: =IF(E27>280,15,(IF(E27>260,14,IF(E27>240,13,IF(E27>220,12,IF(E27>200,11,IF(E27>180,10,IF(E27>160,9,IF(E27>140,8,IF(E27>120,7,IF(E27>100,6,IF(E27>80,5,IF(E27>60,4,IF(E27>40,3,IF(E27>20,2,IF(E27>0,1,0))))))))))))))))+IF(D27="igen",5,0) -> 9 | G27: 125 | H27: =IF(G27>225,15,(IF(G27>210,14,IF(G27>195,13,IF(G27>180,12,IF(G27>165,11,IF(G27>150,10,IF(G27>135,9,IF(G27>120,8,IF(G27>105,7,IF(G27>90,6,IF(G27>75,5,IF(G27>60,4,IF(G27>45,3,IF(G27>30,2,IF(G27>0,1,0)))))))))))))))) -> 8 | I27: =SUM(F27,H27) -> 17 | J27: 4 | K27: A fentiekre tekintettel parkolási férőhelyre jogosult | M27: =IF(K27="A fentiekre tekintettel parkolási férőhelyre jogosult",IF(C27="Nappali"," a Ludovika Huszár Lovarda melletti parkolóban",IF(AND(C27="Levelező",B27="RTK")," az Orczy Úti Kollégium",IF(C27="Levelező"," a Ludovika Huszár Lovarda melletti parkolóban",0)))," ") -> az Orczy Úti Kollégium | N27: =IF(K27="A fentiekre tekintettel parkolási férőhelyre jogosult",IF(C27="Nappali","minden héten hétfő reggel 6:00 órától csütörtök 22:00 óráig.",IF(AND(C27="Levelező",B27="RTK"),"az aktuális képzés időtartama alatt minden héten hétfő reggel 6:00 órától szombat 22:00 óráig.",IF(C27="Levelező","minden héten péntek reggel 6:00 órától szombat 22:00 óráig.",0)))," ") -> az aktuális képzés időtartama alatt minden héten hétfő reggel 6:00 órától szombat 22:00 óráig.
A28: 2026/27/1/NKE/PK/66 | B28: RTK | C28: Levelező | D28: nem | E28: 166 | F28: =IF(E28>280,15,(IF(E28>260,14,IF(E28>240,13,IF(E28>220,12,IF(E28>200,11,IF(E28>180,10,IF(E28>160,9,IF(E28>140,8,IF(E28>120,7,IF(E28>100,6,IF(E28>80,5,IF(E28>60,4,IF(E28>40,3,IF(E28>20,2,IF(E28>0,1,0))))))))))))))))+IF(D28="igen",5,0) -> 9 | G28: 130 | H28: =IF(G28>225,15,(IF(G28>210,14,IF(G28>195,13,IF(G28>180,12,IF(G28>165,11,IF(G28>150,10,IF(G28>135,9,IF(G28>120,8,IF(G28>105,7,IF(G28>90,6,IF(G28>75,5,IF(G28>60,4,IF(G28>45,3,IF(G28>30,2,IF(G28>0,1,0)))))))))))))))) -> 8 | I28: =SUM(F28,H28) -> 17 | J28: 4 | K28: A fentiekre tekintettel parkolási férőhelyre jogosult | M28: =IF(K28="A fentiekre tekintettel parkolási férőhelyre jogosult",IF(C28="Nappali"," a Ludovika Huszár Lovarda melletti parkolóban",IF(AND(C28="Levelező",B28="RTK")," az Orczy Úti Kollégium",IF(C28="Levelező"," a Ludovika Huszár Lovarda melletti parkolóban",0)))," ") -> az Orczy Úti Kollégium | N28: =IF(K28="A fentiekre tekintettel parkolási férőhelyre jogosult",IF(C28="Nappali","minden héten hétfő reggel 6:00 órától csütörtök 22:00 óráig.",IF(AND(C28="Levelező",B28="RTK"),"az aktuális képzés időtartama alatt minden héten hétfő reggel 6:00 órától szombat 22:00 óráig.",IF(C28="Levelező","minden héten péntek reggel 6:00 órától szombat 22:00 óráig.",0)))," ") -> az aktuális képzés időtartama alatt minden héten hétfő reggel 6:00 órától szombat 22:00 óráig.
... A43: 2026/27/1/NKE/PK/119 | B43: RTK | C43: Levelező | D43: nem | E43: 13.1 | F43: =IF(E43>280,15,(IF(E43>260,14,IF(E43>240,13,IF(E43>220,12,IF(E43>200,11,IF(E43>180,10,IF(E43>160,9,IF(E43>140,8,IF(E43>120,7,IF(E43>100,6,IF(E43>80,5,IF(E43>60,4,IF(E43>40,3,IF(E43>20,2,IF(E43>0,1,0))))))))))))))))+IF(D43="igen",5,0) -> 1 | G43: 39.5 | H43: =IF(G43>225,15,(IF(G43>210,14,IF(G43>195,13,IF(G43>180,12,IF(G43>165,11,IF(G43>150,10,IF(G43>135,9,IF(G43>120,8,IF(G43>105,7,IF(G43>90,6,IF(G43>75,5,IF(G43>60,4,IF(G43>45,3,IF(G43>30,2,IF(G43>0,1,0)))))))))))))))) -> 2 | I43: =SUM(F43,H43) -> 3 | J43: 4 | K43: A fentiekre tekintettel férőhelyhiány miatt várólistára került. | M43: =IF(K43="A fentiekre tekintettel parkolási férőhelyre jogosult",IF(C43="Nappali"," a Ludovika Huszár Lovarda melletti parkolóban",IF(AND(C43="Levelező",B43="RTK")," az Orczy Úti Kollégium",IF(C43="Levelező"," a Ludovika Huszár Lovarda melletti parkolóban",0)))," ") | N43: =IF(K43="A fentiekre tekintettel parkolási férőhelyre jogosult",IF(C43="Nappali","minden héten hétfő reggel 6:00 órától csütörtök 22:00 óráig.",IF(AND(C43="Levelező",B43="RTK"),"az aktuális képzés időtartama alatt minden héten hétfő reggel 6:00 órától szombat 22:00 óráig.",IF(C43="Levelező","minden héten péntek reggel 6:00 órától szombat 22:00 óráig.",0)))," ")
A44: 2026/27/1/NKE/PK/121 | B44: RTK | C44: Levelező | D44: nem | E44: 18.3 | F44: =IF(E44>280,15,(IF(E44>260,14,IF(E44>240,13,IF(E44>220,12,IF(E44>200,11,IF(E44>180,10,IF(E44>160,9,IF(E44>140,8,IF(E44>120,7,IF(E44>100,6,IF(E44>80,5,IF(E44>60,4,IF(E44>40,3,IF(E44>20,2,IF(E44>0,1,0))))))))))))))))+IF(D44="igen",5,0) -> 1 | G44: 32.5 | H44: =IF(G44>225,15,(IF(G44>210,14,IF(G44>195,13,IF(G44>180,12,IF(G44>165,11,IF(G44>150,10,IF(G44>135,9,IF(G44>120,8,IF(G44>105,7,IF(G44>90,6,IF(G44>75,5,IF(G44>60,4,IF(G44>45,3,IF(G44>30,2,IF(G44>0,1,0)))))))))))))))) -> 2 | I44: =SUM(F44,H44) -> 3 | J44: 4 | K44: A fentiekre tekintettel férőhelyhiány miatt várólistára került.
A45: 2026/27/1/NKE/PK/39 | B45: RTK | C45: Levelező | D45: nem | E45: 59.7 | F45: 0 | G45: 50 | H45: =IF(G45>225,15,(IF(G45>210,14,IF(G45>195,13,IF(G45>180,12,IF(G45>165,11,IF(G45>150,10,IF(G45>135,9,IF(G45>120,8,IF(G45>105,7,IF(G45>90,6,IF(G45>75,5,IF(G45>60,4,IF(G45>45,3,IF(G45>30,2,IF(G45>0,1,0)))))))))))))))) -> 3 | I45: =SUM(F45,H45) -> 3 | J45: 4 | K45: A fentiekre tekintettel férőhelyhiány miatt várólistára került.
A46: 2026/27/1/NKE/PK/56 | B46: RTK | C46: Levelező | D46: nem | E46: 8.4 | F46: =IF(E46>280,15,(IF(E46>260,14,IF(E46>240,13,IF(E46>220,12,IF(E46>200,11,IF(E46>180,10,IF(E46>160,9,IF(E46>140,8,IF(E46>120,7,IF(E46>100,6,IF(E46>80,5,IF(E46>60,4,IF(E46>40,3,IF(E46>20,2,IF(E46>0,1,0))))))))))))))))+IF(D46="igen",5,0) -> 1 | G46: 24.5 | H46: =IF(G46>225,15,(IF(G46>210,14,IF(G46>195,13,IF(G46>180,12,IF(G46>165,11,IF(G46>150,10,IF(G46>135,9,IF(G46>120,8,IF(G46>105,7,IF(G46>90,6,IF(G46>75,5,IF(G46>60,4,IF(G46>45,3,IF(G46>30,2,IF(G46>0,1,0)))))))))))))))) -> 1 | I46: =SUM(F46,H46) -> 2 | J46: 4 | K46: A fentiekre tekintettel férőhelyhiány miatt várólistára került. | M46: =IF(K46="A fentiekre tekintettel parkolási férőhelyre jogosult",IF(C46="Nappali"," a Ludovika Huszár Lovarda melletti parkolóban",IF(AND(C46="Levelező",B46="RTK")," az Orczy Úti Kollégium",IF(C46="Levelező"," a Ludovika Huszár Lovarda melletti parkolóban",0)))," ") | N46: =IF(K46="A fentiekre tekintettel parkolási férőhelyre jogosult",IF(C46="Nappali","minden héten hétfő reggel 6:00 órától csütörtök 22:00 óráig.",IF(AND(C46="Levelező",B46="RTK"),"az aktuális képzés időtartama alatt minden héten hétfő reggel 6:00 órától szombat 22:00 óráig.",IF(C46="Levelező","minden héten péntek reggel 6:00 órától szombat 22:00 óráig.",0)))," ")
A47: 2026/27/1/NKE/PK/41 | B47: RTK | C47: Levelező | D47: nem | E47: 0 | F47: =IF(E47>280,15,(IF(E47>260,14,IF(E47>240,13,IF(E47>220,12,IF(E47>200,11,IF(E47>180,10,IF(E47>160,9,IF(E47>140,8,IF(E47>120,7,IF(E47>100,6,IF(E47>80,5,IF(E47>60,4,IF(E47>40,3,IF(E47>20,2,IF(E47>0,1,0))))))))))))))))+IF(D47="igen",5,0) -> 0 | G47: 0 | H47: 0 | I47: 0 | K47: A fentiekre tekintettel a kérelme elutasításra került. | M47: =IF(K47="A fentiekre tekintettel parkolási férőhelyre jogosult",IF(C47="Nappali"," a Ludovika Huszár Lovarda melletti parkolóban",IF(AND(C47="Levelező",B47="RTK")," az Orczy Úti Kollégium",IF(C47="Levelező"," a Ludovika Huszár Lovarda melletti parkolóban",0)))," ") | N47: =IF(K47="A fentiekre tekintettel parkolási férőhelyre jogosult",IF(C47="Nappali","minden héten hétfő reggel 6:00 órától csütörtök 22:00 óráig.",IF(AND(C47="Levelező",B47="RTK"),"az aktuális képzés időtartama alatt minden héten hétfő reggel 6:00 órától szombat 22:00 óráig.",IF(C47="Levelező","minden héten péntek reggel 6:00 órától szombat 22:00 óráig.",0)))," ")
A48: 2026/27/1/NKE/PK/128 | B48: RTK | C48: Levelező | D48: nem | E48: 0 | F48: =IF(E48>280,15,(IF(E48>260,14,IF(E48>240,13,IF(E48>220,12,IF(E48>200,11,IF(E48>180,10,IF(E48>160,9,IF(E48>140,8,IF(E48>120,7,IF(E48>100,6,IF(E48>80,5,IF(E48>60,4,IF(E48>40,3,IF(E48>20,2,IF(E48>0,1,0))))))))))))))))+IF(D48="igen",5,0) -> 0 | G48: 0 | H48: =IF(G48>225,15,(IF(G48>210,14,IF(G48>195,13,IF(G48>180,12,IF(G48>165,11,IF(G48>150,10,IF(G48>135,9,IF(G48>120,8,IF(G48>105,7,IF(G48>90,6,IF(G48>75,5,IF(G48>60,4,IF(G48>45,3,IF(G48>30,2,IF(G48>0,1,0)))))))))))))))) -> 0 | I48: =SUM(F48,H48) -> 0 | K48: A fentiekre tekintettel a kérelme elutasításra került.
A49: 2026/27/1/NKE/PK/130 | B49: RTK | C49: Levelező | D49: nem | E49: 0 | F49: =IF(E49>280,15,(IF(E49>260,14,IF(E49>240,13,IF(E49>220,12,IF(E49>200,11,IF(E49>180,10,IF(E49>160,9,IF(E49>140,8,IF(E49>120,7,IF(E49>100,6,IF(E49>80,5,IF(E49>60,4,IF(E49>40,3,IF(E49>20,2,IF(E49>0,1,0))))))))))))))))+IF(D49="igen",5,0) -> 0 | G49: 0 | H49: =IF(G49>225,15,(IF(G49>210,14,IF(G49>195,13,IF(G49>180,12,IF(G49>165,11,IF(G49>150,10,IF(G49>135,9,IF(G49>120,8,IF(G49>105,7,IF(G49>90,6,IF(G49>75,5,IF(G49>60,4,IF(G49>45,3,IF(G49>30,2,IF(G49>0,1,0)))))))))))))))) -> 0 | I49: =SUM(F49,H49) -> 0 | K49: A fentiekre tekintettel a kérelme elutasításra került. | M49: =IF(K49="A fentiekre tekintettel parkolási férőhelyre jogosult",IF(C49="Nappali"," a Ludovika Huszár Lovarda melletti parkolóban",IF(AND(C49="Levelező",B49="RTK")," az Orczy Úti Kollégium",IF(C49="Levelező"," a Ludovika Huszár Lovarda melletti parkolóban",0)))," ") | N49: =IF(K49="A fentiekre tekintettel parkolási férőhelyre jogosult",IF(C49="Nappali","minden héten hétfő reggel 6:00 órától csütörtök 22:00 óráig.",IF(AND(C49="Levelező",B49="RTK"),"az aktuális képzés időtartama alatt minden héten hétfő reggel 6:00 órától szombat 22:00 óráig.",IF(C49="Levelező","minden héten péntek reggel 6:00 órától szombat 22:00 óráig.",0)))," ")
A50: 2026/27/1/NKE/PK/49 | B50: RTK | C50: Levelező | D50: nem | E50: 0 | F50: =IF(E50>280,15,(IF(E50>260,14,IF(E50>240,13,IF(E50>220,12,IF(E50>200,11,IF(E50>180,10,IF(E50>160,9,IF(E50>140,8,IF(E50>120,7,IF(E50>100,6,IF(E50>80,5,IF(E50>60,4,IF(E50>40,3,IF(E50>20,2,IF(E50>0,1,0))))))))))))))))+IF(D50="igen",5,0) -> 0 | G50: 0 | H50: =IF(G50>225,15,(IF(G50>210,14,IF(G50>195,13,IF(G50>180,12,IF(G50>165,11,IF(G50>150,10,IF(G50>135,9,IF(G50>120,8,IF(G50>105,7,IF(G50>90,6,IF(G50>75,5,IF(G50>60,4,IF(G50>45,3,IF(G50>30,2,IF(G50>0,1,0)))))))))))))))) -> 0 | I50: =SUM(F50,H50) -> 0 | K50: A fentiekre tekintettel a kérelme elutasításra került. | M50: =IF(K50="A fentiekre tekintettel parkolási férőhelyre jogosult",IF(C50="Nappali"," a Ludovika Huszár Lovarda melletti parkolóban",IF(AND(C50="Levelező",B50="RTK")," az Orczy Úti Kollégium",IF(C50="Levelező"," a Ludovika Huszár Lovarda melletti parkolóban",0)))," ") | N50: =IF(K50="A fentiekre tekintettel parkolási férőhelyre jogosult",IF(C50="Nappali","minden héten hétfő reggel 6:00 órától csütörtök 22:00 óráig.",IF(AND(C50="Levelező",B50="RTK"),"az aktuális képzés időtartama alatt minden héten hétfő reggel 6:00 órától szombat 22:00 óráig.",IF(C50="Levelező","minden héten péntek reggel 6:00 órától szombat 22:00 óráig.",0)))," ")
A51: 2026/27/1/NKE/PK/50 | B51: RTK | C51: Levelező | D51: nem | E51: 0 | F51: =IF(E51>280,15,(IF(E51>260,14,IF(E51>240,13,IF(E51>220,12,IF(E51>200,11,IF(E51>180,10,IF(E51>160,9,IF(E51>140,8,IF(E51>120,7,IF(E51>100,6,IF(E51>80,5,IF(E51>60,4,IF(E51>40,3,IF(E51>20,2,IF(E51>0,1,0))))))))))))))))+IF(D51="igen",5,0) -> 0 | G51: 0 | H51: =IF(G51>225,15,(IF(G51>210,14,IF(G51>195,13,IF(G51>180,12,IF(G51>165,11,IF(G51>150,10,IF(G51>135,9,IF(G51>120,8,IF(G51>105,7,IF(G51>90,6,IF(G51>75,5,IF(G51>60,4,IF(G51>45,3,IF(G51>30,2,IF(G51>0,1,0)))))))))))))))) -> 0 | I51: =SUM(F51,H51) -> 0 | K51: A fentiekre tekintettel a kérelme elutasításra került.
A52: 2026/27/1/NKE/PK/72 | B52: RTK | C52: Levelező | D52: nem | F52: =IF(E52>280,15,(IF(E52>260,14,IF(E52>240,13,IF(E52>220,12,IF(E52>200,11,IF(E52>180,10,IF(E52>160,9,IF(E52>140,8,IF(E52>120,7,IF(E52>100,6,IF(E52>80,5,IF(E52>60,4,IF(E52>40,3,IF(E52>20,2,IF(E52>0,1,0))))))))))))))))+IF(D52="igen",5,0) -> 0 | H52: =IF(G52>225,15,(IF(G52>210,14,IF(G52>195,13,IF(G52>180,12,IF(G52>165,11,IF(G52>150,10,IF(G52>135,9,IF(G52>120,8,IF(G52>105,7,IF(G52>90,6,IF(G52>75,5,IF(G52>60,4,IF(G52>45,3,IF(G52>30,2,IF(G52>0,1,0)))))))))))))))) -> 0 | I52: =SUM(F52,H52) -> 0 | K52: A fentiekre tekintettel a kérelme elutasításra került.
A53: 2026/27/1/NKE/PK/81 | B53: RTK | C53: Levelező | D53: nem | E53: 0 | F53: =IF(E53>280,15,(IF(E53>260,14,IF(E53>240,13,IF(E53>220,12,IF(E53>200,11,IF(E53>180,10,IF(E53>160,9,IF(E53>140,8,IF(E53>120,7,IF(E53>100,6,IF(E53>80,5,IF(E53>60,4,IF(E53>40,3,IF(E53>20,2,IF(E53>0,1,0))))))))))))))))+IF(D53="igen",5,0) -> 0 | G53: 0 | H53: =IF(G53>225,15,(IF(G53>210,14,IF(G53>195,13,IF(G53>180,12,IF(G53>165,11,IF(G53>150,10,IF(G53>135,9,IF(G53>120,8,IF(G53>105,7,IF(G53>90,6,IF(G53>75,5,IF(G53>60,4,IF(G53>45,3,IF(G53>30,2,IF(G53>0,1,0)))))))))))))))) -> 0 | I53: =SUM(F53,H53) -> 0 | K53: A fentiekre tekintettel a kérelme elutasításra került. | M53: =IF(K53="A fentiekre tekintettel parkolási férőhelyre jogosult",IF(C53="Nappali"," a Ludovika Huszár Lovarda melletti parkolóban",IF(AND(C53="Levelező",B53="RTK")," az Orczy Úti Kollégium",IF(C53="Levelező"," a Ludovika Huszár Lovarda melletti parkolóban",0)))," ") | N53: =IF(K53="A fentiekre tekintettel parkolási férőhelyre jogosult",IF(C53="Nappali","minden héten hétfő reggel 6:00 órától csütörtök 22:00 óráig.",IF(AND(C53="Levelező",B53="RTK"),"az aktuális képzés időtartama alatt minden héten hétfő reggel 6:00 órától szombat 22:00 óráig.",IF(C53="Levelező","minden héten péntek reggel 6:00 órától szombat 22:00 óráig.",0)))," ")
A54: 2026/27/1/NKE/PK/86 | B54: RTK | C54: Levelező | D54: nem | F54: =IF(E54>280,15,(IF(E54>260,14,IF(E54>240,13,IF(E54>220,12,IF(E54>200,11,IF(E54>180,10,IF(E54>160,9,IF(E54>140,8,IF(E54>120,7,IF(E54>100,6,IF(E54>80,5,IF(E54>60,4,IF(E54>40,3,IF(E54>20,2,IF(E54>0,1,0))))))))))))))))+IF(D54="igen",5,0) -> 0 | H54: =IF(G54>225,15,(IF(G54>210,14,IF(G54>195,13,IF(G54>180,12,IF(G54>165,11,IF(G54>150,10,IF(G54>135,9,IF(G54>120,8,IF(G54>105,7,IF(G54>90,6,IF(G54>75,5,IF(G54>60,4,IF(G54>45,3,IF(G54>30,2,IF(G54>0,1,0)))))))))))))))) -> 0 | I54: =SUM(F54,H54) -> 0 | K54: A fentiekre tekintettel a kérelme elutasításra került.
A55: 2026/27/1/NKE/PK/87 | B55: RTK | C55: Levelező | D55: nem | F55: =IF(E55>280,15,(IF(E55>260,14,IF(E55>240,13,IF(E55>220,12,IF(E55>200,11,IF(E55>180,10,IF(E55>160,9,IF(E55>140,8,IF(E55>120,7,IF(E55>100,6,IF(E55>80,5,IF(E55>60,4,IF(E55>40,3,IF(E55>20,2,IF(E55>0,1,0))))))))))))))))+IF(D55="igen",5,0) -> 0 | H55: =IF(G55>225,15,(IF(G55>210,14,IF(G55>195,13,IF(G55>180,12,IF(G55>165,11,IF(G55>150,10,IF(G55>135,9,IF(G55>120,8,IF(G55>105,7,IF(G55>90,6,IF(G55>75,5,IF(G55>60,4,IF(G55>45,3,IF(G55>30,2,IF(G55>0,1,0)))))))))))))))) -> 0 | I55: =SUM(F55,H55) -> 0 | K55: A fentiekre tekintettel a kérelme elutasításra került. | M55: =IF(K55="A fentiekre tekintettel parkolási férőhelyre jogosult",IF(C55="Nappali"," a Ludovika Huszár Lovarda melletti parkolóban",IF(AND(C55="Levelező",B55="RTK")," az Orczy Úti Kollégium",IF(C55="Levelező"," a Ludovika Huszár Lovarda melletti parkolóban",0)))," ") | N55: =IF(K55="A fentiekre tekintettel parkolási férőhelyre jogosult",IF(C55="Nappali","minden héten hétfő reggel 6:00 órától csütörtök 22:00 óráig.",IF(AND(C55="Levelező",B55="RTK"),"az aktuális képzés időtartama alatt minden héten hétfő reggel 6:00 órától szombat 22:00 óráig.",IF(C55="Levelező","minden héten péntek reggel 6:00 órától szombat 22:00 óráig.",0)))," ")
A56: 2026/27/1/NKE/PK/110 | B56: RTK | C56: Levelező | D56: nem | F56: =IF(E56>280,15,(IF(E56>260,14,IF(E56>240,13,IF(E56>220,12,IF(E56>200,11,IF(E56>180,10,IF(E56>160,9,IF(E56>140,8,IF(E56>120,7,IF(E56>100,6,IF(E56>80,5,IF(E56>60,4,IF(E56>40,3,IF(E56>20,2,IF(E56>0,1,0))))))))))))))))+IF(D56="igen",5,0) -> 0 | H56: =IF(G56>225,15,(IF(G56>210,14,IF(G56>195,13,IF(G56>180,12,IF(G56>165,11,IF(G56>150,10,IF(G56>135,9,IF(G56>120,8,IF(G56>105,7,IF(G56>90,6,IF(G56>75,5,IF(G56>60,4,IF(G56>45,3,IF(G56>30,2,IF(G56>0,1,0)))))))))))))))) -> 0 | I56: =SUM(F56,H56) -> 0 | K56: A fentiekre tekintettel a kérelme elutasításra került. | M56: =IF(K56="A fentiekre tekintettel parkolási férőhelyre jogosult",IF(C56="Nappali"," a Ludovika Huszár Lovarda melletti parkolóban",IF(AND(C56="Levelező",B56="RTK")," az Orczy Úti Kollégium",IF(C56="Levelező"," a Ludovika Huszár Lovarda melletti parkolóban",0)))," ") | N56: =IF(K56="A fentiekre tekintettel parkolási férőhelyre jogosult",IF(C56="Nappali","minden héten hétfő reggel 6:00 órától csütörtök 22:00 óráig.",IF(AND(C56="Levelező",B56="RTK"),"az aktuális képzés időtartama alatt minden héten hétfő reggel 6:00 órától szombat 22:00 óráig.",IF(C56="Levelező","minden héten péntek reggel 6:00 órától szombat 22:00 óráig.",0)))," ")
A57: 2026/27/1/NKE/PK/122 | B57: RTK | C57: Levelező | D57: nem | F57: =IF(E57>280,15,(IF(E57>260,14,IF(E57>240,13,IF(E57>220,12,IF(E57>200,11,IF(E57>180,10,IF(E57>160,9,IF(E57>140,8,IF(E57>120,7,IF(E57>100,6,IF(E57>80,5,IF(E57>60,4,IF(E57>40,3,IF(E57>20,2,IF(E57>0,1,0))))))))))))))))+IF(D57="igen",5,0) -> 0 | H57: =IF(G57>225,15,(IF(G57>210,14,IF(G57>195,13,IF(G57>180,12,IF(G57>165,11,IF(G57>150,10,IF(G57>135,9,IF(G57>120,8,IF(G57>105,7,IF(G57>90,6,IF(G57>75,5,IF(G57>60,4,IF(G57>45,3,IF(G57>30,2,IF(G57>0,1,0)))))))))))))))) -> 0 | I57: =SUM(F57,H57) -> 0 | K57: A fentiekre tekintettel a kérelme elutasításra került. | M57: =IF(K57="A fentiekre tekintettel parkolási férőhelyre jogosult",IF(C57="Nappali"," a Ludovika Huszár Lovarda melletti parkolóban",IF(AND(C57="Levelező",B57="RTK")," az Orczy Úti Kollégium",IF(C57="Levelező"," a Ludovika Huszár Lovarda melletti parkolóban",0)))," ") | N57: =IF(K57="A fentiekre tekintettel parkolási férőhelyre jogosult",IF(C57="Nappali","minden héten hétfő reggel 6:00 órától csütörtök 22:00 óráig.",IF(AND(C57="Levelező",B57="RTK"),"az aktuális képzés időtartama alatt minden héten hétfő reggel 6:00 órától szombat 22:00 óráig.",IF(C57="Levelező","minden héten péntek reggel 6:00 órától szombat 22:00 óráig.",0)))," ")
A58: 2026/27/1/NKE/PK/124 | B58: RTK | C58: Levelező | D58: nem | E58: 0 | F58: =IF(E58>280,15,(IF(E58>260,14,IF(E58>240,13,IF(E58>220,12,IF(E58>200,11,IF(E58>180,10,IF(E58>160,9,IF(E58>140,8,IF(E58>120,7,IF(E58>100,6,IF(E58>80,5,IF(E58>60,4,IF(E58>40,3,IF(E58>20,2,IF(E58>0,1,0))))))))))))))))+IF(D58="igen",5,0) -> 0 | G58: 0 | H58: =IF(G58>225,15,(IF(G58>210,14,IF(G58>195,13,IF(G58>180,12,IF(G58>165,11,IF(G58>150,10,IF(G58>135,9,IF(G58>120,8,IF(G58>105,7,IF(G58>90,6,IF(G58>75,5,IF(G58>60,4,IF(G58>45,3,IF(G58>30,2,IF(G58>0,1,0)))))))))))))))) -> 0 | I58: =SUM(F58,H58) -> 0 | K58: A fentiekre tekintettel a kérelme elutasításra került. | M58: =IF(K58="A fentiekre tekintettel parkolási férőhelyre jogosult",IF(C58="Nappali"," a Ludovika Huszár Lovarda melletti parkolóban",IF(AND(C58="Levelező",B58="RTK")," az Orczy Úti Kollégium",IF(C58="Levelező"," a Ludovika Huszár Lovarda melletti parkolóban",0)))," ") | N58: =IF(K58="A fentiekre tekintettel parkolási férőhelyre jogosult",IF(C58="Nappali","minden héten hétfő reggel 6:00 órától csütörtök 22:00 óráig.",IF(AND(C58="Levelező",B58="RTK"),"az aktuális képzés időtartama alatt minden héten hétfő reggel 6:00 órától szombat 22:00 óráig.",IF(C58="Levelező","minden héten péntek reggel 6:00 órától szombat 22:00 óráig.",0)))," ")
A59: 2026/27/1/NKE/PK/132 | B59: RTK | C59: Levelező | D59: nem | F59: =IF(E59>280,15,(IF(E59>260,14,IF(E59>240,13,IF(E59>220,12,IF(E59>200,11,IF(E59>180,10,IF(E59>160,9,IF(E59>140,8,IF(E59>120,7,IF(E59>100,6,IF(E59>80,5,IF(E59>60,4,IF(E59>40,3,IF(E59>20,2,IF(E59>0,1,0))))))))))))))))+IF(D59="igen",5,0) -> 0 | H59: =IF(G59>225,15,(IF(G59>210,14,IF(G59>195,13,IF(G59>180,12,IF(G59>165,11,IF(G59>150,10,IF(G59>135,9,IF(G59>120,8,IF(G59>105,7,IF(G59>90,6,IF(G59>75,5,IF(G59>60,4,IF(G59>45,3,IF(G59>30,2,IF(G59>0,1,0)))))))))))))))) -> 0 | I59: =SUM(F59,H59) -> 0 | K59: A fentiekre tekintettel a kérelme elutasításra került. | M59: =IF(K59="A fentiekre tekintettel parkolási férőhelyre jogosult",IF(C59="Nappali"," a Ludovika Huszár Lovarda melletti parkolóban",IF(AND(C59="Levelező",B59="RTK")," az Orczy Úti Kollégium",IF(C59="Levelező"," a Ludovika Huszár Lovarda melletti parkolóban",0)))," ") | N59: =IF(K59="A fentiekre tekintettel parkolási férőhelyre jogosult",IF(C59="Nappali","minden héten hétfő reggel 6:00 órától csütörtök 22:00 óráig.",IF(AND(C59="Levelező",B59="RTK"),"az aktuális képzés időtartama alatt minden héten hétfő reggel 6:00 órától szombat 22:00 óráig.",IF(C59="Levelező","minden héten péntek reggel 6:00 órától szombat 22:00 óráig.",0)))," ")
A60: 2026/27/1/NKE/PK/38 | B60: RTK | C60: Levelező | D60: nem | F60: =IF(E60>280,15,(IF(E60>260,14,IF(E60>240,13,IF(E60>220,12,IF(E60>200,11,IF(E60>180,10,IF(E60>160,9,IF(E60>140,8,IF(E60>120,7,IF(E60>100,6,IF(E60>80,5,IF(E60>60,4,IF(E60>40,3,IF(E60>20,2,IF(E60>0,1,0))))))))))))))))+IF(D60="igen",5,0) -> 0 | H60: =IF(G60>225,15,(IF(G60>210,14,IF(G60>195,13,IF(G60>180,12,IF(G60>165,11,IF(G60>150,10,IF(G60>135,9,IF(G60>120,8,IF(G60>105,7,IF(G60>90,6,IF(G60>75,5,IF(G60>60,4,IF(G60>45,3,IF(G60>30,2,IF(G60>0,1,0)))))))))))))))) -> 0 | I60: =SUM(F60,H60) -> 0 | K60: A fentiekre tekintettel a kérelme elutasításra került.
A61: 2026/27/1/NKE/PK/51 | B61: RTK | C61: Levelező | D61: nem | E61: 0 | F61: =IF(E61>280,15,(IF(E61>260,14,IF(E61>240,13,IF(E61>220,12,IF(E61>200,11,IF(E61>180,10,IF(E61>160,9,IF(E61>140,8,IF(E61>120,7,IF(E61>100,6,IF(E61>80,5,IF(E61>60,4,IF(E61>40,3,IF(E61>20,2,IF(E61>0,1,0))))))))))))))))+IF(D61="igen",5,0) -> 0 | G61: 0 | H61: =IF(G61>225,15,(IF(G61>210,14,IF(G61>195,13,IF(G61>180,12,IF(G61>165,11,IF(G61>150,10,IF(G61>135,9,IF(G61>120,8,IF(G61>105,7,IF(G61>90,6,IF(G61>75,5,IF(G61>60,4,IF(G61>45,3,IF(G61>30,2,IF(G61>0,1,0)))))))))))))))) -> 0 | I61: =SUM(F61,H61) -> 0 | K61: A fentiekre tekintettel a kérelme elutasításra került.
A62: 2026/27/1/NKE/PK/84 | B62: NITK | C62: Nappali | D62: nem | E62: 28 | F62: =IF(E62>280,15,(IF(E62>260,14,IF(E62>240,13,IF(E62>220,12,IF(E62>200,11,IF(E62>180,10,IF(E62>160,9,IF(E62>140,8,IF(E62>120,7,IF(E62>100,6,IF(E62>80,5,IF(E62>60,4,IF(E62>40,3,IF(E62>20,2,IF(E62>0,1,0))))))))))))))))+IF(D62="igen",5,0) -> 2 | G62: 47.5 | H62: =IF(G62>225,15,(IF(G62>210,14,IF(G62>195,13,IF(G62>180,12,IF(G62>165,11,IF(G62>150,10,IF(G62>135,9,IF(G62>120,8,IF(G62>105,7,IF(G62>90,6,IF(G62>75,5,IF(G62>60,4,IF(G62>45,3,IF(G62>30,2,IF(G62>0,1,0)))))))))))))))) -> 3 | I62: =SUM(F62,H62) -> 5 | J62: 4 | K62: A fentiekre tekintettel parkolási férőhelyre jogosult | M62: =IF(K62="A fentiekre tekintettel parkolási férőhelyre jogosult",IF(C62="Nappali"," a Ludovika Huszár Lovarda melletti parkolóban",IF(AND(C62="Levelező",B62="RTK")," az Orczy Úti Kollégium",IF(C62="Levelező"," a Ludovika Huszár Lovarda melletti parkolóban",0)))," ") -> a Ludovika Huszár Lovarda melletti parkolóban | N62: =IF(K62="A fentiekre tekintettel parkolási férőhelyre jogosult",IF(C62="Nappali","minden héten hétfő reggel 6:00 órától csütörtök 22:00 óráig.",IF(AND(C62="Levelező",B62="RTK"),"az aktuális képzés időtartama alatt minden héten hétfő reggel 6:00 órától szombat 22:00 óráig.",IF(C62="Levelező","minden héten péntek reggel 6:00 órától szombat 22:00 óráig.",0)))," ") -> minden héten hétfő reggel 6:00 órától csütörtök 22:00 óráig.
A63: 2026/27/1/NKE/PK/76 | B63: NITK | C63: Nappali | D63: nem | E63: 26.2 | F63: =IF(E63>280,15,(IF(E63>260,14,IF(E63>240,13,IF(E63>220,12,IF(E63>200,11,IF(E63>180,10,IF(E63>160,9,IF(E63>140,8,IF(E63>120,7,IF(E63>100,6,IF(E63>80,5,IF(E63>60,4,IF(E63>40,3,IF(E63>20,2,IF(E63>0,1,0))))))))))))))))+IF(D63="igen",5,0) -> 2 | G63: 31 | H63: =IF(G63>225,15,(IF(G63>210,14,IF(G63>195,13,IF(G63>180,12,IF(G63>165,11,IF(G63>150,10,IF(G63>135,9,IF(G63>120,8,IF(G63>105,7,IF(G63>90,6,IF(G63>75,5,IF(G63>60,4,IF(G63>45,3,IF(G63>30,2,IF(G63>0,1,0)))))))))))))))) -> 2 | I63: =SUM(F63,H63) -> 4 | J63: 4 | K63: A fentiekre tekintettel parkolási férőhelyre jogosult | M63: =IF(K63="A fentiekre tekintettel parkolási férőhelyre jogosult",IF(C63="Nappali"," a Ludovika Huszár Lovarda melletti parkolóban",IF(AND(C63="Levelező",B63="RTK")," az Orczy Úti Kollégium",IF(C63="Levelező"," a Ludovika Huszár Lovarda melletti parkolóban",0)))," ") -> a Ludovika Huszár Lovarda melletti parkolóban | N63: =IF(K63="A fentiekre tekintettel parkolási férőhelyre jogosult",IF(C63="Nappali","minden héten hétfő reggel 6:00 órától csütörtök 22:00 óráig.",IF(AND(C63="Levelező",B63="RTK"),"az aktuális képzés időtartama alatt minden héten hétfő reggel 6:00 órától szombat 22:00 óráig.",IF(C63="Levelező","minden héten péntek reggel 6:00 órától szombat 22:00 óráig.",0)))," ") -> minden héten hétfő reggel 6:00 órától csütörtök 22:00 óráig.
A64: 2026/27/1/NKE/PK/101 | B64: NITK | C64: Nappali | D64: nem | E64: 27.6 | F64: =IF(E64>280,15,(IF(E64>260,14,IF(E64>240,13,IF(E64>220,12,IF(E64>200,11,IF(E64>180,10,IF(E64>160,9,IF(E64>140,8,IF(E64>120,7,IF(E64>100,6,IF(E64>80,5,IF(E64>60,4,IF(E64>40,3,IF(E64>20,2,IF(E64>0,1,0))))))))))))))))+IF(D64="igen",5,0) -> 2 | G64: 43 | H64: =IF(G64>225,15,(IF(G64>210,14,IF(G64>195,13,IF(G64>180,12,IF(G64>165,11,IF(G64>150,10,IF(G64>135,9,IF(G64>120,8,IF(G64>105,7,IF(G64>90,6,IF(G64>75,5,IF(G64>60,4,IF(G64>45,3,IF(G64>30,2,IF(G64>0,1,0)))))))))))))))) -> 2 | I64: =SUM(F64,H64) -> 4 | J64: 4 | K64: A fentiekre tekintettel parkolási férőhelyre jogosult | M64: =IF(K64="A fentiekre tekintettel parkolási férőhelyre jogosult",IF(C64="Nappali"," a Ludovika Huszár Lovarda melletti parkolóban",IF(AND(C64="Levelező",B64="RTK")," az Orczy Úti Kollégium",IF(C64="Levelező"," a Ludovika Huszár Lovarda melletti parkolóban",0)))," ") -> a Ludovika Huszár Lovarda melletti parkolóban | N64: =IF(K64="A fentiekre tekintettel parkolási férőhelyre jogosult",IF(C64="Nappali","minden héten hétfő reggel 6:00 órától csütörtök 22:00 óráig.",IF(AND(C64="Levelező",B64="RTK"),"az aktuális képzés időtartama alatt minden héten hétfő reggel 6:00 órától szombat 22:00 óráig.",IF(C64="Levelező","minden héten péntek reggel 6:00 órától szombat 22:00 óráig.",0)))," ") -> minden héten hétfő reggel 6:00 órától csütörtök 22:00 óráig.
A65: 2026/27/1/NKE/PK/79 | B65: NITK | C65: Nappali | D65: nem | E65: 15.9 | F65: =IF(E65>280,15,(IF(E65>260,14,IF(E65>240,13,IF(E65>220,12,IF(E65>200,11,IF(E65>180,10,IF(E65>160,9,IF(E65>140,8,IF(E65>120,7,IF(E65>100,6,IF(E65>80,5,IF(E65>60,4,IF(E65>40,3,IF(E65>20,2,IF(E65>0,1,0))))))))))))))))+IF(D65="igen",5,0) -> 1 | G65: 33.5 | H65: =IF(G65>225,15,(IF(G65>210,14,IF(G65>195,13,IF(G65>180,12,IF(G65>165,11,IF(G65>150,10,IF(G65>135,9,IF(G65>120,8,IF(G65>105,7,IF(G65>90,6,IF(G65>75,5,IF(G65>60,4,IF(G65>45,3,IF(G65>30,2,IF(G65>0,1,0)))))))))))))))) -> 2 | I65: =SUM(F65,H65) -> 3 | J65: 4 | K65: A fentiekre tekintettel férőhelyhiány miatt várólistára került. | M65: =IF(K65="A fentiekre tekintettel parkolási férőhelyre jogosult",IF(C65="Nappali"," a Ludovika Huszár Lovarda melletti parkolóban",IF(AND(C65="Levelező",B65="RTK")," az Orczy Úti Kollégium",IF(C65="Levelező"," a Ludovika Huszár Lovarda melletti parkolóban",0)))," ") | N65: =IF(K65="A fentiekre tekintettel parkolási férőhelyre jogosult",IF(C65="Nappali","minden héten hétfő reggel 6:00 órától csütörtök 22:00 óráig.",IF(AND(C65="Levelező",B65="RTK"),"az aktuális képzés időtartama alatt minden héten hétfő reggel 6:00 órától szombat 22:00 óráig.",IF(C65="Levelező","minden héten péntek reggel 6:00 órától szombat 22:00 óráig.",0)))," ")
A66: 2026/27/1/NKE/PK/126 | B66: NITK | C66: Nappali | D66: nem | E66: 0 | F66: =IF(E66>280,15,(IF(E66>260,14,IF(E66>240,13,IF(E66>220,12,IF(E66>200,11,IF(E66>180,10,IF(E66>160,9,IF(E66>140,8,IF(E66>120,7,IF(E66>100,6,IF(E66>80,5,IF(E66>60,4,IF(E66>40,3,IF(E66>20,2,IF(E66>0,1,0))))))))))))))))+IF(D66="igen",5,0) -> 0 | G66: 0 | H66: =IF(G66>225,15,(IF(G66>210,14,IF(G66>195,13,IF(G66>180,12,IF(G66>165,11,IF(G66>150,10,IF(G66>135,9,IF(G66>120,8,IF(G66>105,7,IF(G66>90,6,IF(G66>75,5,IF(G66>60,4,IF(G66>45,3,IF(G66>30,2,IF(G66>0,1,0)))))))))))))))) -> 0 | I66: =SUM(F66,H66) -> 0 | K66: Kollégiumi férőhellyel rendelkezik | M66: =IF(K66="A fentiekre tekintettel parkolási férőhelyre jogosult",IF(C66="Nappali"," a Ludovika Huszár Lovarda melletti parkolóban",IF(AND(C66="Levelező",B66="RTK")," az Orczy Úti Kollégium",IF(C66="Levelező"," a Ludovika Huszár Lovarda melletti parkolóban",0)))," ") | N66: =IF(K66="A fentiekre tekintettel parkolási férőhelyre jogosult",IF(C66="Nappali","minden héten hétfő reggel 6:00 órától csütörtök 22:00 óráig.",IF(AND(C66="Levelező",B66="RTK"),"az aktuális képzés időtartama alatt minden héten hétfő reggel 6:00 órától szombat 22:00 óráig.",IF(C66="Levelező","minden héten péntek reggel 6:00 órától szombat 22:00 óráig.",0)))," ")
A67: 2026/27/1/NKE/PK/127 | B67: NITK | C67: Nappali | D67: nem | E67: 0 | F67: =IF(E67>280,15,(IF(E67>260,14,IF(E67>240,13,IF(E67>220,12,IF(E67>200,11,IF(E67>180,10,IF(E67>160,9,IF(E67>140,8,IF(E67>120,7,IF(E67>100,6,IF(E67>80,5,IF(E67>60,4,IF(E67>40,3,IF(E67>20,2,IF(E67>0,1,0))))))))))))))))+IF(D67="igen",5,0) -> 0 | G67: 0 | H67: =IF(G67>225,15,(IF(G67>210,14,IF(G67>195,13,IF(G67>180,12,IF(G67>165,11,IF(G67>150,10,IF(G67>135,9,IF(G67>120,8,IF(G67>105,7,IF(G67>90,6,IF(G67>75,5,IF(G67>60,4,IF(G67>45,3,IF(G67>30,2,IF(G67>0,1,0)))))))))))))))) -> 0 | I67: =SUM(F67,H67) -> 0 | K67: Kollégiumi férőhellyel rendelkezik | M67: =IF(K67="A fentiekre tekintettel parkolási férőhelyre jogosult",IF(C67="Nappali"," a Ludovika Huszár Lovarda melletti parkolóban",IF(AND(C67="Levelező",B67="RTK")," az Orczy Úti Kollégium",IF(C67="Levelező"," a Ludovika Huszár Lovarda melletti parkolóban",0)))," ") | N67: =IF(K67="A fentiekre tekintettel parkolási férőhelyre jogosult",IF(C67="Nappali","minden héten hétfő reggel 6:00 órától csütörtök 22:00 óráig.",IF(AND(C67="Levelező",B67="RTK"),"az aktuális képzés időtartama alatt minden héten hétfő reggel 6:00 órától szombat 22:00 óráig.",IF(C67="Levelező","minden héten péntek reggel 6:00 órától szombat 22:00 óráig.",0)))," ")
A68: 2026/27/1/NKE/PK/63 | B68: NITK | C68: Levelező | D68: nem | E68: 44.7 | F68: =IF(E68>280,15,(IF(E68>260,14,IF(E68>240,13,IF(E68>220,12,IF(E68>200,11,IF(E68>180,10,IF(E68>160,9,IF(E68>140,8,IF(E68>120,7,IF(E68>100,6,IF(E68>80,5,IF(E68>60,4,IF(E68>40,3,IF(E68>20,2,IF(E68>0,1,0))))))))))))))))+IF(D68="igen",5,0) -> 3 | G68: 60 | H68: =IF(G68>225,15,(IF(G68>210,14,IF(G68>195,13,IF(G68>180,12,IF(G68>165,11,IF(G68>150,10,IF(G68>135,9,IF(G68>120,8,IF(G68>105,7,IF(G68>90,6,IF(G68>75,5,IF(G68>60,4,IF(G68>45,3,IF(G68>30,2,IF(G68>0,1,0)))))))))))))))) -> 3 | I68: =SUM(F68,H68) -> 6 | J68: 6 | K68: A fentiekre tekintettel parkolási férőhelyre jogosult | M68: =IF(K68="A fentiekre tekintettel parkolási férőhelyre jogosult",IF(C68="Nappali"," a Ludovika Huszár Lovarda melletti parkolóban",IF(AND(C68="Levelező",B68="RTK")," az Orczy Úti Kollégium",IF(C68="Levelező"," a Ludovika Huszár Lovarda melletti parkolóban",0)))," ") -> a Ludovika Huszár Lovarda melletti parkolóban | N68: =IF(K68="A fentiekre tekintettel parkolási férőhelyre jogosult",IF(C68="Nappali","minden héten hétfő reggel 6:00 órától csütörtök 22:00 óráig.",IF(AND(C68="Levelező",B68="RTK"),"az aktuális képzés időtartama alatt minden héten hétfő reggel 6:00 órától szombat 22:00 óráig.",IF(C68="Levelező","minden héten péntek reggel 6:00 órától szombat 22:00 óráig.",0)))," ") -> minden héten péntek reggel 6:00 órától szombat 22:00 óráig.
A69: 2026/27/1/NKE/PK/57 | B69: HHK | C69: Nappali | D69: nem | E69: 36.5 | F69: =IF(E69>280,15,(IF(E69>260,14,IF(E69>240,13,IF(E69>220,12,IF(E69>200,11,IF(E69>180,10,IF(E69>160,9,IF(E69>140,8,IF(E69>120,7,IF(E69>100,6,IF(E69>80,5,IF(E69>60,4,IF(E69>40,3,IF(E69>20,2,IF(E69>0,1,0))))))))))))))))+IF(D69="igen",5,0) -> 2 | G69: 60 | H69: =IF(G69>225,15,(IF(G69>210,14,IF(G69>195,13,IF(G69>180,12,IF(G69>165,11,IF(G69>150,10,IF(G69>135,9,IF(G69>120,8,IF(G69>105,7,IF(G69>90,6,IF(G69>75,5,IF(G69>60,4,IF(G69>45,3,IF(G69>30,2,IF(G69>0,1,0)))))))))))))))) -> 3 | I69: =SUM(F69,H69) -> 5 | J69: 3 | K69: A fentiekre tekintettel parkolási férőhelyre jogosult | M69: =IF(K69="A fentiekre tekintettel parkolási férőhelyre jogosult",IF(C69="Nappali"," a Ludovika Huszár Lovarda melletti parkolóban",IF(AND(C69="Levelező",B69="RTK")," az Orczy Úti Kollégium",IF(C69="Levelező"," a Ludovika Huszár Lovarda melletti parkolóban",0)))," ") -> a Ludovika Huszár Lovarda melletti parkolóban | N69: =IF(K69="A fentiekre tekintettel parkolási férőhelyre jogosult",IF(C69="Nappali","minden héten hétfő reggel 6:00 órától csütörtök 22:00 óráig.",IF(AND(C69="Levelező",B69="RTK"),"az aktuális képzés időtartama alatt minden héten hétfő reggel 6:00 órától szombat 22:00 óráig.",IF(C69="Levelező","minden héten péntek reggel 6:00 órától szombat 22:00 óráig.",0)))," ") -> minden héten hétfő reggel 6:00 órától csütörtök 22:00 óráig.
A70: 2026/27/1/NKE/PK/19 | B70: HHK | C70: Nappali | D70: nem | E70: 11.7 | F70: =IF(E70>280,15,(IF(E70>260,14,IF(E70>240,13,IF(E70>220,12,IF(E70>200,11,IF(E70>180,10,IF(E70>160,9,IF(E70>140,8,IF(E70>120,7,IF(E70>100,6,IF(E70>80,5,IF(E70>60,4,IF(E70>40,3,IF(E70>20,2,IF(E70>0,1,0))))))))))))))))+IF(D70="igen",5,0) -> 1 | G70: 30.5 | H70: =IF(G70>225,15,(IF(G70>210,14,IF(G70>195,13,IF(G70>180,12,IF(G70>165,11,IF(G70>150,10,IF(G70>135,9,IF(G70>120,8,IF(G70>105,7,IF(G70>90,6,IF(G70>75,5,IF(G70>60,4,IF(G70>45,3,IF(G70>30,2,IF(G70>0,1,0)))))))))))))))) -> 2 | I70: =SUM(F70,H70) -> 3 | J70: 3 | K70: A fentiekre tekintettel parkolási férőhelyre jogosult | M70: =IF(K70="A fentiekre tekintettel parkolási férőhelyre jogosult",IF(C70="Nappali"," a Ludovika Huszár Lovarda melletti parkolóban",IF(AND(C70="Levelező",B70="RTK")," az Orczy Úti Kollégium",IF(C70="Levelező"," a Ludovika Huszár Lovarda melletti parkolóban",0)))," ") -> a Ludovika Huszár Lovarda melletti parkolóban | N70: =IF(K70="A fentiekre tekintettel parkolási férőhelyre jogosult",IF(C70="Nappali","minden héten hétfő reggel 6:00 órától csütörtök 22:00 óráig.",IF(AND(C70="Levelező",B70="RTK"),"az aktuális képzés időtartama alatt minden héten hétfő reggel 6:00 órától szombat 22:00 óráig.",IF(C70="Levelező","minden héten péntek reggel 6:00 órától szombat 22:00 óráig.",0)))," ") -> minden héten hétfő reggel 6:00 órától csütörtök 22:00 óráig.
A71: 2026/27/1/NKE/PK/138 | B71: HHK | C71: Nappali | D71: nem | E71: 16.7 | F71: =IF(E71>280,15,(IF(E71>260,14,IF(E71>240,13,IF(E71>220,12,IF(E71>200,11,IF(E71>180,10,IF(E71>160,9,IF(E71>140,8,IF(E71>120,7,IF(E71>100,6,IF(E71>80,5,IF(E71>60,4,IF(E71>40,3,IF(E71>20,2,IF(E71>0,1,0))))))))))))))))+IF(D71="igen",5,0) -> 1 | G71: 36 | H71: =IF(G71>225,15,(IF(G71>210,14,IF(G71>195,13,IF(G71>180,12,IF(G71>165,11,IF(G71>150,10,IF(G71>135,9,IF(G71>120,8,IF(G71>105,7,IF(G71>90,6,IF(G71>75,5,IF(G71>60,4,IF(G71>45,3,IF(G71>30,2,IF(G71>0,1,0)))))))))))))))) -> 2 | I71: =SUM(F71,H71) -> 3 | J71: 3 | K71: A fentiekre tekintettel parkolási férőhelyre jogosult | M71: =IF(K71="A fentiekre tekintettel parkolási férőhelyre jogosult",IF(C71="Nappali"," a Ludovika Huszár Lovarda melletti parkolóban",IF(AND(C71="Levelező",B71="RTK")," az Orczy Úti Kollégium",IF(C71="Levelező"," a Ludovika Huszár Lovarda melletti parkolóban",0)))," ") -> a Ludovika Huszár Lovarda melletti parkolóban | N71: =IF(K71="A fentiekre tekintettel parkolási férőhelyre jogosult",IF(C71="Nappali","minden héten hétfő reggel 6:00 órától csütörtök 22:00 óráig.",IF(AND(C71="Levelező",B71="RTK"),"az aktuális képzés időtartama alatt minden héten hétfő reggel 6:00 órától szombat 22:00 óráig.",IF(C71="Levelező","minden héten péntek reggel 6:00 órától szombat 22:00 óráig.",0)))," ") -> minden héten hétfő reggel 6:00 órától csütörtök 22:00 óráig.
A72: 2026/27/1/NKE/PK/102 | B72: HHK | C72: Nappali | D72: nem | E72: 0 | F72: =IF(E72>280,15,(IF(E72>260,14,IF(E72>240,13,IF(E72>220,12,IF(E72>200,11,IF(E72>180,10,IF(E72>160,9,IF(E72>140,8,IF(E72>120,7,IF(E72>100,6,IF(E72>80,5,IF(E72>60,4,IF(E72>40,3,IF(E72>20,2,IF(E72>0,1,0))))))))))))))))+IF(D72="igen",5,0) -> 0 | G72: 0 | H72: =IF(G72>225,15,(IF(G72>210,14,IF(G72>195,13,IF(G72>180,12,IF(G72>165,11,IF(G72>150,10,IF(G72>135,9,IF(G72>120,8,IF(G72>105,7,IF(G72>90,6,IF(G72>75,5,IF(G72>60,4,IF(G72>45,3,IF(G72>30,2,IF(G72>0,1,0)))))))))))))))) -> 0 | I72: =SUM(F72,H72) -> 0 | K72: A fentiekre tekintettel a kérelme elutasításra került. | M72: =IF(K72="A fentiekre tekintettel parkolási férőhelyre jogosult",IF(C72="Nappali"," a Ludovika Huszár Lovarda melletti parkolóban",IF(AND(C72="Levelező",B72="RTK")," az Orczy Úti Kollégium",IF(C72="Levelező"," a Ludovika Huszár Lovarda melletti parkolóban",0)))," ") | N72: =IF(K72="A fentiekre tekintettel parkolási férőhelyre jogosult",IF(C72="Nappali","minden héten hétfő reggel 6:00 órától csütörtök 22:00 óráig.",IF(AND(C72="Levelező",B72="RTK"),"az aktuális képzés időtartama alatt minden héten hétfő reggel 6:00 órától szombat 22:00 óráig.",IF(C72="Levelező","minden héten péntek reggel 6:00 órától szombat 22:00 óráig.",0)))," ")
A73: 2026/27/1/NKE/PK/92 | B73: HHK | C73: Levelező | D73: nem | E73: 226 | F73: =IF(E73>280,15,(IF(E73>260,14,IF(E73>240,13,IF(E73>220,12,IF(E73>200,11,IF(E73>180,10,IF(E73>160,9,IF(E73>140,8,IF(E73>120,7,IF(E73>100,6,IF(E73>80,5,IF(E73>60,4,IF(E73>40,3,IF(E73>20,2,IF(E73>0,1,0))))))))))))))))+IF(D73="igen",5,0) -> 12 | G73: 165 | H73: =IF(G73>225,15,(IF(G73>210,14,IF(G73>195,13,IF(G73>180,12,IF(G73>165,11,IF(G73>150,10,IF(G73>135,9,IF(G73>120,8,IF(G73>105,7,IF(G73>90,6,IF(G73>75,5,IF(G73>60,4,IF(G73>45,3,IF(G73>30,2,IF(G73>0,1,0)))))))))))))))) -> 10 | I73: =SUM(F73,H73) -> 22 | J73: 22 | K73: A fentiekre tekintettel parkolási férőhelyre jogosult | M73: =IF(K73="A fentiekre tekintettel parkolási férőhelyre jogosult",IF(C73="Nappali"," a Ludovika Huszár Lovarda melletti parkolóban",IF(AND(C73="Levelező",B73="RTK")," az Orczy Úti Kollégium",IF(C73="Levelező"," a Ludovika Huszár Lovarda melletti parkolóban",0)))," ") -> a Ludovika Huszár Lovarda melletti parkolóban | N73: =IF(K73="A fentiekre tekintettel parkolási férőhelyre jogosult",IF(C73="Nappali","minden héten hétfő reggel 6:00 órától csütörtök 22:00 óráig.",IF(AND(C73="Levelező",B73="RTK"),"az aktuális képzés időtartama alatt minden héten hétfő reggel 6:00 órától szombat 22:00 óráig.",IF(C73="Levelező","minden héten péntek reggel 6:00 órától szombat 22:00 óráig.",0)))," ") -> minden héten péntek reggel 6:00 órától szombat 22:00 óráig.
A74: 2026/27/1/NKE/PK/109 | B74: ÁNTK | C74: Nappali | D74: nem | E74: 216 | F74: =IF(E74>280,15,(IF(E74>260,14,IF(E74>240,13,IF(E74>220,12,IF(E74>200,11,IF(E74>180,10,IF(E74>160,9,IF(E74>140,8,IF(E74>120,7,IF(E74>100,6,IF(E74>80,5,IF(E74>60,4,IF(E74>40,3,IF(E74>20,2,IF(E74>0,1,0))))))))))))))))+IF(D74="igen",5,0) -> 11 | G74: 145 | H74: =IF(G74>225,15,(IF(G74>210,14,IF(G74>195,13,IF(G74>180,12,IF(G74>165,11,IF(G74>150,10,IF(G74>135,9,IF(G74>120,8,IF(G74>105,7,IF(G74>90,6,IF(G74>75,5,IF(G74>60,4,IF(G74>45,3,IF(G74>30,2,IF(G74>0,1,0)))))))))))))))) -> 9 | I74: =SUM(F74,H74) -> 20 | J74: 4 | K74: A fentiekre tekintettel parkolási férőhelyre jogosult | M74: =IF(K74="A fentiekre tekintettel parkolási férőhelyre jogosult",IF(C74="Nappali"," a Ludovika Huszár Lovarda melletti parkolóban",IF(AND(C74="Levelező",B74="RTK")," az Orczy Úti Kollégium",IF(C74="Levelező"," a Ludovika Huszár Lovarda melletti parkolóban",0)))," ") -> a Ludovika Huszár Lovarda melletti parkolóban | N74: =IF(K74="A fentiekre tekintettel parkolási férőhelyre jogosult",IF(C74="Nappali","minden héten hétfő reggel 6:00 órától csütörtök 22:00 óráig.",IF(AND(C74="Levelező",B74="RTK"),"az aktuális képzés időtartama alatt minden héten hétfő reggel 6:00 órától szombat 22:00 óráig.",IF(C74="Levelező","minden héten péntek reggel 6:00 órától szombat 22:00 óráig.",0)))," ") -> minden héten hétfő reggel 6:00 órától csütörtök 22:00 óráig.
A75: 2026/27/1/NKE/PK/62 | B75: ÁNTK | C75: Nappali | D75: nem | E75: 185 | F75: =IF(E75>280,15,(IF(E75>260,14,IF(E75>240,13,IF(E75>220,12,IF(E75>200,11,IF(E75>180,10,IF(E75>160,9,IF(E75>140,8,IF(E75>120,7,IF(E75>100,6,IF(E75>80,5,IF(E75>60,4,IF(E75>40,3,IF(E75>20,2,IF(E75>0,1,0))))))))))))))))+IF(D75="igen",5,0) -> 10 | G75: 145 | H75: =IF(G75>225,15,(IF(G75>210,14,IF(G75>195,13,IF(G75>180,12,IF(G75>165,11,IF(G75>150,10,IF(G75>135,9,IF(G75>120,8,IF(G75>105,7,IF(G75>90,6,IF(G75>75,5,IF(G75>60,4,IF(G75>45,3,IF(G75>30,2,IF(G75>0,1,0)))))))))))))))) -> 9 | I75: =SUM(F75,H75) -> 19 | J75: 4 | K75: A fentiekre tekintettel parkolási férőhelyre jogosult | M75: =IF(K75="A fentiekre tekintettel parkolási férőhelyre jogosult",IF(C75="Nappali"," a Ludovika Huszár Lovarda melletti parkolóban",IF(AND(C75="Levelező",B75="RTK")," az Orczy Úti Kollégium",IF(C75="Levelező"," a Ludovika Huszár Lovarda melletti parkolóban",0)))," ") -> a Ludovika Huszár Lovarda melletti parkolóban | N75: =IF(K75="A fentiekre tekintettel parkolási férőhelyre jogosult",IF(C75="Nappali","minden héten hétfő reggel 6:00 órától csütörtök 22:00 óráig.",IF(AND(C75="Levelező",B75="RTK"),"az aktuális képzés időtartama alatt minden héten hétfő reggel 6:00 órától szombat 22:00 óráig.",IF(C75="Levelező","minden héten péntek reggel 6:00 órától szombat 22:00 óráig.",0)))," ") -> minden héten hétfő reggel 6:00 órától csütörtök 22:00 óráig.
A76: 2026/27/1/NKE/PK/123 | B76: ÁNTK | C76: Nappali | D76: nem | E76: 188 | F76: =IF(E76>280,15,(IF(E76>260,14,IF(E76>240,13,IF(E76>220,12,IF(E76>200,11,IF(E76>180,10,IF(E76>160,9,IF(E76>140,8,IF(E76>120,7,IF(E76>100,6,IF(E76>80,5,IF(E76>60,4,IF(E76>40,3,IF(E76>20,2,IF(E76>0,1,0))))))))))))))))+IF(D76="igen",5,0) -> 10 | G76: 125 | H76: =IF(G76>225,15,(IF(G76>210,14,IF(G76>195,13,IF(G76>180,12,IF(G76>165,11,IF(G76>150,10,IF(G76>135,9,IF(G76>120,8,IF(G76>105,7,IF(G76>90,6,IF(G76>75,5,IF(G76>60,4,IF(G76>45,3,IF(G76>30,2,IF(G76>0,1,0)))))))))))))))) -> 8 | I76: =SUM(F76,H76) -> 18 | J76: 4 | K76: A fentiekre tekintettel parkolási férőhelyre jogosult | M76: =IF(K76="A fentiekre tekintettel parkolási férőhelyre jogosult",IF(C76="Nappali"," a Ludovika Huszár Lovarda melletti parkolóban",IF(AND(C76="Levelező",B76="RTK")," az Orczy Úti Kollégium",IF(C76="Levelező"," a Ludovika Huszár Lovarda melletti parkolóban",0)))," ") -> a Ludovika Huszár Lovarda melletti parkolóban | N76: =IF(K76="A fentiekre tekintettel parkolási férőhelyre jogosult",IF(C76="Nappali","minden héten hétfő reggel 6:00 órától csütörtök 22:00 óráig.",IF(AND(C76="Levelező",B76="RTK"),"az aktuális képzés időtartama alatt minden héten hétfő reggel 6:00 órától szombat 22:00 óráig.",IF(C76="Levelező","minden héten péntek reggel 6:00 órától szombat 22:00 óráig.",0)))," ") -> minden héten hétfő reggel 6:00 órától csütörtök 22:00 óráig.
A77: 2026/27/1/NKE/PK/61 | B77: ÁNTK | C77: Nappali | D77: nem | E77: 122 | F77: =IF(E77>280,15,(IF(E77>260,14,IF(E77>240,13,IF(E77>220,12,IF(E77>200,11,IF(E77>180,10,IF(E77>160,9,IF(E77>140,8,IF(E77>120,7,IF(E77>100,6,IF(E77>80,5,IF(E77>60,4,IF(E77>40,3,IF(E77>20,2,IF(E77>0,1,0))))))))))))))))+IF(D77="igen",5,0) -> 7 | G77: 92.5 | H77: =IF(G77>225,15,(IF(G77>210,14,IF(G77>195,13,IF(G77>180,12,IF(G77>165,11,IF(G77>150,10,IF(G77>135,9,IF(G77>120,8,IF(G77>105,7,IF(G77>90,6,IF(G77>75,5,IF(G77>60,4,IF(G77>45,3,IF(G77>30,2,IF(G77>0,1,0)))))))))))))))) -> 6 | I77: =SUM(F77,H77) -> 13 | J77: 4 | K77: A fentiekre tekintettel parkolási férőhelyre jogosult | M77: =IF(K77="A fentiekre tekintettel parkolási férőhelyre jogosult",IF(C77="Nappali"," a Ludovika Huszár Lovarda melletti parkolóban",IF(AND(C77="Levelező",B77="RTK")," az Orczy Úti Kollégium",IF(C77="Levelező"," a Ludovika Huszár Lovarda melletti parkolóban",0)))," ") -> a Ludovika Huszár Lovarda melletti parkolóban | N77: =IF(K77="A fentiekre tekintettel parkolási férőhelyre jogosult",IF(C77="Nappali","minden héten hétfő reggel 6:00 órától csütörtök 22:00 óráig.",IF(AND(C77="Levelező",B77="RTK"),"az aktuális képzés időtartama alatt minden héten hétfő reggel 6:00 órától szombat 22:00 óráig.",IF(C77="Levelező","minden héten péntek reggel 6:00 órától szombat 22:00 óráig.",0)))," ") -> minden héten hétfő reggel 6:00 órától csütörtök 22:00 óráig.
A78: 2026/27/1/NKE/PK/74 | B78: ÁNTK | C78: Nappali | D78: nem | E78: 110 | F78: =IF(E78>280,15,(IF(E78>260,14,IF(E78>240,13,IF(E78>220,12,IF(E78>200,11,IF(E78>180,10,IF(E78>160,9,IF(E78>140,8,IF(E78>120,7,IF(E78>100,6,IF(E78>80,5,IF(E78>60,4,IF(E78>40,3,IF(E78>20,2,IF(E78>0,1,0))))))))))))))))+IF(D78="igen",5,0) -> 6 | G78: 95 | H78: =IF(G78>225,15,(IF(G78>210,14,IF(G78>195,13,IF(G78>180,12,IF(G78>165,11,IF(G78>150,10,IF(G78>135,9,IF(G78>120,8,IF(G78>105,7,IF(G78>90,6,IF(G78>75,5,IF(G78>60,4,IF(G78>45,3,IF(G78>30,2,IF(G78>0,1,0)))))))))))))))) -> 6 | I78: =SUM(F78,H78) -> 12 | J78: 4 | K78: A fentiekre tekintettel parkolási férőhelyre jogosult | M78: =IF(K78="A fentiekre tekintettel parkolási férőhelyre jogosult",IF(C78="Nappali"," a Ludovika Huszár Lovarda melletti parkolóban",IF(AND(C78="Levelező",B78="RTK")," az Orczy Úti Kollégium",IF(C78="Levelező"," a Ludovika Huszár Lovarda melletti parkolóban",0)))," ") -> a Ludovika Huszár Lovarda melletti parkolóban | N78: =IF(K78="A fentiekre tekintettel parkolási férőhelyre jogosult",IF(C78="Nappali","minden héten hétfő reggel 6:00 órától csütörtök 22:00 óráig.",IF(AND(C78="Levelező",B78="RTK"),"az aktuális képzés időtartama alatt minden héten hétfő reggel 6:00 órától szombat 22:00 óráig.",IF(C78="Levelező","minden héten péntek reggel 6:00 órától szombat 22:00 óráig.",0)))," ") -> minden héten hétfő reggel 6:00 órától csütörtök 22:00 óráig.
A79: 2026/27/1/NKE/PK/104 | B79: ÁNTK | C79: Nappali | D79: nem | E79: 103 | F79: =IF(E79>280,15,(IF(E79>260,14,IF(E79>240,13,IF(E79>220,12,IF(E79>200,11,IF(E79>180,10,IF(E79>160,9,IF(E79>140,8,IF(E79>120,7,IF(E79>100,6,IF(E79>80,5,IF(E79>60,4,IF(E79>40,3,IF(E79>20,2,IF(E79>0,1,0))))))))))))))))+IF(D79="igen",5,0) -> 6 | G79: 105 | H79: =IF(G79>225,15,(IF(G79>210,14,IF(G79>195,13,IF(G79>180,12,IF(G79>165,11,IF(G79>150,10,IF(G79>135,9,IF(G79>120,8,IF(G79>105,7,IF(G79>90,6,IF(G79>75,5,IF(G79>60,4,IF(G79>45,3,IF(G79>30,2,IF(G79>0,1,0)))))))))))))))) -> 6 | I79: =SUM(F79,H79) -> 12 | J79: 4 | K79: A fentiekre tekintettel parkolási férőhelyre jogosult | M79: =IF(K79="A fentiekre tekintettel parkolási férőhelyre jogosult",IF(C79="Nappali"," a Ludovika Huszár Lovarda melletti parkolóban",IF(AND(C79="Levelező",B79="RTK")," az Orczy Úti Kollégium",IF(C79="Levelező"," a Ludovika Huszár Lovarda melletti parkolóban",0)))," ") -> a Ludovika Huszár Lovarda melletti parkolóban | N79: =IF(K79="A fentiekre tekintettel parkolási férőhelyre jogosult",IF(C79="Nappali","minden héten hétfő reggel 6:00 órától csütörtök 22:00 óráig.",IF(AND(C79="Levelező",B79="RTK"),"az aktuális képzés időtartama alatt minden héten hétfő reggel 6:00 órától szombat 22:00 óráig.",IF(C79="Levelező","minden héten péntek reggel 6:00 órától szombat 22:00 óráig.",0)))," ") -> minden héten hétfő reggel 6:00 órától csütörtök 22:00 óráig.
A80: 2026/27/1/NKE/PK/46 | B80: ÁNTK | C80: Nappali | D80: nem | E80: 28 | F80: =IF(E80>280,15,(IF(E80>260,14,IF(E80>240,13,IF(E80>220,12,IF(E80>200,11,IF(E80>180,10,IF(E80>160,9,IF(E80>140,8,IF(E80>120,7,IF(E80>100,6,IF(E80>80,5,IF(E80>60,4,IF(E80>40,3,IF(E80>20,2,IF(E80>0,1,0))))))))))))))))+IF(D80="igen",5,0) -> 2 | G80: 50 | H80: =IF(G80>225,15,(IF(G80>210,14,IF(G80>195,13,IF(G80>180,12,IF(G80>165,11,IF(G80>150,10,IF(G80>135,9,IF(G80>120,8,IF(G80>105,7,IF(G80>90,6,IF(G80>75,5,IF(G80>60,4,IF(G80>45,3,IF(G80>30,2,IF(G80>0,1,0)))))))))))))))) -> 3 | I80: =SUM(F80,H80) -> 5 | J80: 4 | K80: A fentiekre tekintettel parkolási férőhelyre jogosult | M80: =IF(K80="A fentiekre tekintettel parkolási férőhelyre jogosult",IF(C80="Nappali"," a Ludovika Huszár Lovarda melletti parkolóban",IF(AND(C80="Levelező",B80="RTK")," az Orczy Úti Kollégium",IF(C80="Levelező"," a Ludovika Huszár Lovarda melletti parkolóban",0)))," ") -> a Ludovika Huszár Lovarda melletti parkolóban | N80: =IF(K80="A fentiekre tekintettel parkolási férőhelyre jogosult",IF(C80="Nappali","minden héten hétfő reggel 6:00 órától csütörtök 22:00 óráig.",IF(AND(C80="Levelező",B80="RTK"),"az aktuális képzés időtartama alatt minden héten hétfő reggel 6:00 órától szombat 22:00 óráig.",IF(C80="Levelező","minden héten péntek reggel 6:00 órától szombat 22:00 óráig.",0)))," ") -> minden héten hétfő reggel 6:00 órától csütörtök 22:00 óráig.
A81: 2026/27/1/NKE/PK/113 | B81: ÁNTK | C81: Nappali | D81: nem | E81: 35.8 | F81: =IF(E81>280,15,(IF(E81>260,14,IF(E81>240,13,IF(E81>220,12,IF(E81>200,11,IF(E81>180,10,IF(E81>160,9,IF(E81>140,8,IF(E81>120,7,IF(E81>100,6,IF(E81>80,5,IF(E81>60,4,IF(E81>40,3,IF(E81>20,2,IF(E81>0,1,0))))))))))))))))+IF(D81="igen",5,0) -> 2 | G81: 52.5 | H81: =IF(G81>225,15,(IF(G81>210,14,IF(G81>195,13,IF(G81>180,12,IF(G81>165,11,IF(G81>150,10,IF(G81>135,9,IF(G81>120,8,IF(G81>105,7,IF(G81>90,6,IF(G81>75,5,IF(G81>60,4,IF(G81>45,3,IF(G81>30,2,IF(G81>0,1,0)))))))))))))))) -> 3 | I81: =SUM(F81,H81) -> 5 | J81: 4 | K81: A fentiekre tekintettel parkolási férőhelyre jogosult | M81: =IF(K81="A fentiekre tekintettel parkolási férőhelyre jogosult",IF(C81="Nappali"," a Ludovika Huszár Lovarda melletti parkolóban",IF(AND(C81="Levelező",B81="RTK")," az Orczy Úti Kollégium",IF(C81="Levelező"," a Ludovika Huszár Lovarda melletti parkolóban",0)))," ") -> a Ludovika Huszár Lovarda melletti parkolóban | N81: =IF(K81="A fentiekre tekintettel parkolási férőhelyre jogosult",IF(C81="Nappali","minden héten hétfő reggel 6:00 órától csütörtök 22:00 óráig.",IF(AND(C81="Levelező",B81="RTK"),"az aktuális képzés időtartama alatt minden héten hétfő reggel 6:00 órától szombat 22:00 óráig.",IF(C81="Levelező","minden héten péntek reggel 6:00 órától szombat 22:00 óráig.",0)))," ") -> minden héten hétfő reggel 6:00 órától csütörtök 22:00 óráig.
A82: 2026/27/1/NKE/PK/137 | B82: ÁNTK | C82: Nappali | D82: nem | E82: 21.7 | F82: =IF(E82>280,15,(IF(E82>260,14,IF(E82>240,13,IF(E82>220,12,IF(E82>200,11,IF(E82>180,10,IF(E82>160,9,IF(E82>140,8,IF(E82>120,7,IF(E82>100,6,IF(E82>80,5,IF(E82>60,4,IF(E82>40,3,IF(E82>20,2,IF(E82>0,1,0))))))))))))))))+IF(D82="igen",5,0) -> 2 | G82: 55 | H82: =IF(G82>225,15,(IF(G82>210,14,IF(G82>195,13,IF(G82>180,12,IF(G82>165,11,IF(G82>150,10,IF(G82>135,9,IF(G82>120,8,IF(G82>105,7,IF(G82>90,6,IF(G82>75,5,IF(G82>60,4,IF(G82>45,3,IF(G82>30,2,IF(G82>0,1,0)))))))))))))))) -> 3 | I82: =SUM(F82,H82) -> 5 | J82: 4 | K82: A fentiekre tekintettel parkolási férőhelyre jogosult | M82: =IF(K82="A fentiekre tekintettel parkolási férőhelyre jogosult",IF(C82="Nappali"," a Ludovika Huszár Lovarda melletti parkolóban",IF(AND(C82="Levelező",B82="RTK")," az Orczy Úti Kollégium",IF(C82="Levelező"," a Ludovika Huszár Lovarda melletti parkolóban",0)))," ") -> a Ludovika Huszár Lovarda melletti parkolóban | N82: =IF(K82="A fentiekre tekintettel parkolási férőhelyre jogosult",IF(C82="Nappali","minden héten hétfő reggel 6:00 órától csütörtök 22:00 óráig.",IF(AND(C82="Levelező",B82="RTK"),"az aktuális képzés időtartama alatt minden héten hétfő reggel 6:00 órától szombat 22:00 óráig.",IF(C82="Levelező","minden héten péntek reggel 6:00 órától szombat 22:00 óráig.",0)))," ") -> minden héten hétfő reggel 6:00 órától csütörtök 22:00 óráig.
A83: 2026/27/1/NKE/PK/17 | B83: ÁNTK | C83: Nappali | D83: nem | E83: 39 | F83: =IF(E83>280,15,(IF(E83>260,14,IF(E83>240,13,IF(E83>220,12,IF(E83>200,11,IF(E83>180,10,IF(E83>160,9,IF(E83>140,8,IF(E83>120,7,IF(E83>100,6,IF(E83>80,5,IF(E83>60,4,IF(E83>40,3,IF(E83>20,2,IF(E83>0,1,0))))))))))))))))+IF(D83="igen",5,0) -> 2 | G83: 38 | H83: =IF(G83>225,15,(IF(G83>210,14,IF(G83>195,13,IF(G83>180,12,IF(G83>165,11,IF(G83>150,10,IF(G83>135,9,IF(G83>120,8,IF(G83>105,7,IF(G83>90,6,IF(G83>75,5,IF(G83>60,4,IF(G83>45,3,IF(G83>30,2,IF(G83>0,1,0)))))))))))))))) -> 2 | I83: =SUM(F83,H83) -> 4 | J83: 4 | K83: A fentiekre tekintettel parkolási férőhelyre jogosult | M83: =IF(K83="A fentiekre tekintettel parkolási férőhelyre jogosult",IF(C83="Nappali"," a Ludovika Huszár Lovarda melletti parkolóban",IF(AND(C83="Levelező",B83="RTK")," az Orczy Úti Kollégium",IF(C83="Levelező"," a Ludovika Huszár Lovarda melletti parkolóban",0)))," ") -> a Ludovika Huszár Lovarda melletti parkolóban | N83: =IF(K83="A fentiekre tekintettel parkolási férőhelyre jogosult",IF(C83="Nappali","minden héten hétfő reggel 6:00 órától csütörtök 22:00 óráig.",IF(AND(C83="Levelező",B83="RTK"),"az aktuális képzés időtartama alatt minden héten hétfő reggel 6:00 órától szombat 22:00 óráig.",IF(C83="Levelező","minden héten péntek reggel 6:00 órától szombat 22:00 óráig.",0)))," ") -> minden héten hétfő reggel 6:00 órától csütörtök 22:00 óráig.
A84: 2026/27/1/NKE/PK/23 | B84: ÁNTK | C84: Nappali | D84: nem | E84: 21.4 | F84: =IF(E84>280,15,(IF(E84>260,14,IF(E84>240,13,IF(E84>220,12,IF(E84>200,11,IF(E84>180,10,IF(E84>160,9,IF(E84>140,8,IF(E84>120,7,IF(E84>100,6,IF(E84>80,5,IF(E84>60,4,IF(E84>40,3,IF(E84>20,2,IF(E84>0,1,0))))))))))))))))+IF(D84="igen",5,0) -> 2 | G84: 39.5 | H84: =IF(G84>225,15,(IF(G84>210,14,IF(G84>195,13,IF(G84>180,12,IF(G84>165,11,IF(G84>150,10,IF(G84>135,9,IF(G84>120,8,IF(G84>105,7,IF(G84>90,6,IF(G84>75,5,IF(G84>60,4,IF(G84>45,3,IF(G84>30,2,IF(G84>0,1,0)))))))))))))))) -> 2 | I84: =SUM(F84,H84) -> 4 | J84: 4 | K84: A fentiekre tekintettel férőhelyhiány miatt várólistára került. | M84: =IF(K84="A fentiekre tekintettel parkolási férőhelyre jogosult",IF(C84="Nappali"," a Ludovika Huszár Lovarda melletti parkolóban",IF(AND(C84="Levelező",B84="RTK")," az Orczy Úti Kollégium",IF(C84="Levelező"," a Ludovika Huszár Lovarda melletti parkolóban",0)))," ") | N84: =IF(K84="A fentiekre tekintettel parkolási férőhelyre jogosult",IF(C84="Nappali","minden héten hétfő reggel 6:00 órától csütörtök 22:00 óráig.",IF(AND(C84="Levelező",B84="RTK"),"az aktuális képzés időtartama alatt minden héten hétfő reggel 6:00 órától szombat 22:00 óráig.",IF(C84="Levelező","minden héten péntek reggel 6:00 órától szombat 22:00 óráig.",0)))," ")
... A88: 2026/27/1/NKE/PK/120 | B88: ÁNTK | C88: Nappali | D88: nem | E88: 15 | F88: =IF(E88>280,15,(IF(E88>260,14,IF(E88>240,13,IF(E88>220,12,IF(E88>200,11,IF(E88>180,10,IF(E88>160,9,IF(E88>140,8,IF(E88>120,7,IF(E88>100,6,IF(E88>80,5,IF(E88>60,4,IF(E88>40,3,IF(E88>20,2,IF(E88>0,1,0))))))))))))))))+IF(D88="igen",5,0) -> 1 | G88: 30 | H88: =IF(G88>225,15,(IF(G88>210,14,IF(G88>195,13,IF(G88>180,12,IF(G88>165,11,IF(G88>150,10,IF(G88>135,9,IF(G88>120,8,IF(G88>105,7,IF(G88>90,6,IF(G88>75,5,IF(G88>60,4,IF(G88>45,3,IF(G88>30,2,IF(G88>0,1,0)))))))))))))))) -> 1 | I88: =SUM(F88,H88) -> 2 | J88: 4 | K88: A fentiekre tekintettel férőhelyhiány miatt várólistára került. | M88: =IF(K88="A fentiekre tekintettel parkolási férőhelyre jogosult",IF(C88="Nappali"," a Ludovika Huszár Lovarda melletti parkolóban",IF(AND(C88="Levelező",B88="RTK")," az Orczy Úti Kollégium",IF(C88="Levelező"," a Ludovika Huszár Lovarda melletti parkolóban",0)))," ") | N88: =IF(K88="A fentiekre tekintettel parkolási férőhelyre jogosult",IF(C88="Nappali","minden héten hétfő reggel 6:00 órától csütörtök 22:00 óráig.",IF(AND(C88="Levelező",B88="RTK"),"az aktuális képzés időtartama alatt minden héten hétfő reggel 6:00 órától szombat 22:00 óráig.",IF(C88="Levelező","minden héten péntek reggel 6:00 órától szombat 22:00 óráig.",0)))," ")
A89: 2026/27/1/NKE/PK/133 | B89: ÁNTK | C89: Nappali | D89: nem | E89: 0 | F89: =IF(E89>280,15,(IF(E89>260,14,IF(E89>240,13,IF(E89>220,12,IF(E89>200,11,IF(E89>180,10,IF(E89>160,9,IF(E89>140,8,IF(E89>120,7,IF(E89>100,6,IF(E89>80,5,IF(E89>60,4,IF(E89>40,3,IF(E89>20,2,IF(E89>0,1,0))))))))))))))))+IF(D89="igen",5,0) -> 0 | G89: 0 | H89: =IF(G89>225,15,(IF(G89>210,14,IF(G89>195,13,IF(G89>180,12,IF(G89>165,11,IF(G89>150,10,IF(G89>135,9,IF(G89>120,8,IF(G89>105,7,IF(G89>90,6,IF(G89>75,5,IF(G89>60,4,IF(G89>45,3,IF(G89>30,2,IF(G89>0,1,0)))))))))))))))) -> 0 | I89: =SUM(F89,H89) -> 0 | K89: A fentiekre tekintettel a kérelme elutasításra került. | M89: =IF(K89="A fentiekre tekintettel parkolási férőhelyre jogosult",IF(C89="Nappali"," a Ludovika Huszár Lovarda melletti parkolóban",IF(AND(C89="Levelező",B89="RTK")," az Orczy Úti Kollégium",IF(C89="Levelező"," a Ludovika Huszár Lovarda melletti parkolóban",0)))," ") | N89: =IF(K89="A fentiekre tekintettel parkolási férőhelyre jogosult",IF(C89="Nappali","minden héten hétfő reggel 6:00 órától csütörtök 22:00 óráig.",IF(AND(C89="Levelező",B89="RTK"),"az aktuális képzés időtartama alatt minden héten hétfő reggel 6:00 órától szombat 22:00 óráig.",IF(C89="Levelező","minden héten péntek reggel 6:00 órától szombat 22:00 óráig.",0)))," ")
A90: 2026/27/1/NKE/PK/94 | B90: ÁNTK | C90: Levelező | D90: nem | E90: 287 | F90: =IF(E90>280,15,(IF(E90>260,14,IF(E90>240,13,IF(E90>220,12,IF(E90>200,11,IF(E90>180,10,IF(E90>160,9,IF(E90>140,8,IF(E90>120,7,IF(E90>100,6,IF(E90>80,5,IF(E90>60,4,IF(E90>40,3,IF(E90>20,2,IF(E90>0,1,0))))))))))))))))+IF(D90="igen",5,0) -> 15 | G90: 205 | H90: =IF(G90>225,15,(IF(G90>210,14,IF(G90>195,13,IF(G90>180,12,IF(G90>165,11,IF(G90>150,10,IF(G90>135,9,IF(G90>120,8,IF(G90>105,7,IF(G90>90,6,IF(G90>75,5,IF(G90>60,4,IF(G90>45,3,IF(G90>30,2,IF(G90>0,1,0)))))))))))))))) -> 13 | I90: =SUM(F90,H90) -> 28 | J90: 3 | K90: A fentiekre tekintettel parkolási férőhelyre jogosult | M90: =IF(K90="A fentiekre tekintettel parkolási férőhelyre jogosult",IF(C90="Nappali"," a Ludovika Huszár Lovarda melletti parkolóban",IF(AND(C90="Levelező",B90="RTK")," az Orczy Úti Kollégium",IF(C90="Levelező"," a Ludovika Huszár Lovarda melletti parkolóban",0)))," ") -> a Ludovika Huszár Lovarda melletti parkolóban | N90: =IF(K90="A fentiekre tekintettel parkolási férőhelyre jogosult",IF(C90="Nappali","minden héten hétfő reggel 6:00 órától csütörtök 22:00 óráig.",IF(AND(C90="Levelező",B90="RTK"),"az aktuális képzés időtartama alatt minden héten hétfő reggel 6:00 órától szombat 22:00 óráig.",IF(C90="Levelező","minden héten péntek reggel 6:00 órától szombat 22:00 óráig.",0)))," ") -> minden héten péntek reggel 6:00 órától szombat 22:00 óráig.
A91: 2026/27/1/NKE/PK/118 | B91: ÁNTK | C91: Levelező | D91: nem | E91: 250.5 | F91: =IF(E91>280,15,(IF(E91>260,14,IF(E91>240,13,IF(E91>220,12,IF(E91>200,11,IF(E91>180,10,IF(E91>160,9,IF(E91>140,8,IF(E91>120,7,IF(E91>100,6,IF(E91>80,5,IF(E91>60,4,IF(E91>40,3,IF(E91>20,2,IF(E91>0,1,0))))))))))))))))+IF(D91="igen",5,0) -> 13 | G91: 185 | H91: =IF(G91>225,15,(IF(G91>210,14,IF(G91>195,13,IF(G91>180,12,IF(G91>165,11,IF(G91>150,10,IF(G91>135,9,IF(G91>120,8,IF(G91>105,7,IF(G91>90,6,IF(G91>75,5,IF(G91>60,4,IF(G91>45,3,IF(G91>30,2,IF(G91>0,1,0)))))))))))))))) -> 12 | I91: =SUM(F91,H91) -> 25 | J91: 3 | K91: A fentiekre tekintettel parkolási férőhelyre jogosult | M91: =IF(K91="A fentiekre tekintettel parkolási férőhelyre jogosult",IF(C91="Nappali"," a Ludovika Huszár Lovarda melletti parkolóban",IF(AND(C91="Levelező",B91="RTK")," az Orczy Úti Kollégium",IF(C91="Levelező"," a Ludovika Huszár Lovarda melletti parkolóban",0)))," ") -> a Ludovika Huszár Lovarda melletti parkolóban | N91: =IF(K91="A fentiekre tekintettel parkolási férőhelyre jogosult",IF(C91="Nappali","minden héten hétfő reggel 6:00 órától csütörtök 22:00 óráig.",IF(AND(C91="Levelező",B91="RTK"),"az aktuális képzés időtartama alatt minden héten hétfő reggel 6:00 órától szombat 22:00 óráig.",IF(C91="Levelező","minden héten péntek reggel 6:00 órától szombat 22:00 óráig.",0)))," ") -> minden héten péntek reggel 6:00 órától szombat 22:00 óráig.
A92: 2026/27/1/NKE/PK/21 | B92: ÁNTK | C92: Levelező | D92: nem | E92: 236 | F92: =IF(E92>280,15,(IF(E92>260,14,IF(E92>240,13,IF(E92>220,12,IF(E92>200,11,IF(E92>180,10,IF(E92>160,9,IF(E92>140,8,IF(E92>120,7,IF(E92>100,6,IF(E92>80,5,IF(E92>60,4,IF(E92>40,3,IF(E92>20,2,IF(E92>0,1,0))))))))))))))))+IF(D92="igen",5,0) -> 12 | G92: 175 | H92: =IF(G92>225,15,(IF(G92>210,14,IF(G92>195,13,IF(G92>180,12,IF(G92>165,11,IF(G92>150,10,IF(G92>135,9,IF(G92>120,8,IF(G92>105,7,IF(G92>90,6,IF(G92>75,5,IF(G92>60,4,IF(G92>45,3,IF(G92>30,2,IF(G92>0,1,0)))))))))))))))) -> 11 | I92: =SUM(F92,H92) -> 23 | J92: 3 | K92: A fentiekre tekintettel parkolási férőhelyre jogosult | M92: =IF(K92="A fentiekre tekintettel parkolási férőhelyre jogosult",IF(C92="Nappali"," a Ludovika Huszár Lovarda melletti parkolóban",IF(AND(C92="Levelező",B92="RTK")," az Orczy Úti Kollégium",IF(C92="Levelező"," a Ludovika Huszár Lovarda melletti parkolóban",0)))," ") -> a Ludovika Huszár Lovarda melletti parkolóban | N92: =IF(K92="A fentiekre tekintettel parkolási férőhelyre jogosult",IF(C92="Nappali","minden héten hétfő reggel 6:00 órától csütörtök 22:00 óráig.",IF(AND(C92="Levelező",B92="RTK"),"az aktuális képzés időtartama alatt minden héten hétfő reggel 6:00 órától szombat 22:00 óráig.",IF(C92="Levelező","minden héten péntek reggel 6:00 órától szombat 22:00 óráig.",0)))," ") -> minden héten péntek reggel 6:00 órától szombat 22:00 óráig.
A93: 2026/27/1/NKE/PK/26 | B93: ÁNTK | C93: Levelező | D93: nem | E93: 224 | F93: =IF(E93>280,15,(IF(E93>260,14,IF(E93>240,13,IF(E93>220,12,IF(E93>200,11,IF(E93>180,10,IF(E93>160,9,IF(E93>140,8,IF(E93>120,7,IF(E93>100,6,IF(E93>80,5,IF(E93>60,4,IF(E93>40,3,IF(E93>20,2,IF(E93>0,1,0))))))))))))))))+IF(D93="igen",5,0) -> 12 | G93: 170 | H93: =IF(G93>225,15,(IF(G93>210,14,IF(G93>195,13,IF(G93>180,12,IF(G93>165,11,IF(G93>150,10,IF(G93>135,9,IF(G93>120,8,IF(G93>105,7,IF(G93>90,6,IF(G93>75,5,IF(G93>60,4,IF(G93>45,3,IF(G93>30,2,IF(G93>0,1,0)))))))))))))))) -> 11 | I93: =SUM(F93,H93) -> 23 | J93: 3 | K93: A fentiekre tekintettel parkolási férőhelyre jogosult | M93: =IF(K93="A fentiekre tekintettel parkolási férőhelyre jogosult",IF(C93="Nappali"," a Ludovika Huszár Lovarda melletti parkolóban",IF(AND(C93="Levelező",B93="RTK")," az Orczy Úti Kollégium",IF(C93="Levelező"," a Ludovika Huszár Lovarda melletti parkolóban",0)))," ") -> a Ludovika Huszár Lovarda melletti parkolóban | N93: =IF(K93="A fentiekre tekintettel parkolási férőhelyre jogosult",IF(C93="Nappali","minden héten hétfő reggel 6:00 órától csütörtök 22:00 óráig.",IF(AND(C93="Levelező",B93="RTK"),"az aktuális képzés időtartama alatt minden héten hétfő reggel 6:00 órától szombat 22:00 óráig.",IF(C93="Levelező","minden héten péntek reggel 6:00 órától szombat 22:00 óráig.",0)))," ") -> minden héten péntek reggel 6:00 órától szombat 22:00 óráig.
A94: 2026/27/1/NKE/PK/75 | B94: ÁNTK | C94: Levelező | D94: nem | E94: 183.5 | F94: 10 | G94: 185 | H94: =IF(G94>225,15,(IF(G94>210,14,IF(G94>195,13,IF(G94>180,12,IF(G94>165,11,IF(G94>150,10,IF(G94>135,9,IF(G94>120,8,IF(G94>105,7,IF(G94>90,6,IF(G94>75,5,IF(G94>60,4,IF(G94>45,3,IF(G94>30,2,IF(G94>0,1,0)))))))))))))))) -> 12 | I94: =SUM(F94,H94) -> 22 | J94: 3 | K94: A fentiekre tekintettel parkolási férőhelyre jogosult | M94: =IF(K94="A fentiekre tekintettel parkolási férőhelyre jogosult",IF(C94="Nappali"," a Ludovika Huszár Lovarda melletti parkolóban",IF(AND(C94="Levelező",B94="RTK")," az Orczy Úti Kollégium",IF(C94="Levelező"," a Ludovika Huszár Lovarda melletti parkolóban",0)))," ") -> a Ludovika Huszár Lovarda melletti parkolóban | N94: =IF(K94="A fentiekre tekintettel parkolási férőhelyre jogosult",IF(C94="Nappali","minden héten hétfő reggel 6:00 órától csütörtök 22:00 óráig.",IF(AND(C94="Levelező",B94="RTK"),"az aktuális képzés időtartama alatt minden héten hétfő reggel 6:00 órától szombat 22:00 óráig.",IF(C94="Levelező","minden héten péntek reggel 6:00 órától szombat 22:00 óráig.",0)))," ") -> minden héten péntek reggel 6:00 órától szombat 22:00 óráig.
A95: 2026/27/1/NKE/PK/9 | B95: ÁNTK | C95: Levelező | D95: nem | E95: 177.5 | F95: =IF(E95>280,15,(IF(E95>260,14,IF(E95>240,13,IF(E95>220,12,IF(E95>200,11,IF(E95>180,10,IF(E95>160,9,IF(E95>140,8,IF(E95>120,7,IF(E95>100,6,IF(E95>80,5,IF(E95>60,4,IF(E95>40,3,IF(E95>20,2,IF(E95>0,1,0))))))))))))))))+IF(D95="igen",5,0) -> 9 | G95: 190 | H95: =IF(G95>225,15,(IF(G95>210,14,IF(G95>195,13,IF(G95>180,12,IF(G95>165,11,IF(G95>150,10,IF(G95>135,9,IF(G95>120,8,IF(G95>105,7,IF(G95>90,6,IF(G95>75,5,IF(G95>60,4,IF(G95>45,3,IF(G95>30,2,IF(G95>0,1,0)))))))))))))))) -> 12 | I95: =SUM(F95,H95) -> 21 | J95: 3 | K95: A fentiekre tekintettel parkolási férőhelyre jogosult | M95: =IF(K95="A fentiekre tekintettel parkolási férőhelyre jogosult",IF(C95="Nappali"," a Ludovika Huszár Lovarda melletti parkolóban",IF(AND(C95="Levelező",B95="RTK")," az Orczy Úti Kollégium",IF(C95="Levelező"," a Ludovika Huszár Lovarda melletti parkolóban",0)))," ") -> a Ludovika Huszár Lovarda melletti parkolóban | N95: =IF(K95="A fentiekre tekintettel parkolási férőhelyre jogosult",IF(C95="Nappali","minden héten hétfő reggel 6:00 órától csütörtök 22:00 óráig.",IF(AND(C95="Levelező",B95="RTK"),"az aktuális képzés időtartama alatt minden héten hétfő reggel 6:00 órától szombat 22:00 óráig.",IF(C95="Levelező","minden héten péntek reggel 6:00 órától szombat 22:00 óráig.",0)))," ") -> minden héten péntek reggel 6:00 órától szombat 22:00 óráig.
A96: 2026/27/1/NKE/PK/14 | B96: ÁNTK | C96: Levelező | D96: nem | E96: 206 | F96: =IF(E96>280,15,(IF(E96>260,14,IF(E96>240,13,IF(E96>220,12,IF(E96>200,11,IF(E96>180,10,IF(E96>160,9,IF(E96>140,8,IF(E96>120,7,IF(E96>100,6,IF(E96>80,5,IF(E96>60,4,IF(E96>40,3,IF(E96>20,2,IF(E96>0,1,0))))))))))))))))+IF(D96="igen",5,0) -> 11 | G96: 145 | H96: =IF(G96>225,15,(IF(G96>210,14,IF(G96>195,13,IF(G96>180,12,IF(G96>165,11,IF(G96>150,10,IF(G96>135,9,IF(G96>120,8,IF(G96>105,7,IF(G96>90,6,IF(G96>75,5,IF(G96>60,4,IF(G96>45,3,IF(G96>30,2,IF(G96>0,1,0)))))))))))))))) -> 9 | I96: =SUM(F96,H96) -> 20 | J96: 3 | K96: A fentiekre tekintettel parkolási férőhelyre jogosult | M96: =IF(K96="A fentiekre tekintettel parkolási férőhelyre jogosult",IF(C96="Nappali"," a Ludovika Huszár Lovarda melletti parkolóban",IF(AND(C96="Levelező",B96="RTK")," az Orczy Úti Kollégium",IF(C96="Levelező"," a Ludovika Huszár Lovarda melletti parkolóban",0)))," ") -> a Ludovika Huszár Lovarda melletti parkolóban | N96: =IF(K96="A fentiekre tekintettel parkolási férőhelyre jogosult",IF(C96="Nappali","minden héten hétfő reggel 6:00 órától csütörtök 22:00 óráig.",IF(AND(C96="Levelező",B96="RTK"),"az aktuális képzés időtartama alatt minden héten hétfő reggel 6:00 órától szombat 22:00 óráig.",IF(C96="Levelező","minden héten péntek reggel 6:00 órától szombat 22:00 óráig.",0)))," ") -> minden héten péntek reggel 6:00 órától szombat 22:00 óráig.
A97: 2026/27/1/NKE/PK/65 | B97: ÁNTK | C97: Levelező | D97: nem | E97: 204 | F97: =IF(E97>280,15,(IF(E97>260,14,IF(E97>240,13,IF(E97>220,12,IF(E97>200,11,IF(E97>180,10,IF(E97>160,9,IF(E97>140,8,IF(E97>120,7,IF(E97>100,6,IF(E97>80,5,IF(E97>60,4,IF(E97>40,3,IF(E97>20,2,IF(E97>0,1,0))))))))))))))))+IF(D97="igen",5,0) -> 11 | G97: 150 | H97: =IF(G97>225,15,(IF(G97>210,14,IF(G97>195,13,IF(G97>180,12,IF(G97>165,11,IF(G97>150,10,IF(G97>135,9,IF(G97>120,8,IF(G97>105,7,IF(G97>90,6,IF(G97>75,5,IF(G97>60,4,IF(G97>45,3,IF(G97>30,2,IF(G97>0,1,0)))))))))))))))) -> 9 | I97: =SUM(F97,H97) -> 20 | J97: 3 | K97: A fentiekre tekintettel parkolási férőhelyre jogosult | M97: =IF(K97="A fentiekre tekintettel parkolási férőhelyre jogosult",IF(C97="Nappali"," a Ludovika Huszár Lovarda melletti parkolóban",IF(AND(C97="Levelező",B97="RTK")," az Orczy Úti Kollégium",IF(C97="Levelező"," a Ludovika Huszár Lovarda melletti parkolóban",0)))," ") -> a Ludovika Huszár Lovarda melletti parkolóban | N97: =IF(K97="A fentiekre tekintettel parkolási férőhelyre jogosult",IF(C97="Nappali","minden héten hétfő reggel 6:00 órától csütörtök 22:00 óráig.",IF(AND(C97="Levelező",B97="RTK"),"az aktuális képzés időtartama alatt minden héten hétfő reggel 6:00 órától szombat 22:00 óráig.",IF(C97="Levelező","minden héten péntek reggel 6:00 órától szombat 22:00 óráig.",0)))," ") -> minden héten péntek reggel 6:00 órától szombat 22:00 óráig.
A98: 2026/27/1/NKE/PK/78 | B98: ÁNTK | C98: Levelező | D98: nem | E98: 200 | F98: =IF(E98>280,15,(IF(E98>260,14,IF(E98>240,13,IF(E98>220,12,IF(E98>200,11,IF(E98>180,10,IF(E98>160,9,IF(E98>140,8,IF(E98>120,7,IF(E98>100,6,IF(E98>80,5,IF(E98>60,4,IF(E98>40,3,IF(E98>20,2,IF(E98>0,1,0))))))))))))))))+IF(D98="igen",5,0) -> 10 | G98: 135 | H98: =IF(G98>225,15,(IF(G98>210,14,IF(G98>195,13,IF(G98>180,12,IF(G98>165,11,IF(G98>150,10,IF(G98>135,9,IF(G98>120,8,IF(G98>105,7,IF(G98>90,6,IF(G98>75,5,IF(G98>60,4,IF(G98>45,3,IF(G98>30,2,IF(G98>0,1,0)))))))))))))))) -> 8 | I98: =SUM(F98,H98) -> 18 | J98: 3 | K98: A fentiekre tekintettel parkolási férőhelyre jogosult | M98: =IF(K98="A fentiekre tekintettel parkolási férőhelyre jogosult",IF(C98="Nappali"," a Ludovika Huszár Lovarda melletti parkolóban",IF(AND(C98="Levelező",B98="RTK")," az Orczy Úti Kollégium",IF(C98="Levelező"," a Ludovika Huszár Lovarda melletti parkolóban",0)))," ") -> a Ludovika Huszár Lovarda melletti parkolóban | N98: =IF(K98="A fentiekre tekintettel parkolási férőhelyre jogosult",IF(C98="Nappali","minden héten hétfő reggel 6:00 órától csütörtök 22:00 óráig.",IF(AND(C98="Levelező",B98="RTK"),"az aktuális képzés időtartama alatt minden héten hétfő reggel 6:00 órától szombat 22:00 óráig.",IF(C98="Levelező","minden héten péntek reggel 6:00 órától szombat 22:00 óráig.",0)))," ") -> minden héten péntek reggel 6:00 órától szombat 22:00 óráig.
A99: 2026/27/1/NKE/PK/12 | B99: ÁNTK | C99: Levelező | D99: nem | E99: 158 | F99: =IF(E99>280,15,(IF(E99>260,14,IF(E99>240,13,IF(E99>220,12,IF(E99>200,11,IF(E99>180,10,IF(E99>160,9,IF(E99>140,8,IF(E99>120,7,IF(E99>100,6,IF(E99>80,5,IF(E99>60,4,IF(E99>40,3,IF(E99>20,2,IF(E99>0,1,0))))))))))))))))+IF(D99="igen",5,0) -> 8 | G99: 115 | H99: =IF(G99>225,15,(IF(G99>210,14,IF(G99>195,13,IF(G99>180,12,IF(G99>165,11,IF(G99>150,10,IF(G99>135,9,IF(G99>120,8,IF(G99>105,7,IF(G99>90,6,IF(G99>75,5,IF(G99>60,4,IF(G99>45,3,IF(G99>30,2,IF(G99>0,1,0)))))))))))))))) -> 7 | I99: =SUM(F99,H99) -> 15 | J99: 3 | K99: A fentiekre tekintettel parkolási férőhelyre jogosult | M99: =IF(K99="A fentiekre tekintettel parkolási férőhelyre jogosult",IF(C99="Nappali"," a Ludovika Huszár Lovarda melletti parkolóban",IF(AND(C99="Levelező",B99="RTK")," az Orczy Úti Kollégium",IF(C99="Levelező"," a Ludovika Huszár Lovarda melletti parkolóban",0)))," ") -> a Ludovika Huszár Lovarda melletti parkolóban | N99: =IF(K99="A fentiekre tekintettel parkolási férőhelyre jogosult",IF(C99="Nappali","minden héten hétfő reggel 6:00 órától csütörtök 22:00 óráig.",IF(AND(C99="Levelező",B99="RTK"),"az aktuális képzés időtartama alatt minden héten hétfő reggel 6:00 órától szombat 22:00 óráig.",IF(C99="Levelező","minden héten péntek reggel 6:00 órától szombat 22:00 óráig.",0)))," ") -> minden héten péntek reggel 6:00 órától szombat 22:00 óráig.
A100: 2026/27/1/NKE/PK/45 | B100: ÁNTK | C100: Levelező | D100: nem | E100: 129 | F100: =IF(E100>280,15,(IF(E100>260,14,IF(E100>240,13,IF(E100>220,12,IF(E100>200,11,IF(E100>180,10,IF(E100>160,9,IF(E100>140,8,IF(E100>120,7,IF(E100>100,6,IF(E100>80,5,IF(E100>60,4,IF(E100>40,3,IF(E100>20,2,IF(E100>0,1,0))))))))))))))))+IF(D100="igen",5,0) -> 7 | G100: 112.5 | H100: =IF(G100>225,15,(IF(G100>210,14,IF(G100>195,13,IF(G100>180,12,IF(G100>165,11,IF(G100>150,10,IF(G100>135,9,IF(G100>120,8,IF(G100>105,7,IF(G100>90,6,IF(G100>75,5,IF(G100>60,4,IF(G100>45,3,IF(G100>30,2,IF(G100>0,1,0)))))))))))))))) -> 7 | I100: =SUM(F100,H100) -> 14 | J100: 3 | K100: A fentiekre tekintettel parkolási férőhelyre jogosult | M100: =IF(K100="A fentiekre tekintettel parkolási férőhelyre jogosult",IF(C100="Nappali"," a Ludovika Huszár Lovarda melletti parkolóban",IF(AND(C100="Levelező",B100="RTK")," az Orczy Úti Kollégium",IF(C100="Levelező"," a Ludovika Huszár Lovarda melletti parkolóban",0)))," ") -> a Ludovika Huszár Lovarda melletti parkolóban | N100: =IF(K100="A fentiekre tekintettel parkolási férőhelyre jogosult",IF(C100="Nappali","minden héten hétfő reggel 6:00 órától csütörtök 22:00 óráig.",IF(AND(C100="Levelező",B100="RTK"),"az aktuális képzés időtartama alatt minden héten hétfő reggel 6:00 órától szombat 22:00 óráig.",IF(C100="Levelező","minden héten péntek reggel 6:00 órától szombat 22:00 óráig.",0)))," ") -> minden héten péntek reggel 6:00 órától szombat 22:00 óráig.
A101: 2026/27/1/NKE/PK/4 | B101: ÁNTK | C101: Levelező | D101: nem | E101: 115 | F101: =IF(E101>280,15,(IF(E101>260,14,IF(E101>240,13,IF(E101>220,12,IF(E101>200,11,IF(E101>180,10,IF(E101>160,9,IF(E101>140,8,IF(E101>120,7,IF(E101>100,6,IF(E101>80,5,IF(E101>60,4,IF(E101>40,3,IF(E101>20,2,IF(E101>0,1,0))))))))))))))))+IF(D101="igen",5,0) -> 6 | G101: 90 | H101: =IF(G101>225,15,(IF(G101>210,14,IF(G101>195,13,IF(G101>180,12,IF(G101>165,11,IF(G101>150,10,IF(G101>135,9,IF(G101>120,8,IF(G101>105,7,IF(G101>90,6,IF(G101>75,5,IF(G101>60,4,IF(G101>45,3,IF(G101>30,2,IF(G101>0,1,0)))))))))))))))) -> 5 | I101: =SUM(F101,H101) -> 11 | J101: 3 | K101: A fentiekre tekintettel parkolási férőhelyre jogosult | M101: =IF(K101="A fentiekre tekintettel parkolási férőhelyre jogosult",IF(C101="Nappali"," a Ludovika Huszár Lovarda melletti parkolóban",IF(AND(C101="Levelező",B101="RTK")," az Orczy Úti Kollégium",IF(C101="Levelező"," a Ludovika Huszár Lovarda melletti parkolóban",0)))," ") -> a Ludovika Huszár Lovarda melletti parkolóban | N101: =IF(K101="A fentiekre tekintettel parkolási férőhelyre jogosult",IF(C101="Nappali","minden héten hétfő reggel 6:00 órától csütörtök 22:00 óráig.",IF(AND(C101="Levelező",B101="RTK"),"az aktuális képzés időtartama alatt minden héten hétfő reggel 6:00 órától szombat 22:00 óráig.",IF(C101="Levelező","minden héten péntek reggel 6:00 órától szombat 22:00 óráig.",0)))," ") -> minden héten péntek reggel 6:00 órától szombat 22:00 óráig.
A102: 2026/27/1/NKE/PK/2 | B102: ÁNTK | C102: Levelező | D102: nem | E102: 183 | F102: =IF(E102>280,15,(IF(E102>260,14,IF(E102>240,13,IF(E102>220,12,IF(E102>200,11,IF(E102>180,10,IF(E102>160,9,IF(E102>140,8,IF(E102>120,7,IF(E102>100,6,IF(E102>80,5,IF(E102>60,4,IF(E102>40,3,IF(E102>20,2,IF(E102>0,1,0))))))))))))))))+IF(D102="igen",5,0) -> 10 | H102: =IF(G102>225,15,(IF(G102>210,14,IF(G102>195,13,IF(G102>180,12,IF(G102>165,11,IF(G102>150,10,IF(G102>135,9,IF(G102>120,8,IF(G102>105,7,IF(G102>90,6,IF(G102>75,5,IF(G102>60,4,IF(G102>45,3,IF(G102>30,2,IF(G102>0,1,0)))))))))))))))) -> 0 | I102: =SUM(F102,H102) -> 10 | J102: 3 | K102: A fentiekre tekintettel parkolási férőhelyre jogosult | M102: =IF(K102="A fentiekre tekintettel parkolási férőhelyre jogosult",IF(C102="Nappali"," a Ludovika Huszár Lovarda melletti parkolóban",IF(AND(C102="Levelező",B102="RTK")," az Orczy Úti Kollégium",IF(C102="Levelező"," a Ludovika Huszár Lovarda melletti parkolóban",0)))," ") -> a Ludovika Huszár Lovarda melletti parkolóban | N102: =IF(K102="A fentiekre tekintettel parkolási férőhelyre jogosult",IF(C102="Nappali","minden héten hétfő reggel 6:00 órától csütörtök 22:00 óráig.",IF(AND(C102="Levelező",B102="RTK"),"az aktuális képzés időtartama alatt minden héten hétfő reggel 6:00 órától szombat 22:00 óráig.",IF(C102="Levelező","minden héten péntek reggel 6:00 órától szombat 22:00 óráig.",0)))," ") -> minden héten péntek reggel 6:00 órától szombat 22:00 óráig.
A103: 2026/27/1/NKE/PK/13 | B103: ÁNTK | C103: Levelező | D103: nem | E103: 64.5 | F103: =IF(E103>280,15,(IF(E103>260,14,IF(E103>240,13,IF(E103>220,12,IF(E103>200,11,IF(E103>180,10,IF(E103>160,9,IF(E103>140,8,IF(E103>120,7,IF(E103>100,6,IF(E103>80,5,IF(E103>60,4,IF(E103>40,3,IF(E103>20,2,IF(E103>0,1,0))))))))))))))))+IF(D103="igen",5,0) -> 4 | G103: 75 | H103: =IF(G103>225,15,(IF(G103>210,14,IF(G103>195,13,IF(G103>180,12,IF(G103>165,11,IF(G103>150,10,IF(G103>135,9,IF(G103>120,8,IF(G103>105,7,IF(G103>90,6,IF(G103>75,5,IF(G103>60,4,IF(G103>45,3,IF(G103>30,2,IF(G103>0,1,0)))))))))))))))) -> 4 | I103: =SUM(F103,H103) -> 8 | J103: 3 | K103: A fentiekre tekintettel parkolási férőhelyre jogosult | M103: =IF(K103="A fentiekre tekintettel parkolási férőhelyre jogosult",IF(C103="Nappali"," a Ludovika Huszár Lovarda melletti parkolóban",IF(AND(C103="Levelező",B103="RTK")," az Orczy Úti Kollégium",IF(C103="Levelező"," a Ludovika Huszár Lovarda melletti parkolóban",0)))," ") -> a Ludovika Huszár Lovarda melletti parkolóban | N103: =IF(K103="A fentiekre tekintettel parkolási férőhelyre jogosult",IF(C103="Nappali","minden héten hétfő reggel 6:00 órától csütörtök 22:00 óráig.",IF(AND(C103="Levelező",B103="RTK"),"az aktuális képzés időtartama alatt minden héten hétfő reggel 6:00 órától szombat 22:00 óráig.",IF(C103="Levelező","minden héten péntek reggel 6:00 órától szombat 22:00 óráig.",0)))," ") -> minden héten péntek reggel 6:00 órától szombat 22:00 óráig.
A104: 2026/27/1/NKE/PK/22 | B104: ÁNTK | C104: Levelező | D104: nem | E104: 76.2 | F104: =IF(E104>280,15,(IF(E104>260,14,IF(E104>240,13,IF(E104>220,12,IF(E104>200,11,IF(E104>180,10,IF(E104>160,9,IF(E104>140,8,IF(E104>120,7,IF(E104>100,6,IF(E104>80,5,IF(E104>60,4,IF(E104>40,3,IF(E104>20,2,IF(E104>0,1,0))))))))))))))))+IF(D104="igen",5,0) -> 4 | G104: 75 | H104: =IF(G104>225,15,(IF(G104>210,14,IF(G104>195,13,IF(G104>180,12,IF(G104>165,11,IF(G104>150,10,IF(G104>135,9,IF(G104>120,8,IF(G104>105,7,IF(G104>90,6,IF(G104>75,5,IF(G104>60,4,IF(G104>45,3,IF(G104>30,2,IF(G104>0,1,0)))))))))))))))) -> 4 | I104: =SUM(F104,H104) -> 8 | J104: 3 | K104: A fentiekre tekintettel parkolási férőhelyre jogosult | M104: =IF(K104="A fentiekre tekintettel parkolási férőhelyre jogosult",IF(C104="Nappali"," a Ludovika Huszár Lovarda melletti parkolóban",IF(AND(C104="Levelező",B104="RTK")," az Orczy Úti Kollégium",IF(C104="Levelező"," a Ludovika Huszár Lovarda melletti parkolóban",0)))," ") -> a Ludovika Huszár Lovarda melletti parkolóban | N104: =IF(K104="A fentiekre tekintettel parkolási férőhelyre jogosult",IF(C104="Nappali","minden héten hétfő reggel 6:00 órától csütörtök 22:00 óráig.",IF(AND(C104="Levelező",B104="RTK"),"az aktuális képzés időtartama alatt minden héten hétfő reggel 6:00 órától szombat 22:00 óráig.",IF(C104="Levelező","minden héten péntek reggel 6:00 órától szombat 22:00 óráig.",0)))," ") -> minden héten péntek reggel 6:00 órától szombat 22:00 óráig.
A105: 2026/27/1/NKE/PK/77 | B105: ÁNTK | C105: Levelező | D105: nem | E105: 50 | F105: =IF(E105>280,15,(IF(E105>260,14,IF(E105>240,13,IF(E105>220,12,IF(E105>200,11,IF(E105>180,10,IF(E105>160,9,IF(E105>140,8,IF(E105>120,7,IF(E105>100,6,IF(E105>80,5,IF(E105>60,4,IF(E105>40,3,IF(E105>20,2,IF(E105>0,1,0))))))))))))))))+IF(D105="igen",5,0) -> 3 | G105: 70 | H105: =IF(G105>225,15,(IF(G105>210,14,IF(G105>195,13,IF(G105>180,12,IF(G105>165,11,IF(G105>150,10,IF(G105>135,9,IF(G105>120,8,IF(G105>105,7,IF(G105>90,6,IF(G105>75,5,IF(G105>60,4,IF(G105>45,3,IF(G105>30,2,IF(G105>0,1,0)))))))))))))))) -> 4 | I105: =SUM(F105,H105) -> 7 | J105: 3 | K105: A fentiekre tekintettel parkolási férőhelyre jogosult | M105: =IF(K105="A fentiekre tekintettel parkolási férőhelyre jogosult",IF(C105="Nappali"," a Ludovika Huszár Lovarda melletti parkolóban",IF(AND(C105="Levelező",B105="RTK")," az Orczy Úti Kollégium",IF(C105="Levelező"," a Ludovika Huszár Lovarda melletti parkolóban",0)))," ") -> a Ludovika Huszár Lovarda melletti parkolóban | N105: =IF(K105="A fentiekre tekintettel parkolási férőhelyre jogosult",IF(C105="Nappali","minden héten hétfő reggel 6:00 órától csütörtök 22:00 óráig.",IF(AND(C105="Levelező",B105="RTK"),"az aktuális képzés időtartama alatt minden héten hétfő reggel 6:00 órától szombat 22:00 óráig.",IF(C105="Levelező","minden héten péntek reggel 6:00 órától szombat 22:00 óráig.",0)))," ") -> minden héten péntek reggel 6:00 órától szombat 22:00 óráig.
A106: 2026/27/1/NKE/PK/18 | B106: ÁNTK | C106: Levelező | D106: nem | E106: 50.2 | F106: =IF(E106>280,15,(IF(E106>260,14,IF(E106>240,13,IF(E106>220,12,IF(E106>200,11,IF(E106>180,10,IF(E106>160,9,IF(E106>140,8,IF(E106>120,7,IF(E106>100,6,IF(E106>80,5,IF(E106>60,4,IF(E106>40,3,IF(E106>20,2,IF(E106>0,1,0))))))))))))))))+IF(D106="igen",5,0) -> 3 | G106: 52.5 | H106: =IF(G106>225,15,(IF(G106>210,14,IF(G106>195,13,IF(G106>180,12,IF(G106>165,11,IF(G106>150,10,IF(G106>135,9,IF(G106>120,8,IF(G106>105,7,IF(G106>90,6,IF(G106>75,5,IF(G106>60,4,IF(G106>45,3,IF(G106>30,2,IF(G106>0,1,0)))))))))))))))) -> 3 | I106: =SUM(F106,H106) -> 6 | J106: 3 | K106: A fentiekre tekintettel parkolási férőhelyre jogosult | M106: =IF(K106="A fentiekre tekintettel parkolási férőhelyre jogosult",IF(C106="Nappali"," a Ludovika Huszár Lovarda melletti parkolóban",IF(AND(C106="Levelező",B106="RTK")," az Orczy Úti Kollégium",IF(C106="Levelező"," a Ludovika Huszár Lovarda melletti parkolóban",0)))," ") -> a Ludovika Huszár Lovarda melletti parkolóban | N106: =IF(K106="A fentiekre tekintettel parkolási férőhelyre jogosult",IF(C106="Nappali","minden héten hétfő reggel 6:00 órától csütörtök 22:00 óráig.",IF(AND(C106="Levelező",B106="RTK"),"az aktuális képzés időtartama alatt minden héten hétfő reggel 6:00 órától szombat 22:00 óráig.",IF(C106="Levelező","minden héten péntek reggel 6:00 órától szombat 22:00 óráig.",0)))," ") -> minden héten péntek reggel 6:00 órától szombat 22:00 óráig.
A107: 2026/27/1/NKE/PK/31 | B107: ÁNTK | C107: Levelező | D107: nem | E107: 56 | F107: =IF(E107>280,15,(IF(E107>260,14,IF(E107>240,13,IF(E107>220,12,IF(E107>200,11,IF(E107>180,10,IF(E107>160,9,IF(E107>140,8,IF(E107>120,7,IF(E107>100,6,IF(E107>80,5,IF(E107>60,4,IF(E107>40,3,IF(E107>20,2,IF(E107>0,1,0))))))))))))))))+IF(D107="igen",5,0) -> 3 | G107: 55 | H107: =IF(G107>225,15,(IF(G107>210,14,IF(G107>195,13,IF(G107>180,12,IF(G107>165,11,IF(G107>150,10,IF(G107>135,9,IF(G107>120,8,IF(G107>105,7,IF(G107>90,6,IF(G107>75,5,IF(G107>60,4,IF(G107>45,3,IF(G107>30,2,IF(G107>0,1,0)))))))))))))))) -> 3 | I107: =SUM(F107,H107) -> 6 | J107: 3 | K107: A fentiekre tekintettel parkolási férőhelyre jogosult | M107: =IF(K107="A fentiekre tekintettel parkolási férőhelyre jogosult",IF(C107="Nappali"," a Ludovika Huszár Lovarda melletti parkolóban",IF(AND(C107="Levelező",B107="RTK")," az Orczy Úti Kollégium",IF(C107="Levelező"," a Ludovika Huszár Lovarda melletti parkolóban",0)))," ") -> a Ludovika Huszár Lovarda melletti parkolóban | N107: =IF(K107="A fentiekre tekintettel parkolási férőhelyre jogosult",IF(C107="Nappali","minden héten hétfő reggel 6:00 órától csütörtök 22:00 óráig.",IF(AND(C107="Levelező",B107="RTK"),"az aktuális képzés időtartama alatt minden héten hétfő reggel 6:00 órától szombat 22:00 óráig.",IF(C107="Levelező","minden héten péntek reggel 6:00 órától szombat 22:00 óráig.",0)))," ") -> minden héten péntek reggel 6:00 órától szombat 22:00 óráig.
A108: 2026/27/1/NKE/PK/99 | B108: ÁNTK | C108: Levelező | D108: nem | E108: 49 | F108: =IF(E108>280,15,(IF(E108>260,14,IF(E108>240,13,IF(E108>220,12,IF(E108>200,11,IF(E108>180,10,IF(E108>160,9,IF(E108>140,8,IF(E108>120,7,IF(E108>100,6,IF(E108>80,5,IF(E108>60,4,IF(E108>40,3,IF(E108>20,2,IF(E108>0,1,0))))))))))))))))+IF(D108="igen",5,0) -> 3 | G108: 50 | H108: =IF(G108>225,15,(IF(G108>210,14,IF(G108>195,13,IF(G108>180,12,IF(G108>165,11,IF(G108>150,10,IF(G108>135,9,IF(G108>120,8,IF(G108>105,7,IF(G108>90,6,IF(G108>75,5,IF(G108>60,4,IF(G108>45,3,IF(G108>30,2,IF(G108>0,1,0)))))))))))))))) -> 3 | I108: =SUM(F108,H108) -> 6 | J108: 3 | K108: A fentiekre tekintettel parkolási férőhelyre jogosult | M108: =IF(K108="A fentiekre tekintettel parkolási férőhelyre jogosult",IF(C108="Nappali"," a Ludovika Huszár Lovarda melletti parkolóban",IF(AND(C108="Levelező",B108="RTK")," az Orczy Úti Kollégium",IF(C108="Levelező"," a Ludovika Huszár Lovarda melletti parkolóban",0)))," ") -> a Ludovika Huszár Lovarda melletti parkolóban | N108: =IF(K108="A fentiekre tekintettel parkolási férőhelyre jogosult",IF(C108="Nappali","minden héten hétfő reggel 6:00 órától csütörtök 22:00 óráig.",IF(AND(C108="Levelező",B108="RTK"),"az aktuális képzés időtartama alatt minden héten hétfő reggel 6:00 órától szombat 22:00 óráig.",IF(C108="Levelező","minden héten péntek reggel 6:00 órától szombat 22:00 óráig.",0)))," ") -> minden héten péntek reggel 6:00 órától szombat 22:00 óráig.
A109: 2026/27/1/NKE/PK/6 | B109: ÁNTK | C109: Levelező | D109: nem | E109: 26.2 | F109: =IF(E109>280,15,(IF(E109>260,14,IF(E109>240,13,IF(E109>220,12,IF(E109>200,11,IF(E109>180,10,IF(E109>160,9,IF(E109>140,8,IF(E109>120,7,IF(E109>100,6,IF(E109>80,5,IF(E109>60,4,IF(E109>40,3,IF(E109>20,2,IF(E109>0,1,0))))))))))))))))+IF(D109="igen",5,0) -> 2 | G109: 32 | H109: =IF(G109>225,15,(IF(G109>210,14,IF(G109>195,13,IF(G109>180,12,IF(G109>165,11,IF(G109>150,10,IF(G109>135,9,IF(G109>120,8,IF(G109>105,7,IF(G109>90,6,IF(G109>75,5,IF(G109>60,4,IF(G109>45,3,IF(G109>30,2,IF(G109>0,1,0)))))))))))))))) -> 2 | I109: =SUM(F109,H109) -> 4 | J109: 3 | K109: A fentiekre tekintettel parkolási férőhelyre jogosult | M109: =IF(K109="A fentiekre tekintettel parkolási férőhelyre jogosult",IF(C109="Nappali"," a Ludovika Huszár Lovarda melletti parkolóban",IF(AND(C109="Levelező",B109="RTK")," az Orczy Úti Kollégium",IF(C109="Levelező"," a Ludovika Huszár Lovarda melletti parkolóban",0)))," ") -> a Ludovika Huszár Lovarda melletti parkolóban | N109: =IF(K109="A fentiekre tekintettel parkolási férőhelyre jogosult",IF(C109="Nappali","minden héten hétfő reggel 6:00 órától csütörtök 22:00 óráig.",IF(AND(C109="Levelező",B109="RTK"),"az aktuális képzés időtartama alatt minden héten hétfő reggel 6:00 órától szombat 22:00 óráig.",IF(C109="Levelező","minden héten péntek reggel 6:00 órától szombat 22:00 óráig.",0)))," ") -> minden héten péntek reggel 6:00 órától szombat 22:00 óráig.
A110: 2026/27/1/NKE/PK/24 | B110: ÁNTK | C110: Levelező | D110: nem | E110: 23.4 | F110: =IF(E110>280,15,(IF(E110>260,14,IF(E110>240,13,IF(E110>220,12,IF(E110>200,11,IF(E110>180,10,IF(E110>160,9,IF(E110>140,8,IF(E110>120,7,IF(E110>100,6,IF(E110>80,5,IF(E110>60,4,IF(E110>40,3,IF(E110>20,2,IF(E110>0,1,0))))))))))))))))+IF(D110="igen",5,0) -> 2 | G110: 30.5 | H110: =IF(G110>225,15,(IF(G110>210,14,IF(G110>195,13,IF(G110>180,12,IF(G110>165,11,IF(G110>150,10,IF(G110>135,9,IF(G110>120,8,IF(G110>105,7,IF(G110>90,6,IF(G110>75,5,IF(G110>60,4,IF(G110>45,3,IF(G110>30,2,IF(G110>0,1,0)))))))))))))))) -> 2 | I110: =SUM(F110,H110) -> 4 | J110: 3 | K110: A fentiekre tekintettel parkolási férőhelyre jogosult | M110: =IF(K110="A fentiekre tekintettel parkolási férőhelyre jogosult",IF(C110="Nappali"," a Ludovika Huszár Lovarda melletti parkolóban",IF(AND(C110="Levelező",B110="RTK")," az Orczy Úti Kollégium",IF(C110="Levelező"," a Ludovika Huszár Lovarda melletti parkolóban",0)))," ") -> a Ludovika Huszár Lovarda melletti parkolóban | N110: =IF(K110="A fentiekre tekintettel parkolási férőhelyre jogosult",IF(C110="Nappali","minden héten hétfő reggel 6:00 órától csütörtök 22:00 óráig.",IF(AND(C110="Levelező",B110="RTK"),"az aktuális képzés időtartama alatt minden héten hétfő reggel 6:00 órától szombat 22:00 óráig.",IF(C110="Levelező","minden héten péntek reggel 6:00 órától szombat 22:00 óráig.",0)))," ") -> minden héten péntek reggel 6:00 órától szombat 22:00 óráig.
A111: 2026/27/1/NKE/PK/20 | B111: ÁNTK | C111: Levelező | D111: nem | E111: 11.2 | F111: =IF(E111>280,15,(IF(E111>260,14,IF(E111>240,13,IF(E111>220,12,IF(E111>200,11,IF(E111>180,10,IF(E111>160,9,IF(E111>140,8,IF(E111>120,7,IF(E111>100,6,IF(E111>80,5,IF(E111>60,4,IF(E111>40,3,IF(E111>20,2,IF(E111>0,1,0))))))))))))))))+IF(D111="igen",5,0) -> 1 | G111: 31.5 | H111: =IF(G111>225,15,(IF(G111>210,14,IF(G111>195,13,IF(G111>180,12,IF(G111>165,11,IF(G111>150,10,IF(G111>135,9,IF(G111>120,8,IF(G111>105,7,IF(G111>90,6,IF(G111>75,5,IF(G111>60,4,IF(G111>45,3,IF(G111>30,2,IF(G111>0,1,0)))))))))))))))) -> 2 | I111: =SUM(F111,H111) -> 3 | J111: 3 | K111: A fentiekre tekintettel parkolási férőhelyre jogosult | M111: =IF(K111="A fentiekre tekintettel parkolási férőhelyre jogosult",IF(C111="Nappali"," a Ludovika Huszár Lovarda melletti parkolóban",IF(AND(C111="Levelező",B111="RTK")," az Orczy Úti Kollégium",IF(C111="Levelező"," a Ludovika Huszár Lovarda melletti parkolóban",0)))," ") -> a Ludovika Huszár Lovarda melletti parkolóban | N111: =IF(K111="A fentiekre tekintettel parkolási férőhelyre jogosult",IF(C111="Nappali","minden héten hétfő reggel 6:00 órától csütörtök 22:00 óráig.",IF(AND(C111="Levelező",B111="RTK"),"az aktuális képzés időtartama alatt minden héten hétfő reggel 6:00 órától szombat 22:00 óráig.",IF(C111="Levelező","minden héten péntek reggel 6:00 órától szombat 22:00 óráig.",0)))," ") -> minden héten péntek reggel 6:00 órától szombat 22:00 óráig.
A112: 2026/27/1/NKE/PK/108 | B112: ÁNTK | C112: Levelező | D112: nem | E112: 0 | F112: =IF(E112>280,15,(IF(E112>260,14,IF(E112>240,13,IF(E112>220,12,IF(E112>200,11,IF(E112>180,10,IF(E112>160,9,IF(E112>140,8,IF(E112>120,7,IF(E112>100,6,IF(E112>80,5,IF(E112>60,4,IF(E112>40,3,IF(E112>20,2,IF(E112>0,1,0))))))))))))))))+IF(D112="igen",5,0) -> 0 | G112: 0 | H112: =IF(G112>225,15,(IF(G112>210,14,IF(G112>195,13,IF(G112>180,12,IF(G112>165,11,IF(G112>150,10,IF(G112>135,9,IF(G112>120,8,IF(G112>105,7,IF(G112>90,6,IF(G112>75,5,IF(G112>60,4,IF(G112>45,3,IF(G112>30,2,IF(G112>0,1,0)))))))))))))))) -> 0 | I112: =SUM(F112,H112) -> 0 | K112: A fentiekre tekintettel a kérelme elutasításra került. | M112: =IF(K112="A fentiekre tekintettel parkolási férőhelyre jogosult",IF(C112="Nappali"," a Ludovika Huszár Lovarda melletti parkolóban",IF(AND(C112="Levelező",B112="RTK")," az Orczy Úti Kollégium",IF(C112="Levelező"," a Ludovika Huszár Lovarda melletti parkolóban",0)))," ") | N112: =IF(K112="A fentiekre tekintettel parkolási férőhelyre jogosult",IF(C112="Nappali","minden héten hétfő reggel 6:00 órától csütörtök 22:00 óráig.",IF(AND(C112="Levelező",B112="RTK"),"az aktuális képzés időtartama alatt minden héten hétfő reggel 6:00 órától szombat 22:00 óráig.",IF(C112="Levelező","minden héten péntek reggel 6:00 órától szombat 22:00 óráig.",0)))," ")
A113: 2026/27/1/NKE/PK/114 | B113: ÁNTK | C113: Levelező | D113: nem | E113: 0 | F113: =IF(E113>280,15,(IF(E113>260,14,IF(E113>240,13,IF(E113>220,12,IF(E113>200,11,IF(E113>180,10,IF(E113>160,9,IF(E113>140,8,IF(E113>120,7,IF(E113>100,6,IF(E113>80,5,IF(E113>60,4,IF(E113>40,3,IF(E113>20,2,IF(E113>0,1,0))))))))))))))))+IF(D113="igen",5,0) -> 0 | G113: 0 | H113: =IF(G113>225,15,(IF(G113>210,14,IF(G113>195,13,IF(G113>180,12,IF(G113>165,11,IF(G113>150,10,IF(G113>135,9,IF(G113>120,8,IF(G113>105,7,IF(G113>90,6,IF(G113>75,5,IF(G113>60,4,IF(G113>45,3,IF(G113>30,2,IF(G113>0,1,0)))))))))))))))) -> 0 | I113: =SUM(F113,H113) -> 0 | K113: A fentiekre tekintettel a kérelme elutasításra került. | M113: =IF(K113="A fentiekre tekintettel parkolási férőhelyre jogosult",IF(C113="Nappali"," a Ludovika Huszár Lovarda melletti parkolóban",IF(AND(C113="Levelező",B113="RTK")," az Orczy Úti Kollégium",IF(C113="Levelező"," a Ludovika Huszár Lovarda melletti parkolóban",0)))," ") | N113: =IF(K113="A fentiekre tekintettel parkolási férőhelyre jogosult",IF(C113="Nappali","minden héten hétfő reggel 6:00 órától csütörtök 22:00 óráig.",IF(AND(C113="Levelező",B113="RTK"),"az aktuális képzés időtartama alatt minden héten hétfő reggel 6:00 órától szombat 22:00 óráig.",IF(C113="Levelező","minden héten péntek reggel 6:00 órától szombat 22:00 óráig.",0)))," ")
A114: 2026/27/1/NKE/PK/117 | B114: ÁNTK | C114: Levelező | D114: nem | E114: 0 | F114: =IF(E114>280,15,(IF(E114>260,14,IF(E114>240,13,IF(E114>220,12,IF(E114>200,11,IF(E114>180,10,IF(E114>160,9,IF(E114>140,8,IF(E114>120,7,IF(E114>100,6,IF(E114>80,5,IF(E114>60,4,IF(E114>40,3,IF(E114>20,2,IF(E114>0,1,0))))))))))))))))+IF(D114="igen",5,0) -> 0 | G114: 0 | H114: =IF(G114>225,15,(IF(G114>210,14,IF(G114>195,13,IF(G114>180,12,IF(G114>165,11,IF(G114>150,10,IF(G114>135,9,IF(G114>120,8,IF(G114>105,7,IF(G114>90,6,IF(G114>75,5,IF(G114>60,4,IF(G114>45,3,IF(G114>30,2,IF(G114>0,1,0)))))))))))))))) -> 0 | I114: =SUM(F114,H114) -> 0 | K114: A fentiekre tekintettel a kérelme elutasításra került.
A115: 2026/27/1/NKE/PK/90 | B115: ÁNTK | C115: Levelező | D115: nem | E115: 0 | F115: =IF(E115>280,15,(IF(E115>260,14,IF(E115>240,13,IF(E115>220,12,IF(E115>200,11,IF(E115>180,10,IF(E115>160,9,IF(E115>140,8,IF(E115>120,7,IF(E115>100,6,IF(E115>80,5,IF(E115>60,4,IF(E115>40,3,IF(E115>20,2,IF(E115>0,1,0))))))))))))))))+IF(D115="igen",5,0) -> 0 | G115: 0 | H115: =IF(G115>225,15,(IF(G115>210,14,IF(G115>195,13,IF(G115>180,12,IF(G115>165,11,IF(G115>150,10,IF(G115>135,9,IF(G115>120,8,IF(G115>105,7,IF(G115>90,6,IF(G115>75,5,IF(G115>60,4,IF(G115>45,3,IF(G115>30,2,IF(G115>0,1,0)))))))))))))))) -> 0 | I115: =SUM(F115,H115) -> 0 | K115: A fentiekre tekintettel a kérelme elutasításra került. | M115: =IF(K115="A fentiekre tekintettel parkolási férőhelyre jogosult",IF(C115="Nappali"," a Ludovika Huszár Lovarda melletti parkolóban",IF(AND(C115="Levelező",B115="RTK")," az Orczy Úti Kollégium",IF(C115="Levelező"," a Ludovika Huszár Lovarda melletti parkolóban",0)))," ") | N115: =IF(K115="A fentiekre tekintettel parkolási férőhelyre jogosult",IF(C115="Nappali","minden héten hétfő reggel 6:00 órától csütörtök 22:00 óráig.",IF(AND(C115="Levelező",B115="RTK"),"az aktuális képzés időtartama alatt minden héten hétfő reggel 6:00 órától szombat 22:00 óráig.",IF(C115="Levelező","minden héten péntek reggel 6:00 órától szombat 22:00 óráig.",0)))," ")
A116: 2026/27/1/NKE/PK/70 | B116: ÁNTK | C116: Levelező | D116: nem | F116: =IF(E116>280,15,(IF(E116>260,14,IF(E116>240,13,IF(E116>220,12,IF(E116>200,11,IF(E116>180,10,IF(E116>160,9,IF(E116>140,8,IF(E116>120,7,IF(E116>100,6,IF(E116>80,5,IF(E116>60,4,IF(E116>40,3,IF(E116>20,2,IF(E116>0,1,0))))))))))))))))+IF(D116="igen",5,0) -> 0 | H116: =IF(G116>225,15,(IF(G116>210,14,IF(G116>195,13,IF(G116>180,12,IF(G116>165,11,IF(G116>150,10,IF(G116>135,9,IF(G116>120,8,IF(G116>105,7,IF(G116>90,6,IF(G116>75,5,IF(G116>60,4,IF(G116>45,3,IF(G116>30,2,IF(G116>0,1,0)))))))))))))))) -> 0 | I116: =SUM(F116,H116) -> 0 | K116: A fentiekre tekintettel a kérelme elutasításra került. | M116: =IF(K116="A fentiekre tekintettel parkolási férőhelyre jogosult",IF(C116="Nappali"," a Ludovika Huszár Lovarda melletti parkolóban",IF(AND(C116="Levelező",B116="RTK")," az Orczy Úti Kollégium",IF(C116="Levelező"," a Ludovika Huszár Lovarda melletti parkolóban",0)))," ") | N116: =IF(K116="A fentiekre tekintettel parkolási férőhelyre jogosult",IF(C116="Nappali","minden héten hétfő reggel 6:00 órától csütörtök 22:00 óráig.",IF(AND(C116="Levelező",B116="RTK"),"az aktuális képzés időtartama alatt minden héten hétfő reggel 6:00 órától szombat 22:00 óráig.",IF(C116="Levelező","minden héten péntek reggel 6:00 órától szombat 22:00 óráig.",0)))," ")
A117: 2026/27/1/NKE/PK/82 | B117: ÁNTK | C117: Levelező | D117: nem | E117: 0 | F117: 0 | G117: 0 | H117: =IF(G117>225,15,(IF(G117>210,14,IF(G117>195,13,IF(G117>180,12,IF(G117>165,11,IF(G117>150,10,IF(G117>135,9,IF(G117>120,8,IF(G117>105,7,IF(G117>90,6,IF(G117>75,5,IF(G117>60,4,IF(G117>45,3,IF(G117>30,2,IF(G117>0,1,0)))))))))))))))) -> 0 | I117: =SUM(F117,H117) -> 0 | K117: A fentiekre tekintettel a kérelme elutasításra került.
...

Sheet Döntés
A1: Hallgató Neptun kódja | B1: Kérvénytemplate azonosító | C1: Hallgató kérvény azonosító | D1: Döntés dátuma | E1: Döntés indok | F1: Döntő Neptun kódja
A2: =Bíráló!#REF! -> #REF! | B2: =Bíráló!A2 -> 2026/27/1/NKE/PK/125 | C2: =Bíráló!A2 -> 2026/27/1/NKE/PK/125 | D2: 46293 | E2: =IF(Bíráló!$K$2="A fentiekre tekintettel férőhelyhiány miatt várólistára került.",CONCATENATE(Bíráló!$E$1,Bíráló!F2," pont ] ",CHAR(10),Bíráló!$G$1,Bíráló!H2," pont ]",CHAR(10),Bíráló!$I$1,Bíráló!I2," pont ]",CHAR(10),Bíráló!$J$1,Bíráló!J2," pont ]",CHAR(10),Bíráló!$K$1,Bíráló!K2," ",Bíráló!N2,CHAR(10),Bíráló!$L$1,Bíráló!L2),IF(Bíráló!K2="A fentiekre tekintettel kérelme elutasításra került.",CONCATENATE("A hallgató a Pályázati felhívásban szereplő kötelezően megadandó adatokat nem, vagy hiányosan töltötte fel.",CHAR(10),CHAR(10),Bíráló!$K$1,Bíráló!K2),CONCATENATE(Bíráló!$E$1,Bíráló!F2," pont ] ",CHAR(10),Bíráló!$G$1,Bíráló!H2," pont ]",CHAR(10),Bíráló!$I$1,Bíráló!I2," pont ]",CHAR(10),Bíráló!$J$1,Bíráló!J2," pont ]",CHAR(10),Bíráló!$K$1,Bíráló!K2,Bíráló!L2,Bíráló!M2," ",Bíráló!N2))) -> Távolság (km)15 pont ] Időtartam (perc)13 pont ] Összesen (pont)28 pont ] Ponthatár4 pont ] DöntésA fentiekre tekintettel parkolási férőhelyre jogosult a Ludovika Huszár Lovarda melletti parkolóban minden héten hétfő reggel 6:00 órától csütörtök 22:00 óráig. | F2: OVLCV7
A3: =Bíráló!#REF! -> #REF! | B3: =Bíráló!A3 -> 2026/27/1/NKE/PK/11 | C3: =Bíráló!A3 -> 2026/27/1/NKE/PK/11 | D3: 46293 | E3: =IF(Bíráló!$K$2="A fentiekre tekintettel férőhelyhiány miatt várólistára került.",CONCATENATE(Bíráló!$E$1,Bíráló!F3," pont ] ",CHAR(10),Bíráló!$G$1,Bíráló!H3," pont ]",CHAR(10),Bíráló!$I$1,Bíráló!I3," pont ]",CHAR(10),Bíráló!$J$1,Bíráló!J3," pont ]",CHAR(10),Bíráló!$K$1,Bíráló!K3," ",Bíráló!N3,CHAR(10),Bíráló!$L$1,Bíráló!L3),IF(Bíráló!K3="A fentiekre tekintettel kérelme elutasításra került.",CONCATENATE("A hallgató a Pályázati felhívásban szereplő kötelezően megadandó adatokat nem, vagy hiányosan töltötte fel.",CHAR(10),CHAR(10),Bíráló!$K$1,Bíráló!K3),CONCATENATE(Bíráló!$E$1,Bíráló!F3," pont ] ",CHAR(10),Bíráló!$G$1,Bíráló!H3," pont ]",CHAR(10),Bíráló!$I$1,Bíráló!I3," pont ]",CHAR(10),Bíráló!$J$1,Bíráló!J3," pont ]",CHAR(10),Bíráló!$K$1,Bíráló!K3,Bíráló!L3,Bíráló!M3," ",Bíráló!N3))) -> Távolság (km)11 pont ] Időtartam (perc)10 pont ] Összesen (pont)21 pont ] Ponthatár4 pont ] DöntésA fentiekre tekintettel parkolási férőhelyre jogosult a Ludovika Huszár Lovarda melletti parkolóban minden héten hétfő reggel 6:00 órától csütörtök 22:00 óráig. | F3: OVLCV7
A4: =Bíráló!#REF! -> #REF! | B4: =Bíráló!A4 -> 2026/27/1/NKE/PK/5 | C4: =Bíráló!A4 -> 2026/27/1/NKE/PK/5 | D4: 46293 | E4: =IF(Bíráló!$K$2="A fentiekre tekintettel férőhelyhiány miatt várólistára került.",CONCATENATE(Bíráló!$E$1,Bíráló!F4," pont ] ",CHAR(10),Bíráló!$G$1,Bíráló!H4," pont ]",CHAR(10),Bíráló!$I$1,Bíráló!I4," pont ]",CHAR(10),Bíráló!$J$1,Bíráló!J4," pont ]",CHAR(10),Bíráló!$K$1,Bíráló!K4," ",Bíráló!N4,CHAR(10),Bíráló!$L$1,Bíráló!L4),IF(Bíráló!K4="A fentiekre tekintettel kérelme elutasításra került.",CONCATENATE("A hallgató a Pályázati felhívásban szereplő kötelezően megadandó adatokat nem, vagy hiányosan töltötte fel.",CHAR(10),CHAR(10),Bíráló!$K$1,Bíráló!K4),CONCATENATE(Bíráló!$E$1,Bíráló!F4," pont ] ",CHAR(10),Bíráló!$G$1,Bíráló!H4," pont ]",CHAR(10),Bíráló!$I$1,Bíráló!I4," pont ]",CHAR(10),Bíráló!$J$1,Bíráló!J4," pont ]",CHAR(10),Bíráló!$K$1,Bíráló!K4,Bíráló!L4,Bíráló!M4," ",Bíráló!N4))) -> Távolság (km)10 pont ] Időtartam (perc)10 pont ] Összesen (pont)20 pont ] Ponthatár4 pont ] DöntésA fentiekre tekintettel parkolási férőhelyre jogosult a Ludovika Huszár Lovarda melletti parkolóban minden héten hétfő reggel 6:00 órától csütörtök 22:00 óráig. | F4: OVLCV7
A5: =Bíráló!#REF! -> #REF! | B5: =Bíráló!A5 -> 2026/27/1/NKE/PK/43 | C5: =Bíráló!A5 -> 2026/27/1/NKE/PK/43 | D5: 46293 | E5: =IF(Bíráló!$K$2="A fentiekre tekintettel férőhelyhiány miatt várólistára került.",CONCATENATE(Bíráló!$E$1,Bíráló!F5," pont ] ",CHAR(10),Bíráló!$G$1,Bíráló!H5," pont ]",CHAR(10),Bíráló!$I$1,Bíráló!I5," pont ]",CHAR(10),Bíráló!$J$1,Bíráló!J5," pont ]",CHAR(10),Bíráló!$K$1,Bíráló!K5," ",Bíráló!N5,CHAR(10),Bíráló!$L$1,Bíráló!L5),IF(Bíráló!K5="A fentiekre tekintettel kérelme elutasításra került.",CONCATENATE("A hallgató a Pályázati felhívásban szereplő kötelezően megadandó adatokat nem, vagy hiányosan töltötte fel.",CHAR(10),CHAR(10),Bíráló!$K$1,Bíráló!K5),CONCATENATE(Bíráló!$E$1,Bíráló!F5," pont ] ",CHAR(10),Bíráló!$G$1,Bíráló!H5," pont ]",CHAR(10),Bíráló!$I$1,Bíráló!I5," pont ]",CHAR(10),Bíráló!$J$1,Bíráló!J5," pont ]",CHAR(10),Bíráló!$K$1,Bíráló!K5,Bíráló!L5,Bíráló!M5," ",Bíráló!N5))) -> Távolság (km)10 pont ] Időtartam (perc)9 pont ] Összesen (pont)19 pont ] Ponthatár4 pont ] DöntésA fentiekre tekintettel parkolási férőhelyre jogosult a Ludovika Huszár Lovarda melletti parkolóban minden héten hétfő reggel 6:00 órától csütörtök 22:00 óráig. | F5: OVLCV7
A6: =Bíráló!#REF! -> #REF! | B6: =Bíráló!A6 -> 2026/27/1/NKE/PK/115 | C6: =Bíráló!A6 -> 2026/27/1/NKE/PK/115 | D6: 46293 | E6: =IF(Bíráló!$K$2="A fentiekre tekintettel férőhelyhiány miatt várólistára került.",CONCATENATE(Bíráló!$E$1,Bíráló!F6," pont ] ",CHAR(10),Bíráló!$G$1,Bíráló!H6," pont ]",CHAR(10),Bíráló!$I$1,Bíráló!I6," pont ]",CHAR(10),Bíráló!$J$1,Bíráló!J6," pont ]",CHAR(10),Bíráló!$K$1,Bíráló!K6," ",Bíráló!N6,CHAR(10),Bíráló!$L$1,Bíráló!L6),IF(Bíráló!K6="A fentiekre tekintettel kérelme elutasításra került.",CONCATENATE("A hallgató a Pályázati felhívásban szereplő kötelezően megadandó adatokat nem, vagy hiányosan töltötte fel.",CHAR(10),CHAR(10),Bíráló!$K$1,Bíráló!K6),CONCATENATE(Bíráló!$E$1,Bíráló!F6," pont ] ",CHAR(10),Bíráló!$G$1,Bíráló!H6," pont ]",CHAR(10),Bíráló!$I$1,Bíráló!I6," pont ]",CHAR(10),Bíráló!$J$1,Bíráló!J6," pont ]",CHAR(10),Bíráló!$K$1,Bíráló!K6,Bíráló!L6,Bíráló!M6," ",Bíráló!N6))) -> Távolság (km)9 pont ] Időtartam (perc)7 pont ] Összesen (pont)16 pont ] Ponthatár4 pont ] DöntésA fentiekre tekintettel parkolási férőhelyre jogosult a Ludovika Huszár Lovarda melletti parkolóban minden héten hétfő reggel 6:00 órától csütörtök 22:00 óráig. | F6: OVLCV7
A7: =Bíráló!#REF! -> #REF! | B7: =Bíráló!A7 -> 2026/27/1/NKE/PK/28 | C7: =Bíráló!A7 -> 2026/27/1/NKE/PK/28 | D7: 46293 | E7: =IF(Bíráló!$K$2="A fentiekre tekintettel férőhelyhiány miatt várólistára került.",CONCATENATE(Bíráló!$E$1,Bíráló!F7," pont ] ",CHAR(10),Bíráló!$G$1,Bíráló!H7," pont ]",CHAR(10),Bíráló!$I$1,Bíráló!I7," pont ]",CHAR(10),Bíráló!$J$1,Bíráló!J7," pont ]",CHAR(10),Bíráló!$K$1,Bíráló!K7," ",Bíráló!N7,CHAR(10),Bíráló!$L$1,Bíráló!L7),IF(Bíráló!K7="A fentiekre tekintettel kérelme elutasításra került.",CONCATENATE("A hallgató a Pályázati felhívásban szereplő kötelezően megadandó adatokat nem, vagy hiányosan töltötte fel.",CHAR(10),CHAR(10),Bíráló!$K$1,Bíráló!K7),CONCATENATE(Bíráló!$E$1,Bíráló!F7," pont ] ",CHAR(10),Bíráló!$G$1,Bíráló!H7," pont ]",CHAR(10),Bíráló!$I$1,Bíráló!I7," pont ]",CHAR(10),Bíráló!$J$1,Bíráló!J7," pont ]",CHAR(10),Bíráló!$K$1,Bíráló!K7,Bíráló!L7,Bíráló!M7," ",Bíráló!N7))) -> Távolság (km)6 pont ] Időtartam (perc)5 pont ] Összesen (pont)11 pont ] Ponthatár4 pont ] DöntésA fentiekre tekintettel parkolási férőhelyre jogosult a Ludovika Huszár Lovarda melletti parkolóban minden héten hétfő reggel 6:00 órától csütörtök 22:00 óráig. | F7: OVLCV7
A8: =Bíráló!#REF! -> #REF! | B8: =Bíráló!A8 -> 2026/27/1/NKE/PK/7 | C8: =Bíráló!A8 -> 2026/27/1/NKE/PK/7 | D8: 46293 | E8: =IF(Bíráló!$K$2="A fentiekre tekintettel férőhelyhiány miatt várólistára került.",CONCATENATE(Bíráló!$E$1,Bíráló!F8," pont ] ",CHAR(10),Bíráló!$G$1,Bíráló!H8," pont ]",CHAR(10),Bíráló!$I$1,Bíráló!I8," pont ]",CHAR(10),Bíráló!$J$1,Bíráló!J8," pont ]",CHAR(10),Bíráló!$K$1,Bíráló!K8," ",Bíráló!N8,CHAR(10),Bíráló!$L$1,Bíráló!L8),IF(Bíráló!K8="A fentiekre tekintettel kérelme elutasításra került.",CONCATENATE("A hallgató a Pályázati felhívásban szereplő kötelezően megadandó adatokat nem, vagy hiányosan töltötte fel.",CHAR(10),CHAR(10),Bíráló!$K$1,Bíráló!K8),CONCATENATE(Bíráló!$E$1,Bíráló!F8," pont ] ",CHAR(10),Bíráló!$G$1,Bíráló!H8," pont ]",CHAR(10),Bíráló!$I$1,Bíráló!I8," pont ]",CHAR(10),Bíráló!$J$1,Bíráló!J8," pont ]",CHAR(10),Bíráló!$K$1,Bíráló!K8,Bíráló!L8,Bíráló!M8," ",Bíráló!N8))) -> Távolság (km)4 pont ] Időtartam (perc)4 pont ] Összesen (pont)8 pont ] Ponthatár4 pont ] DöntésA fentiekre tekintettel parkolási férőhelyre jogosult a Ludovika Huszár Lovarda melletti parkolóban minden héten hétfő reggel 6:00 órától csütörtök 22:00 óráig. | F8: OVLCV7
A9: =Bíráló!#REF! -> #REF! | B9: =Bíráló!A9 -> 2026/27/1/NKE/PK/80 | C9: =Bíráló!A9 -> 2026/27/1/NKE/PK/80 | D9: 46293 | E9: =IF(Bíráló!$K$2="A fentiekre tekintettel férőhelyhiány miatt várólistára került.",CONCATENATE(Bíráló!$E$1,Bíráló!F9," pont ] ",CHAR(10),Bíráló!$G$1,Bíráló!H9," pont ]",CHAR(10),Bíráló!$I$1,Bíráló!I9," pont ]",CHAR(10),Bíráló!$J$1,Bíráló!J9," pont ]",CHAR(10),Bíráló!$K$1,Bíráló!K9," ",Bíráló!N9,CHAR(10),Bíráló!$L$1,Bíráló!L9),IF(Bíráló!K9="A fentiekre tekintettel kérelme elutasításra került.",CONCATENATE("A hallgató a Pályázati felhívásban szereplő kötelezően megadandó adatokat nem, vagy hiányosan töltötte fel.",CHAR(10),CHAR(10),Bíráló!$K$1,Bíráló!K9),CONCATENATE(Bíráló!$E$1,Bíráló!F9," pont ] ",CHAR(10),Bíráló!$G$1,Bíráló!H9," pont ]",CHAR(10),Bíráló!$I$1,Bíráló!I9," pont ]",CHAR(10),Bíráló!$J$1,Bíráló!J9," pont ]",CHAR(10),Bíráló!$K$1,Bíráló!K9,Bíráló!L9,Bíráló!M9," ",Bíráló!N9))) -> Távolság (km)3 pont ] Időtartam (perc)4 pont ] Összesen (pont)7 pont ] Ponthatár4 pont ] DöntésA fentiekre tekintettel parkolási férőhelyre jogosult a Ludovika Huszár Lovarda melletti parkolóban minden héten hétfő reggel 6:00 órától csütörtök 22:00 óráig. | F9: OVLCV7
A10: =Bíráló!#REF! -> #REF! | B10: =Bíráló!A10 -> 2026/27/1/NKE/PK/93 | C10: =Bíráló!A10 -> 2026/27/1/NKE/PK/93 | D10: 46293 | E10: =IF(Bíráló!$K$2="A fentiekre tekintettel férőhelyhiány miatt várólistára került.",CONCATENATE(Bíráló!$E$1,Bíráló!F10," pont ] ",CHAR(10),Bíráló!$G$1,Bíráló!H10," pont ]",CHAR(10),Bíráló!$I$1,Bíráló!I10," pont ]",CHAR(10),Bíráló!$J$1,Bíráló!J10," pont ]",CHAR(10),Bíráló!$K$1,Bíráló!K10," ",Bíráló!N10,CHAR(10),Bíráló!$L$1,Bíráló!L10),IF(Bíráló!K10="A fentiekre tekintettel kérelme elutasításra került.",CONCATENATE("A hallgató a Pályázati felhívásban szereplő kötelezően megadandó adatokat nem, vagy hiányosan töltötte fel.",CHAR(10),CHAR(10),Bíráló!$K$1,Bíráló!K10),CONCATENATE(Bíráló!$E$1,Bíráló!F10," pont ] ",CHAR(10),Bíráló!$G$1,Bíráló!H10," pont ]",CHAR(10),Bíráló!$I$1,Bíráló!I10," pont ]",CHAR(10),Bíráló!$J$1,Bíráló!J10," pont ]",CHAR(10),Bíráló!$K$1,Bíráló!K10,Bíráló!L10,Bíráló!M10," ",Bíráló!N10))) -> Távolság (km)2 pont ] Időtartam (perc)4 pont ] Összesen (pont)6 pont ] Ponthatár4 pont ] DöntésA fentiekre tekintettel parkolási férőhelyre jogosult a Ludovika Huszár Lovarda melletti parkolóban minden héten hétfő reggel 6:00 órától csütörtök 22:00 óráig. | F10: OVLCV7
A11: =Bíráló!#REF! -> #REF! | B11: =Bíráló!A11 -> 2026/27/1/NKE/PK/139 | C11: =Bíráló!A11 -> 2026/27/1/NKE/PK/139 | D11: 46293 | E11: =IF(Bíráló!$K$2="A fentiekre tekintettel férőhelyhiány miatt várólistára került.",CONCATENATE(Bíráló!$E$1,Bíráló!F11," pont ] ",CHAR(10),Bíráló!$G$1,Bíráló!H11," pont ]",CHAR(10),Bíráló!$I$1,Bíráló!I11," pont ]",CHAR(10),Bíráló!$J$1,Bíráló!J11," pont ]",CHAR(10),Bíráló!$K$1,Bíráló!K11," ",Bíráló!N11,CHAR(10),Bíráló!$L$1,Bíráló!L11),IF(Bíráló!K11="A fentiekre tekintettel kérelme elutasításra került.",CONCATENATE("A hallgató a Pályázati felhívásban szereplő kötelezően megadandó adatokat nem, vagy hiányosan töltötte fel.",CHAR(10),CHAR(10),Bíráló!$K$1,Bíráló!K11),CONCATENATE(Bíráló!$E$1,Bíráló!F11," pont ] ",CHAR(10),Bíráló!$G$1,Bíráló!H11," pont ]",CHAR(10),Bíráló!$I$1,Bíráló!I11," pont ]",CHAR(10),Bíráló!$J$1,Bíráló!J11," pont ]",CHAR(10),Bíráló!$K$1,Bíráló!K11,Bíráló!L11,Bíráló!M11," ",Bíráló!N11))) -> Távolság (km)3 pont ] Időtartam (perc)2 pont ] Összesen (pont)5 pont ] Ponthatár4 pont ] DöntésA fentiekre tekintettel parkolási férőhelyre jogosult a Ludovika Huszár Lovarda melletti parkolóban minden héten hétfő reggel 6:00 órától csütörtök 22:00 óráig. | F11: OVLCV7
A12: =Bíráló!#REF! -> #REF! | B12: =Bíráló!A12 -> 2026/27/1/NKE/PK/35 | C12: =Bíráló!A12 -> 2026/27/1/NKE/PK/35 | D12: 46293 | E12: =IF(Bíráló!$K$2="A fentiekre tekintettel férőhelyhiány miatt várólistára került.",CONCATENATE(Bíráló!$E$1,Bíráló!F12," pont ] ",CHAR(10),Bíráló!$G$1,Bíráló!H12," pont ]",CHAR(10),Bíráló!$I$1,Bíráló!I12," pont ]",CHAR(10),Bíráló!$J$1,Bíráló!J12," pont ]",CHAR(10),Bíráló!$K$1,Bíráló!K12," ",Bíráló!N12,CHAR(10),Bíráló!$L$1,Bíráló!L12),IF(Bíráló!K12="A fentiekre tekintettel kérelme elutasításra került.",CONCATENATE("A hallgató a Pályázati felhívásban szereplő kötelezően megadandó adatokat nem, vagy hiányosan töltötte fel.",CHAR(10),CHAR(10),Bíráló!$K$1,Bíráló!K12),CONCATENATE(Bíráló!$E$1,Bíráló!F12," pont ] ",CHAR(10),Bíráló!$G$1,Bíráló!H12," pont ]",CHAR(10),Bíráló!$I$1,Bíráló!I12," pont ]",CHAR(10),Bíráló!$J$1,Bíráló!J12," pont ]",CHAR(10),Bíráló!$K$1,Bíráló!K12,Bíráló!L12,Bíráló!M12," ",Bíráló!N12))) -> Távolság (km)2 pont ] Időtartam (perc)2 pont ] Összesen (pont)4 pont ] Ponthatár4 pont ] DöntésA fentiekre tekintettel parkolási férőhelyre jogosult a Ludovika Huszár Lovarda melletti parkolóban minden héten hétfő reggel 6:00 órától csütörtök 22:00 óráig. | F12: OVLCV7
A13: =Bíráló!#REF! -> #REF! | B13: =Bíráló!A13 -> 2026/27/1/NKE/PK/134 | C13: =Bíráló!A13 -> 2026/27/1/NKE/PK/134 | D13: 46293 | E13: =IF(Bíráló!$K$2="A fentiekre tekintettel férőhelyhiány miatt várólistára került.",CONCATENATE(Bíráló!$E$1,Bíráló!F13," pont ] ",CHAR(10),Bíráló!$G$1,Bíráló!H13," pont ]",CHAR(10),Bíráló!$I$1,Bíráló!I13," pont ]",CHAR(10),Bíráló!$J$1,Bíráló!J13," pont ]",CHAR(10),Bíráló!$K$1,Bíráló!K13," ",Bíráló!N13,CHAR(10),Bíráló!$L$1,Bíráló!L13),IF(Bíráló!K13="A fentiekre tekintettel kérelme elutasításra került.",CONCATENATE("A hallgató a Pályázati felhívásban szereplő kötelezően megadandó adatokat nem, vagy hiányosan töltötte fel.",CHAR(10),CHAR(10),Bíráló!$K$1,Bíráló!K13),CONCATENATE(Bíráló!$E$1,Bíráló!F13," pont ] ",CHAR(10),Bíráló!$G$1,Bíráló!H13," pont ]",CHAR(10),Bíráló!$I$1,Bíráló!I13," pont ]",CHAR(10),Bíráló!$J$1,Bíráló!J13," pont ]",CHAR(10),Bíráló!$K$1,Bíráló!K13,Bíráló!L13,Bíráló!M13," ",Bíráló!N13))) -> Távolság (km)1 pont ] Időtartam (perc)2 pont ] Összesen (pont)3 pont ] Ponthatár4 pont ] DöntésA fentiekre tekintettel férőhelyhiány miatt várólistára került. | F13: OVLCV7
... A143: =Bíráló!#REF! -> #REF! | B143: =Bíráló!A143 -> 2026/27/1/NKE/PK/145 | C143: =Bíráló!A143 -> 2026/27/1/NKE/PK/145 | D143: 46293 | E143: =IF(Bíráló!$K$2="A fentiekre tekintettel férőhelyhiány miatt várólistára került.",CONCATENATE(Bíráló!$E$1,Bíráló!F143," pont ] ",CHAR(10),Bíráló!$G$1,Bíráló!H143," pont ]",CHAR(10),Bíráló!$I$1,Bíráló!I143," pont ]",CHAR(10),Bíráló!$J$1,Bíráló!J143," pont ]",CHAR(10),Bíráló!$K$1,Bíráló!K143," ",Bíráló!N143,CHAR(10),Bíráló!$L$1,Bíráló!L143),IF(Bíráló!K143="A fentiekre tekintettel kérelme elutasításra került.",CONCATENATE("A hallgató a Pályázati felhívásban szereplő kötelezően megadandó adatokat nem, vagy hiányosan töltötte fel.",CHAR(10),CHAR(10),Bíráló!$K$1,Bíráló!K143),CONCATENATE(Bíráló!$E$1,Bíráló!F143," pont ] ",CHAR(10),Bíráló!$G$1,Bíráló!H143," pont ]",CHAR(10),Bíráló!$I$1,Bíráló!I143," pont ]",CHAR(10),Bíráló!$J$1,Bíráló!J143," pont ]",CHAR(10),Bíráló!$K$1,Bíráló!K143,Bíráló!L143,Bíráló!M143," ",Bíráló!N143))) -> Távolság (km)0 pont ] Időtartam (perc)0 pont ] Összesen (pont)0 pont ] Ponthatár pont ] DöntésA fentiekre tekintettel a kérelme elutasításra került. | F143: OVLCV7

Sheet Legördülő lista
A1: Oszlop1 | B1: Oszlop2
A2: ÁNTK | B2: Nappali
A3: HHK | B3: Levelező
A4: RTK
A5: VTK
A6: NITK
